BEGIN:VCALENDAR
VERSION:2.0
PRODID:-//The Acton Exchange - ECPv6.15.17.1//NONSGML v1.0//EN
CALSCALE:GREGORIAN
METHOD:PUBLISH
X-WR-CALNAME:The Acton Exchange
X-ORIGINAL-URL:https://www.actonexchange.org
X-WR-CALDESC:Events for The Acton Exchange
REFRESH-INTERVAL;VALUE=DURATION:PT1H
X-Robots-Tag:noindex
X-PUBLISHED-TTL:PT1H
BEGIN:VTIMEZONE
TZID:America/New_York
BEGIN:DAYLIGHT
TZOFFSETFROM:-0500
TZOFFSETTO:-0400
TZNAME:EDT
DTSTART:20240310T070000
END:DAYLIGHT
BEGIN:STANDARD
TZOFFSETFROM:-0400
TZOFFSETTO:-0500
TZNAME:EST
DTSTART:20241103T060000
END:STANDARD
BEGIN:DAYLIGHT
TZOFFSETFROM:-0500
TZOFFSETTO:-0400
TZNAME:EDT
DTSTART:20250309T070000
END:DAYLIGHT
BEGIN:STANDARD
TZOFFSETFROM:-0400
TZOFFSETTO:-0500
TZNAME:EST
DTSTART:20251102T060000
END:STANDARD
BEGIN:DAYLIGHT
TZOFFSETFROM:-0500
TZOFFSETTO:-0400
TZNAME:EDT
DTSTART:20260308T070000
END:DAYLIGHT
BEGIN:STANDARD
TZOFFSETFROM:-0400
TZOFFSETTO:-0500
TZNAME:EST
DTSTART:20261101T060000
END:STANDARD
END:VTIMEZONE
BEGIN:VEVENT
DTSTART;TZID=America/New_York:20250503T110000
DTEND;TZID=America/New_York:20250503T120000
DTSTAMP:20260420T055616
CREATED:20250320T201344Z
LAST-MODIFIED:20250320T201344Z
UID:10001886-1746270000-1746273600@www.actonexchange.org
SUMMARY:Library: Adult Collage Making @ West Acton Citizens Library
DESCRIPTION:Location: West Acton Citizens’ Library | 21 Windsor Avenue\, Acton MA 01720 \n\n\nAdult program. Join for some creativity and fun! Attendees will enjoy a presentation about collaging followed by a chance to build their own. Supplies will be provided but feel free to bring anything you would like to include in your collage. \nRegistration Required: https://actonmemoriallibrary.assabetinteractive.com/calendar/collage-making-2/
URL:https://www.actonexchange.org/event/library-adult-collage-making-west-acton-citizens-library/
LOCATION:West Acton Citizens Library\, 21 Windsor Avenue\, Acton\, 01720
END:VEVENT
BEGIN:VEVENT
DTSTART;TZID=America/New_York:20250419T100000
DTEND;TZID=America/New_York:20250419T120000
DTSTAMP:20260420T055616
CREATED:20250320T193143Z
LAST-MODIFIED:20250320T193143Z
UID:10001826-1745056800-1745064000@www.actonexchange.org
SUMMARY:Library: Annual Plant Swap at West Acton Citizens’ Library
DESCRIPTION:Location: West Acton Citizens’ Library | 21 Windsor Avenue\, Acton MA 01720 \n\n\nHosted by Acton Garden Club \nJoin fellow plant enthusiasts for the West Acton Citizens’ Library 3rd Annual Plant Swap. The Acton Garden Club is hosting and invites everyone to come share and talk about plants! \nWhat is a Plant Swap?\n \nA Plant Swap is an event where houseplant enthusiasts can come together to swap cuttings\, propagations\, and their own houseplants with other like-minded green fingered people. – Emma Sibley\, Founder London Terrariums \nBring one or more healthy\, pest-free plants. We will set you up on a table to display your offering(s)\, providing cards to identify plants and name tags to greet and meet other green fingered people. Make your offer to the owner of that plant you covet and exchange your plants for new acquisitions. Not green-fingered? No matter\, come with your questions to learn more about plants\, we can’t wait to learn more from you! For more information contact Cathy Fochtman lcfochtman@gmail.com.
URL:https://www.actonexchange.org/event/library-annual-plant-swap-at-west-acton-citizens-library/
LOCATION:West Acton Citizens Library\, 21 Windsor Avenue\, Acton\, 01720
END:VEVENT
END:VCALENDAR