BEGIN:VCALENDAR
VERSION:2.0
PRODID:-//The Acton Exchange - ECPv6.15.17.1//NONSGML v1.0//EN
CALSCALE:GREGORIAN
METHOD:PUBLISH
X-ORIGINAL-URL:https://www.actonexchange.org
X-WR-CALDESC:Events for The Acton Exchange
REFRESH-INTERVAL;VALUE=DURATION:PT1H
X-Robots-Tag:noindex
X-PUBLISHED-TTL:PT1H
BEGIN:VTIMEZONE
TZID:America/New_York
BEGIN:DAYLIGHT
TZOFFSETFROM:-0500
TZOFFSETTO:-0400
TZNAME:EDT
DTSTART:20240310T070000
END:DAYLIGHT
BEGIN:STANDARD
TZOFFSETFROM:-0400
TZOFFSETTO:-0500
TZNAME:EST
DTSTART:20241103T060000
END:STANDARD
BEGIN:DAYLIGHT
TZOFFSETFROM:-0500
TZOFFSETTO:-0400
TZNAME:EDT
DTSTART:20250309T070000
END:DAYLIGHT
BEGIN:STANDARD
TZOFFSETFROM:-0400
TZOFFSETTO:-0500
TZNAME:EST
DTSTART:20251102T060000
END:STANDARD
BEGIN:DAYLIGHT
TZOFFSETFROM:-0500
TZOFFSETTO:-0400
TZNAME:EDT
DTSTART:20260308T070000
END:DAYLIGHT
BEGIN:STANDARD
TZOFFSETFROM:-0400
TZOFFSETTO:-0500
TZNAME:EST
DTSTART:20261101T060000
END:STANDARD
END:VTIMEZONE
BEGIN:VEVENT
DTSTART;TZID=America/New_York:20250910T180000
DTEND;TZID=America/New_York:20250910T210000
DTSTAMP:20260421T150603
CREATED:20250831T125519Z
LAST-MODIFIED:20250831T125519Z
UID:10002654-1757527200-1757538000@www.actonexchange.org
SUMMARY:Seniors Night Out at Velvet Vine
DESCRIPTION:Join us for a joyful evening at Velvet Vine Café.\nEnjoy timeless tunes from the ’50s\, ’60s\, and early ’70s\, setting the mood for a nostalgic and delightful night out and informative talks on skincare and emotional wellness. \nVelvet Vine Café – 166 Great Road\, Acton-MA\nWednesday\, September 10th | 6:00 PM – 9:00 PM \nAdmission is free. Charges apply to food and drink ordered. \nRSVP at Velvet Vine Seniors Night Out. \nFor Information call (978) 929-6516. \nThis event is a collaboration between Velvet Vine Cafe\, Majestic Day Spa\, and Vibrant Focus\nUnlimited\, with support from the Acton Senior Center and the Office of Economic Development
URL:https://www.actonexchange.org/event/seniors-night-out-at-velvet-vine/
LOCATION:Velvet Vine Café\, 166 Great Road\, Acton\, MA\, 01720
END:VEVENT
END:VCALENDAR