BEGIN:VCALENDAR
VERSION:2.0
PRODID:-//The Acton Exchange - ECPv6.15.17.1//NONSGML v1.0//EN
CALSCALE:GREGORIAN
METHOD:PUBLISH
X-WR-CALNAME:The Acton Exchange
X-ORIGINAL-URL:https://www.actonexchange.org
X-WR-CALDESC:Events for The Acton Exchange
REFRESH-INTERVAL;VALUE=DURATION:PT1H
X-Robots-Tag:noindex
X-PUBLISHED-TTL:PT1H
BEGIN:VTIMEZONE
TZID:America/New_York
BEGIN:DAYLIGHT
TZOFFSETFROM:-0500
TZOFFSETTO:-0400
TZNAME:EDT
DTSTART:20240310T070000
END:DAYLIGHT
BEGIN:STANDARD
TZOFFSETFROM:-0400
TZOFFSETTO:-0500
TZNAME:EST
DTSTART:20241103T060000
END:STANDARD
BEGIN:DAYLIGHT
TZOFFSETFROM:-0500
TZOFFSETTO:-0400
TZNAME:EDT
DTSTART:20250309T070000
END:DAYLIGHT
BEGIN:STANDARD
TZOFFSETFROM:-0400
TZOFFSETTO:-0500
TZNAME:EST
DTSTART:20251102T060000
END:STANDARD
BEGIN:DAYLIGHT
TZOFFSETFROM:-0500
TZOFFSETTO:-0400
TZNAME:EDT
DTSTART:20260308T070000
END:DAYLIGHT
BEGIN:STANDARD
TZOFFSETFROM:-0400
TZOFFSETTO:-0500
TZNAME:EST
DTSTART:20261101T060000
END:STANDARD
BEGIN:DAYLIGHT
TZOFFSETFROM:-0500
TZOFFSETTO:-0400
TZNAME:EDT
DTSTART:20270314T070000
END:DAYLIGHT
BEGIN:STANDARD
TZOFFSETFROM:-0400
TZOFFSETTO:-0500
TZNAME:EST
DTSTART:20271107T060000
END:STANDARD
END:VTIMEZONE
BEGIN:VEVENT
DTSTART;TZID=America/New_York:20260409T113000
DTEND;TZID=America/New_York:20260409T130000
DTSTAMP:20260420T060224
CREATED:20260326T230048Z
LAST-MODIFIED:20260326T230048Z
UID:10003851-1775734200-1775739600@www.actonexchange.org
SUMMARY:Acton Sustainability Office: Landlord Luncheon
DESCRIPTION:The Town of Acton Sustainability Office invites you to a Landlord Luncheon to discuss how you can increase energy efficiency and save money. Here are the details: \nWhat: Landlord Luncheon (free lunch!) \nWhen: Thursday\, April 9\, 2026\, 11:30am to 1:00pm (RSVP by Monday\, March 30) \nWhere: True West Brewery\, Acton\, MA \nRegister: bit.ly/landlordlunch \nAt the Landlord Luncheon\, a panel including representatives from utilities and large-building energy efficiency experts will present solutions and programs that can help cut both energy use and costs. After the brief panel\, you will have an opportunity to ask the panelists questions.  \nPlease register for the event using this link: bit.ly/landlordlunch. Registering also helps us to know what\, and how much\, food to order. We hope to see you there!  If you are unable to attend and want to learn more about making your building more energy efficient please submit a request for a FREE volunteer clean energy coach at: ActonEnergyCoach.com.
URL:https://www.actonexchange.org/event/acton-sustainability-office-landlord-luncheon/
LOCATION:True West Brewery\, 525 Massachusetts Ave\, Acton\, MA\, 01720
ORGANIZER;CN="Acton Sustainability Office":MAILTO:sustainability@actonma.gov
END:VEVENT
BEGIN:VEVENT
DTSTART;TZID=America/New_York:20250811T173000
DTEND;TZID=America/New_York:20250811T210000
DTSTAMP:20260420T060224
CREATED:20250730T130010Z
LAST-MODIFIED:20250730T130010Z
UID:10002550-1754933400-1754946000@www.actonexchange.org
SUMMARY:Third Annual Boozy Book Fair
DESCRIPTION:Silver Unicorn Bookstore in partnership with our friends at True West\, invites you to our third annual Boozy Book Fair! \nThis year’s event will be better than ever with live music by Pete and Steve\, intuitive readings\, and a signing with author Nicole Treska! Nicole’s fascinating and touching Boston-based memoir Wonderland: A Tale of Hustling Hard and Breaking Even will be newly out in paperback and we can’t wait to celebrate with her.
URL:https://www.actonexchange.org/event/third-annual-boozy-book-fair/
LOCATION:True West Brewery\, 525 Massachusetts Ave\, Acton\, MA\, 01720
ORGANIZER;CN="Silver Unicorn Bookstore":MAILTO:nfo@silverunicornbooks.com
END:VEVENT
END:VCALENDAR