BEGIN:VCALENDAR
VERSION:2.0
PRODID:-//The Acton Exchange - ECPv6.15.17.1//NONSGML v1.0//EN
CALSCALE:GREGORIAN
METHOD:PUBLISH
X-WR-CALNAME:The Acton Exchange
X-ORIGINAL-URL:https://www.actonexchange.org
X-WR-CALDESC:Events for The Acton Exchange
REFRESH-INTERVAL;VALUE=DURATION:PT1H
X-Robots-Tag:noindex
X-PUBLISHED-TTL:PT1H
BEGIN:VTIMEZONE
TZID:America/New_York
BEGIN:DAYLIGHT
TZOFFSETFROM:-0500
TZOFFSETTO:-0400
TZNAME:EDT
DTSTART:20250309T070000
END:DAYLIGHT
BEGIN:STANDARD
TZOFFSETFROM:-0400
TZOFFSETTO:-0500
TZNAME:EST
DTSTART:20251102T060000
END:STANDARD
BEGIN:DAYLIGHT
TZOFFSETFROM:-0500
TZOFFSETTO:-0400
TZNAME:EDT
DTSTART:20260308T070000
END:DAYLIGHT
BEGIN:STANDARD
TZOFFSETFROM:-0400
TZOFFSETTO:-0500
TZNAME:EST
DTSTART:20261101T060000
END:STANDARD
BEGIN:DAYLIGHT
TZOFFSETFROM:-0500
TZOFFSETTO:-0400
TZNAME:EDT
DTSTART:20270314T070000
END:DAYLIGHT
BEGIN:STANDARD
TZOFFSETFROM:-0400
TZOFFSETTO:-0500
TZNAME:EST
DTSTART:20271107T060000
END:STANDARD
END:VTIMEZONE
BEGIN:VEVENT
DTSTART;TZID=America/New_York:20260627T120000
DTEND;TZID=America/New_York:20260627T150000
DTSTAMP:20260424T111944
CREATED:20260318T234208Z
LAST-MODIFIED:20260318T234208Z
UID:10003730-1782561600-1782572400@www.actonexchange.org
SUMMARY:Acton Recreation: Acton-Westford Pride Festival
DESCRIPTION:Join the Acton-Westford Pride Fest!\nGet ready to celebrate love\, diversity\, and community at the Acton-Westford Pride Fest! This awesome in-person event is all about embracing pride and having a blast with friends and neighbors. Expect good vibes\, colorful fun\, and a chance to connect with amazing people. Don’t miss out on this fantastic day full of joy and togetherness! Enjoy the Femmes Band who will be performers today’s hits. \n🌈 Acton Westford Pride Fest: Where love is loud\, proud\, and comes with glitter! ✨💖
URL:https://www.actonexchange.org/event/acton-recreation-acton-westford-pride-festival/
LOCATION:NARA Park Amphitheater\, 71 Quarry Road\, Acton\, MA\, 01720\, United States
ORGANIZER;CN="Acton Recreation Department":MAILTO:recreation@actonma.gov
END:VEVENT
BEGIN:VEVENT
DTSTART;TZID=America/New_York:20260710T200000
DTEND;TZID=America/New_York:20260710T223000
DTSTAMP:20260424T111944
CREATED:20260421T153852Z
LAST-MODIFIED:20260421T153852Z
UID:10004057-1783713600-1783722600@www.actonexchange.org
SUMMARY:NARA:  Animals - Maroon 5 Tribute
DESCRIPTION:Get ready for an unforgettable evening as Animals\, a sensational Maroon 5 tribute band\, takes the stage at NARA Park on Friday\, July 10\, at 8 p.m. This exciting event promises to deliver all the chart-topping hits and energetic performances that Maroon 5 fans love\, making it a must-see for music enthusiasts of all ages. Join fellow fans for a night filled with great music\, vibrant atmosphere\, and the chance to celebrate the iconic sounds of one of pop music’s biggest bands. \nParking at NARA Park is free\, but don’t count on finding a spot right next to the entrance—those are reserved for the early birds! Carpooling or  is encouraged to minimize congestion.  Parking will be located in the upper parking lots and overflow parking on the fields: 75 Quarry Road\, Acton. \nFAQ \nCan I get tickets at the gate? \nTickets may be purchased at the gate by credit card only\, no cash sales.  Save time and buy online. \nWhat time do the gates open for the concert? \nThe gates at NARA Park will open one hour before the concert starts\, allowing attendees to find their seats and enjoy the atmosphere. \nAre there age restrictions for the event? \nThis event is family-friendly and welcomes attendees of all ages. However\, children under the age of 12 must be accompanied by an adult. Children under the age of 12 are admitted for free with paying adult. \nWill there be food and beverages available at the venue? \nYes\, NARA Park will have various food and beverage vendors on-site for concertgoers to enjoy during the event. \nWhat should I do if I have special accessibility needs?   \nNARA Park is committed to ensuring accessibility for all guests. If you have special needs\, please contact the Acton Parks and Recreation Department in advance for assistance and accommodations. \nAll events are subject to change is necessary.  End time is an approximate.
URL:https://www.actonexchange.org/event/nara-animals-maroon-5-tribute/
LOCATION:NARA Park Amphitheater\, 71 Quarry Road\, Acton\, MA\, 01720\, United States
ORGANIZER;CN="Acton Recreation Department":MAILTO:recreation@actonma.gov
END:VEVENT
BEGIN:VEVENT
DTSTART;TZID=America/New_York:20260717T200000
DTEND;TZID=America/New_York:20260717T223000
DTSTAMP:20260424T111944
CREATED:20260421T154138Z
LAST-MODIFIED:20260421T154138Z
UID:10004058-1784318400-1784327400@www.actonexchange.org
SUMMARY:NARA:  Shot of Poison - Tribute Band - Most Entertaining Poison Experience on the Planet
DESCRIPTION:Shot of Poison is a group of talented\, veteran musicians who\, in 2017\, created the most authentic tribute to Poison as they are today\, the fun-loving\, Los Angeles-based glam rockers who burst onto MTV in 1987 and created a phenomenon\, sold 50 million records worldwide\, and became legendary for their energetic live shows. \nWhen it comes to covering Poison\, Shot of Poison doesn’t hold back. Fans can expect to hear classic anthems like “Every Rose Has Its Thorn\,” “Talk Dirty to Me\,” and “Nothin’ but a Good Time.” These tracks are lovingly resurrected with the same energy and passion that made Poison legends in the first place. Whether it’s the head-banging guitar solos or the catchy choruses\, the band ensures that every performance feels like a rock extravaganza worthy of the original glam rock gods. \nShot of Poison‘s achievements are on a scale that very few\, if any\, tributes ever attain. \nA Shot of Poison show features costuming accurate to Poison’s 2017-2023 tours\, a rock & roll party atmosphere\, great lighting\, a video show\, sing-alongs\, a theatrical\, high-fidelity musical performance of Poison’s classics with energy to spare\, and extras you just have to see. The band members have amazing rock & roll credentials\, know their stuff\, and aim to bring full-on entertainment every time. Don’t miss this show! \nWhat time do the gates open for the concert? \nThe gates at NARA Park will open one hour before the concert starts\, allowing attendees to find their seats and enjoy the atmosphere. \nAre there age restrictions for the event? \nThis event is family-friendly and welcomes attendees of all ages. However\, children under the age of 12 must be accompanied by an adult. Children under the age of 12 are free with paid admission. \nWill there be food and beverages available at the venue? \nYes\, NARA Park will have various food and beverage vendors on-site for concertgoers to enjoy during the event. \nWhat should I do if I have special accessibility needs? \nNARA Park is committed to ensuring accessibility for all guests. If you have special needs\, please contact the Acton Parks and Recreation Department in advance for assistance and accommodations. \n 
URL:https://www.actonexchange.org/event/nara-shot-of-poison-tribute-band-most-entertaining-poison-experience-on-the-planet/
LOCATION:NARA Park Amphitheater\, 71 Quarry Road\, Acton\, MA\, 01720\, United States
ORGANIZER;CN="Acton Recreation Department":MAILTO:recreation@actonma.gov
END:VEVENT
BEGIN:VEVENT
DTSTART;TZID=America/New_York:20260731T200000
DTEND;TZID=America/New_York:20260731T223000
DTSTAMP:20260424T111944
CREATED:20260423T002007Z
LAST-MODIFIED:20260423T002007Z
UID:10004059-1785528000-1785537000@www.actonexchange.org
SUMMARY:NARA:  Who are you - A Tribute to The Who
DESCRIPTION:The music of The Who defined a generation\, and more\, has successfully managed to withstand the test of time. When it comes to pop music\, success is measured by longevity\, and songs like “My Generation\,” “Won’t Get Fooled Again” or “Behind Blue Eyes” are just as relevant now as they were when Pete Townshend penned them decades ago. \nNo one wrote quite like him\, as no voice compares to Roger Daltrey’s and no rhythm section quite measures up to the bar set by John Entwistle and Keith Moon. However\, Massachusetts-based tribute band\, Who Are You\, have dedicated themselves to providing the most authentic Who experience they can. \nWho Are You\, boasts a complete repertoire of Who favorites ranging from the early classics like “I Can’t Explain” and “Magic Bus\,” to songs from their more mature years like “Baba O’Riley” and\, of course\, “Who Are You.” The band also performs the band’s revolutionary album\, “Tommy\,” which defined the term “rock opera\,” in its entirety. \nPlaying venues throughout the US and Canada\, Who Are You brings their audience an exciting multimedia experience that aims to recreate the sheer power that drove The Who to their reputation as one of rock ‘n’ roll’s best live acts. \n​ \nWHO ARE YOU is: \nCarl Dixon-Lead Vocals & Harmonica \nGarrett Lechowski-Lead Guitar\, Vocals\, Electronics \nBrian Burd-Bass\, Vocals \nJohn Kiernan-Drums \nSpecial Guests:  Matt Young-Keyboards (on select dates) \n                             Mark Santer-Drums (on select dates) \n  \nFAQ \nWhat time do the gates open for the concert? \nThe gates at NARA Park will open one hour before the concert starts\, allowing attendees to find their seats and enjoy the atmosphere. \nAre there age restrictions for the event? \nThis event is family-friendly and welcomes attendees of all ages. However\, children under the age of 12 must be accompanied by an adult. Children under 12 are free with paid adult. \nWill there be food and beverages available at the venue? \nYes\, NARA Park will have various food and beverage vendors on-site for concertgoers to enjoy during the event. \nWhat should I do if I have special accessibility needs? \nNARA Park is committed to ensuring accessibility for all guests. If you have special needs\, please contact the Acton Parks and Recreation Department in advance for assistance and accommodations.
URL:https://www.actonexchange.org/event/nara-who-are-you-a-tribute-to-the-who/
LOCATION:NARA Park Amphitheater\, 71 Quarry Road\, Acton\, MA\, 01720\, United States
ORGANIZER;CN="Acton Recreation Department":MAILTO:recreation@actonma.gov
END:VEVENT
END:VCALENDAR