BEGIN:VCALENDAR
VERSION:2.0
PRODID:-//The Acton Exchange - ECPv6.15.17.1//NONSGML v1.0//EN
CALSCALE:GREGORIAN
METHOD:PUBLISH
X-WR-CALNAME:The Acton Exchange
X-ORIGINAL-URL:https://www.actonexchange.org
X-WR-CALDESC:Events for The Acton Exchange
REFRESH-INTERVAL;VALUE=DURATION:PT1H
X-Robots-Tag:noindex
X-PUBLISHED-TTL:PT1H
BEGIN:VTIMEZONE
TZID:America/New_York
BEGIN:DAYLIGHT
TZOFFSETFROM:-0500
TZOFFSETTO:-0400
TZNAME:EDT
DTSTART:20240310T070000
END:DAYLIGHT
BEGIN:STANDARD
TZOFFSETFROM:-0400
TZOFFSETTO:-0500
TZNAME:EST
DTSTART:20241103T060000
END:STANDARD
BEGIN:DAYLIGHT
TZOFFSETFROM:-0500
TZOFFSETTO:-0400
TZNAME:EDT
DTSTART:20250309T070000
END:DAYLIGHT
BEGIN:STANDARD
TZOFFSETFROM:-0400
TZOFFSETTO:-0500
TZNAME:EST
DTSTART:20251102T060000
END:STANDARD
BEGIN:DAYLIGHT
TZOFFSETFROM:-0500
TZOFFSETTO:-0400
TZNAME:EDT
DTSTART:20260308T070000
END:DAYLIGHT
BEGIN:STANDARD
TZOFFSETFROM:-0400
TZOFFSETTO:-0500
TZNAME:EST
DTSTART:20261101T060000
END:STANDARD
BEGIN:DAYLIGHT
TZOFFSETFROM:-0500
TZOFFSETTO:-0400
TZNAME:EDT
DTSTART:20270314T070000
END:DAYLIGHT
BEGIN:STANDARD
TZOFFSETFROM:-0400
TZOFFSETTO:-0500
TZNAME:EST
DTSTART:20271107T060000
END:STANDARD
END:VTIMEZONE
BEGIN:VEVENT
DTSTART;TZID=America/New_York:20260419T140000
DTEND;TZID=America/New_York:20260419T160000
DTSTAMP:20260422T070804
CREATED:20260411T141325Z
LAST-MODIFIED:20260411T141343Z
UID:10004035-1776607200-1776614400@www.actonexchange.org
SUMMARY:Acton Historical Society: Hosmer House open house
DESCRIPTION:The Acton Historical Society invites you to tour the 1760 Jonathon Hosmer House and to view a collection of artifacts associated with Acton’s history. Also on the property is an 1830’s barn with an exhibit of agricultural tools\, including an early fire pump (fire engine)\, a horse-drawn sleigh and a farm wagon.  Admission is free with donations accepted. \nParking is available on the premises. \n 
URL:https://www.actonexchange.org/event/acton-historical-society-hosmer-house-open-house-2/
LOCATION:Jonathan Hosmer House\, 300 Main St\, Acton\, MA\, 01720\, United States
ORGANIZER;CN="Acton Historical Society":MAILTO:jenkslibrary@verizon.net
END:VEVENT
BEGIN:VEVENT
DTSTART;TZID=America/New_York:20251019T140000
DTEND;TZID=America/New_York:20251019T160000
DTSTAMP:20260422T070804
CREATED:20250925T153025Z
LAST-MODIFIED:20251012T134508Z
UID:10002710-1760882400-1760889600@www.actonexchange.org
SUMMARY:Acton Historical Society: 65th Anniversary Open House
DESCRIPTION:The Acton Historical Society hosts an open house at the historic Hosmer House.  \nCelebrating 65 years of the Acton Historical Society\, there will be speakers\, tours of the historical site\, and more! \n\nVintage model A Autos (Minuteman Model A club)\nJenks Library housed in 1920’s auto garage\nFarm wagon\, sleigh\, Fire Pump\nCake and refreshments\nPumpkin painting\nTour 1760 Hosmer House\nLearn about our preservation journey\n\n 
URL:https://www.actonexchange.org/event/acton-historical-society-hosmer-house-open-house/
LOCATION:Jonathan Hosmer House\, 300 Main St\, Acton\, MA\, 01720\, United States
ORGANIZER;CN="Acton Historical Society":MAILTO:jenkslibrary@verizon.net
END:VEVENT
BEGIN:VEVENT
DTSTART;TZID=America/New_York:20250518T140000
DTEND;TZID=America/New_York:20250518T170000
DTSTAMP:20260422T070804
CREATED:20250515T133546Z
LAST-MODIFIED:20250515T133546Z
UID:10002192-1747576800-1747587600@www.actonexchange.org
SUMMARY:Acton Historical Society Open House
DESCRIPTION:Please join the Acton Historical Society for an open house at the Hosmer House. \nIn addition to the many items related to Acton history on display\, you will be able to see our new 250th Anniversary exhibit about Acton’s role in the beginning of the Revolutionary War.
URL:https://www.actonexchange.org/event/acton-historical-society-open-house/
LOCATION:Jonathan Hosmer House\, 300 Main St\, Acton\, MA\, 01720\, United States
ORGANIZER;CN="Acton Historical Society":MAILTO:jenkslibrary@verizon.net
END:VEVENT
BEGIN:VEVENT
DTSTART;TZID=America/New_York:20250419T140000
DTEND;TZID=America/New_York:20250419T170000
DTSTAMP:20260422T070804
CREATED:20250401T164218Z
LAST-MODIFIED:20250401T164218Z
UID:10002067-1745071200-1745082000@www.actonexchange.org
SUMMARY:Acton Historical Society: Hosmer House Museum Open House
DESCRIPTION:A new Revolutionary War exhibit will be on display in the original part of the house that was standing on April 19\, 1775. We will revisit Acton’s fateful participation in the events of that day and in the years of war that followed. We will also explore the ways that later generations have kept that history alive.
URL:https://www.actonexchange.org/event/acton-historical-society-hosmer-house-museum-open-house/
LOCATION:Jonathan Hosmer House\, 300 Main St\, Acton\, MA\, 01720\, United States
ORGANIZER;CN="Acton Historical Society":MAILTO:jenkslibrary@verizon.net
END:VEVENT
END:VCALENDAR