BEGIN:VCALENDAR
VERSION:2.0
PRODID:-//The Acton Exchange - ECPv6.15.17.1//NONSGML v1.0//EN
CALSCALE:GREGORIAN
METHOD:PUBLISH
X-ORIGINAL-URL:https://www.actonexchange.org
X-WR-CALDESC:Events for The Acton Exchange
REFRESH-INTERVAL;VALUE=DURATION:PT1H
X-Robots-Tag:noindex
X-PUBLISHED-TTL:PT1H
BEGIN:VTIMEZONE
TZID:America/New_York
BEGIN:DAYLIGHT
TZOFFSETFROM:-0500
TZOFFSETTO:-0400
TZNAME:EDT
DTSTART:20240310T070000
END:DAYLIGHT
BEGIN:STANDARD
TZOFFSETFROM:-0400
TZOFFSETTO:-0500
TZNAME:EST
DTSTART:20241103T060000
END:STANDARD
BEGIN:DAYLIGHT
TZOFFSETFROM:-0500
TZOFFSETTO:-0400
TZNAME:EDT
DTSTART:20250309T070000
END:DAYLIGHT
BEGIN:STANDARD
TZOFFSETFROM:-0400
TZOFFSETTO:-0500
TZNAME:EST
DTSTART:20251102T060000
END:STANDARD
BEGIN:DAYLIGHT
TZOFFSETFROM:-0500
TZOFFSETTO:-0400
TZNAME:EDT
DTSTART:20260308T070000
END:DAYLIGHT
BEGIN:STANDARD
TZOFFSETFROM:-0400
TZOFFSETTO:-0500
TZNAME:EST
DTSTART:20261101T060000
END:STANDARD
END:VTIMEZONE
BEGIN:VEVENT
DTSTART;TZID=America/New_York:20250405T130000
DTEND;TZID=America/New_York:20250405T143000
DTSTAMP:20260423T074412
CREATED:20250306T185334Z
LAST-MODIFIED:20250306T185334Z
UID:10001418-1743858000-1743863400@www.actonexchange.org
SUMMARY:Acton 250: South Acton Tour with Amy Cole
DESCRIPTION:Join tour guide Amy Cole to visit the Iron Work Farm sites and walk South Acton’s historic Mill Corner. You will learn about Acton’s earliest colonial settlement. Important Details: Registration is required. Details on parking and where to meet will be sent via email closer to the walk date. Register at tinyurl.com/Acton250-April5 \nTour leader Amy Cole is an accomplished professional tour leader. She grew up near Acton Center and knows the town well. She has a wide- ranging interest in Acton’s unique history. This tour is sponsored by the Acton 250 Committee and the Iron Work Farm.
URL:https://www.actonexchange.org/event/acton-250-south-acton-tour-with-amy-cole/
LOCATION:Faulkner House\, 5 High Street\, Acton\, 01720
END:VEVENT
END:VCALENDAR