BEGIN:VCALENDAR
VERSION:2.0
PRODID:-//The Acton Exchange - ECPv6.15.17.1//NONSGML v1.0//EN
CALSCALE:GREGORIAN
METHOD:PUBLISH
X-WR-CALNAME:The Acton Exchange
X-ORIGINAL-URL:https://www.actonexchange.org
X-WR-CALDESC:Events for The Acton Exchange
REFRESH-INTERVAL;VALUE=DURATION:PT1H
X-Robots-Tag:noindex
X-PUBLISHED-TTL:PT1H
BEGIN:VTIMEZONE
TZID:America/New_York
BEGIN:DAYLIGHT
TZOFFSETFROM:-0500
TZOFFSETTO:-0400
TZNAME:EDT
DTSTART:20240310T070000
END:DAYLIGHT
BEGIN:STANDARD
TZOFFSETFROM:-0400
TZOFFSETTO:-0500
TZNAME:EST
DTSTART:20241103T060000
END:STANDARD
BEGIN:DAYLIGHT
TZOFFSETFROM:-0500
TZOFFSETTO:-0400
TZNAME:EDT
DTSTART:20250309T070000
END:DAYLIGHT
BEGIN:STANDARD
TZOFFSETFROM:-0400
TZOFFSETTO:-0500
TZNAME:EST
DTSTART:20251102T060000
END:STANDARD
BEGIN:DAYLIGHT
TZOFFSETFROM:-0500
TZOFFSETTO:-0400
TZNAME:EDT
DTSTART:20260308T070000
END:DAYLIGHT
BEGIN:STANDARD
TZOFFSETFROM:-0400
TZOFFSETTO:-0500
TZNAME:EST
DTSTART:20261101T060000
END:STANDARD
BEGIN:DAYLIGHT
TZOFFSETFROM:-0500
TZOFFSETTO:-0400
TZNAME:EDT
DTSTART:20270314T070000
END:DAYLIGHT
BEGIN:STANDARD
TZOFFSETFROM:-0400
TZOFFSETTO:-0500
TZNAME:EST
DTSTART:20271107T060000
END:STANDARD
END:VTIMEZONE
BEGIN:VEVENT
DTSTART;TZID=America/New_York:20260418T100000
DTEND;TZID=America/New_York:20260418T130000
DTSTAMP:20260420T162150
CREATED:20250213T150040Z
LAST-MODIFIED:20250213T182746Z
UID:10001386-1776506400-1776517200@www.actonexchange.org
SUMMARY:Acton DPW polystyrene (styrofoam) collection
DESCRIPTION:On the third Saturday of every month (except June\, which is 2nd Saturday)\, you can recycle your clean styrofoam containers. \nFor details about the 2025 schedule\, and what you can recycle\, see https://actonma.gov/DocumentCenter/View/10278/Polystyrene-collection-days-and-guide-2025. \n  \n 
URL:https://www.actonexchange.org/event/acton-dpw-polystyrene-styrofoam-collection-days/2026-04-18/
LOCATION:DPW\, 14 Forest Rd\, Acton\, MA\, 01720\, United States
END:VEVENT
BEGIN:VEVENT
DTSTART;TZID=America/New_York:20260321T100000
DTEND;TZID=America/New_York:20260321T130000
DTSTAMP:20260420T162150
CREATED:20250213T150040Z
LAST-MODIFIED:20250213T182746Z
UID:10001385-1774087200-1774098000@www.actonexchange.org
SUMMARY:Acton DPW polystyrene (styrofoam) collection
DESCRIPTION:On the third Saturday of every month (except June\, which is 2nd Saturday)\, you can recycle your clean styrofoam containers. \nFor details about the 2025 schedule\, and what you can recycle\, see https://actonma.gov/DocumentCenter/View/10278/Polystyrene-collection-days-and-guide-2025. \n  \n 
URL:https://www.actonexchange.org/event/acton-dpw-polystyrene-styrofoam-collection-days/2026-03-21/
LOCATION:DPW\, 14 Forest Rd\, Acton\, MA\, 01720\, United States
END:VEVENT
BEGIN:VEVENT
DTSTART;TZID=America/New_York:20260221T100000
DTEND;TZID=America/New_York:20260221T130000
DTSTAMP:20260420T162150
CREATED:20250213T150040Z
LAST-MODIFIED:20250213T182746Z
UID:10001384-1771668000-1771678800@www.actonexchange.org
SUMMARY:Acton DPW polystyrene (styrofoam) collection
DESCRIPTION:On the third Saturday of every month (except June\, which is 2nd Saturday)\, you can recycle your clean styrofoam containers. \nFor details about the 2025 schedule\, and what you can recycle\, see https://actonma.gov/DocumentCenter/View/10278/Polystyrene-collection-days-and-guide-2025. \n  \n 
URL:https://www.actonexchange.org/event/acton-dpw-polystyrene-styrofoam-collection-days/2026-02-21/
LOCATION:DPW\, 14 Forest Rd\, Acton\, MA\, 01720\, United States
END:VEVENT
BEGIN:VEVENT
DTSTART;TZID=America/New_York:20260117T100000
DTEND;TZID=America/New_York:20260117T130000
DTSTAMP:20260420T162150
CREATED:20250213T150040Z
LAST-MODIFIED:20250213T182746Z
UID:10001383-1768644000-1768654800@www.actonexchange.org
SUMMARY:Acton DPW polystyrene (styrofoam) collection
DESCRIPTION:On the third Saturday of every month (except June\, which is 2nd Saturday)\, you can recycle your clean styrofoam containers. \nFor details about the 2025 schedule\, and what you can recycle\, see https://actonma.gov/DocumentCenter/View/10278/Polystyrene-collection-days-and-guide-2025. \n  \n 
URL:https://www.actonexchange.org/event/acton-dpw-polystyrene-styrofoam-collection-days/2026-01-17/
LOCATION:DPW\, 14 Forest Rd\, Acton\, MA\, 01720\, United States
END:VEVENT
BEGIN:VEVENT
DTSTART;TZID=America/New_York:20251220T100000
DTEND;TZID=America/New_York:20251220T130000
DTSTAMP:20260420T162150
CREATED:20250213T150040Z
LAST-MODIFIED:20250213T182746Z
UID:10001382-1766224800-1766235600@www.actonexchange.org
SUMMARY:Acton DPW polystyrene (styrofoam) collection
DESCRIPTION:On the third Saturday of every month (except June\, which is 2nd Saturday)\, you can recycle your clean styrofoam containers. \nFor details about the 2025 schedule\, and what you can recycle\, see https://actonma.gov/DocumentCenter/View/10278/Polystyrene-collection-days-and-guide-2025. \n  \n 
URL:https://www.actonexchange.org/event/acton-dpw-polystyrene-styrofoam-collection-days/2025-12-20/
LOCATION:DPW\, 14 Forest Rd\, Acton\, MA\, 01720\, United States
END:VEVENT
BEGIN:VEVENT
DTSTART;TZID=America/New_York:20251115T100000
DTEND;TZID=America/New_York:20251115T130000
DTSTAMP:20260420T162150
CREATED:20250213T150040Z
LAST-MODIFIED:20250213T182746Z
UID:10001381-1763200800-1763211600@www.actonexchange.org
SUMMARY:Acton DPW polystyrene (styrofoam) collection
DESCRIPTION:On the third Saturday of every month (except June\, which is 2nd Saturday)\, you can recycle your clean styrofoam containers. \nFor details about the 2025 schedule\, and what you can recycle\, see https://actonma.gov/DocumentCenter/View/10278/Polystyrene-collection-days-and-guide-2025. \n  \n 
URL:https://www.actonexchange.org/event/acton-dpw-polystyrene-styrofoam-collection-days/2025-11-15/
LOCATION:DPW\, 14 Forest Rd\, Acton\, MA\, 01720\, United States
END:VEVENT
BEGIN:VEVENT
DTSTART;TZID=America/New_York:20251018T100000
DTEND;TZID=America/New_York:20251018T130000
DTSTAMP:20260420T162150
CREATED:20250213T150040Z
LAST-MODIFIED:20250213T182746Z
UID:10001380-1760781600-1760792400@www.actonexchange.org
SUMMARY:Acton DPW polystyrene (styrofoam) collection
DESCRIPTION:On the third Saturday of every month (except June\, which is 2nd Saturday)\, you can recycle your clean styrofoam containers. \nFor details about the 2025 schedule\, and what you can recycle\, see https://actonma.gov/DocumentCenter/View/10278/Polystyrene-collection-days-and-guide-2025. \n  \n 
URL:https://www.actonexchange.org/event/acton-dpw-polystyrene-styrofoam-collection-days/2025-10-18/
LOCATION:DPW\, 14 Forest Rd\, Acton\, MA\, 01720\, United States
END:VEVENT
BEGIN:VEVENT
DTSTART;TZID=America/New_York:20250920T100000
DTEND;TZID=America/New_York:20250920T130000
DTSTAMP:20260420T162150
CREATED:20250213T150040Z
LAST-MODIFIED:20250213T182746Z
UID:10001379-1758362400-1758373200@www.actonexchange.org
SUMMARY:Acton DPW polystyrene (styrofoam) collection
DESCRIPTION:On the third Saturday of every month (except June\, which is 2nd Saturday)\, you can recycle your clean styrofoam containers. \nFor details about the 2025 schedule\, and what you can recycle\, see https://actonma.gov/DocumentCenter/View/10278/Polystyrene-collection-days-and-guide-2025. \n  \n 
URL:https://www.actonexchange.org/event/acton-dpw-polystyrene-styrofoam-collection-days/2025-09-20/
LOCATION:DPW\, 14 Forest Rd\, Acton\, MA\, 01720\, United States
END:VEVENT
BEGIN:VEVENT
DTSTART;TZID=America/New_York:20250816T100000
DTEND;TZID=America/New_York:20250816T130000
DTSTAMP:20260420T162150
CREATED:20250213T150040Z
LAST-MODIFIED:20250213T182746Z
UID:10001378-1755338400-1755349200@www.actonexchange.org
SUMMARY:Acton DPW polystyrene (styrofoam) collection
DESCRIPTION:On the third Saturday of every month (except June\, which is 2nd Saturday)\, you can recycle your clean styrofoam containers. \nFor details about the 2025 schedule\, and what you can recycle\, see https://actonma.gov/DocumentCenter/View/10278/Polystyrene-collection-days-and-guide-2025. \n  \n 
URL:https://www.actonexchange.org/event/acton-dpw-polystyrene-styrofoam-collection-days/2025-08-16/
LOCATION:DPW\, 14 Forest Rd\, Acton\, MA\, 01720\, United States
END:VEVENT
BEGIN:VEVENT
DTSTART;TZID=America/New_York:20250719T100000
DTEND;TZID=America/New_York:20250719T130000
DTSTAMP:20260420T162150
CREATED:20250213T150040Z
LAST-MODIFIED:20250213T182746Z
UID:10001377-1752919200-1752930000@www.actonexchange.org
SUMMARY:Acton DPW polystyrene (styrofoam) collection
DESCRIPTION:On the third Saturday of every month (except June\, which is 2nd Saturday)\, you can recycle your clean styrofoam containers. \nFor details about the 2025 schedule\, and what you can recycle\, see https://actonma.gov/DocumentCenter/View/10278/Polystyrene-collection-days-and-guide-2025. \n  \n 
URL:https://www.actonexchange.org/event/acton-dpw-polystyrene-styrofoam-collection-days/2025-07-19/
LOCATION:DPW\, 14 Forest Rd\, Acton\, MA\, 01720\, United States
END:VEVENT
BEGIN:VEVENT
DTSTART;TZID=America/New_York:20250614T100000
DTEND;TZID=America/New_York:20250614T130000
DTSTAMP:20260420T162150
CREATED:20250213T150040Z
LAST-MODIFIED:20250213T182746Z
UID:10001376-1749895200-1749906000@www.actonexchange.org
SUMMARY:Acton DPW polystyrene (styrofoam) collection
DESCRIPTION:On the third Saturday of every month (except June\, which is 2nd Saturday)\, you can recycle your clean styrofoam containers. \nFor details about the 2025 schedule\, and what you can recycle\, see https://actonma.gov/DocumentCenter/View/10278/Polystyrene-collection-days-and-guide-2025. \n  \n 
URL:https://www.actonexchange.org/event/acton-dpw-polystyrene-styrofoam-collection-days/2025-06-14/
LOCATION:DPW\, 14 Forest Rd\, Acton\, MA\, 01720\, United States
END:VEVENT
BEGIN:VEVENT
DTSTART;TZID=America/New_York:20250517T100000
DTEND;TZID=America/New_York:20250517T130000
DTSTAMP:20260420T162150
CREATED:20250213T150040Z
LAST-MODIFIED:20250213T182746Z
UID:10001375-1747476000-1747486800@www.actonexchange.org
SUMMARY:Acton DPW polystyrene (styrofoam) collection
DESCRIPTION:On the third Saturday of every month (except June\, which is 2nd Saturday)\, you can recycle your clean styrofoam containers. \nFor details about the 2025 schedule\, and what you can recycle\, see https://actonma.gov/DocumentCenter/View/10278/Polystyrene-collection-days-and-guide-2025. \n  \n 
URL:https://www.actonexchange.org/event/acton-dpw-polystyrene-styrofoam-collection-days/2025-05-17/
LOCATION:DPW\, 14 Forest Rd\, Acton\, MA\, 01720\, United States
END:VEVENT
BEGIN:VEVENT
DTSTART;TZID=America/New_York:20250419T100000
DTEND;TZID=America/New_York:20250419T130000
DTSTAMP:20260420T162150
CREATED:20250213T150040Z
LAST-MODIFIED:20250213T182746Z
UID:10001374-1745056800-1745067600@www.actonexchange.org
SUMMARY:Acton DPW polystyrene (styrofoam) collection
DESCRIPTION:On the third Saturday of every month (except June\, which is 2nd Saturday)\, you can recycle your clean styrofoam containers. \nFor details about the 2025 schedule\, and what you can recycle\, see https://actonma.gov/DocumentCenter/View/10278/Polystyrene-collection-days-and-guide-2025. \n  \n 
URL:https://www.actonexchange.org/event/acton-dpw-polystyrene-styrofoam-collection-days/2025-04-19/
LOCATION:DPW\, 14 Forest Rd\, Acton\, MA\, 01720\, United States
END:VEVENT
END:VCALENDAR