BEGIN:VCALENDAR
VERSION:2.0
PRODID:-//The Acton Exchange - ECPv6.15.17.1//NONSGML v1.0//EN
CALSCALE:GREGORIAN
METHOD:PUBLISH
X-WR-CALNAME:The Acton Exchange
X-ORIGINAL-URL:https://www.actonexchange.org
X-WR-CALDESC:Events for The Acton Exchange
REFRESH-INTERVAL;VALUE=DURATION:PT1H
X-Robots-Tag:noindex
X-PUBLISHED-TTL:PT1H
BEGIN:VTIMEZONE
TZID:America/New_York
BEGIN:DAYLIGHT
TZOFFSETFROM:-0500
TZOFFSETTO:-0400
TZNAME:EDT
DTSTART:20250309T070000
END:DAYLIGHT
BEGIN:STANDARD
TZOFFSETFROM:-0400
TZOFFSETTO:-0500
TZNAME:EST
DTSTART:20251102T060000
END:STANDARD
BEGIN:DAYLIGHT
TZOFFSETFROM:-0500
TZOFFSETTO:-0400
TZNAME:EDT
DTSTART:20260308T070000
END:DAYLIGHT
BEGIN:STANDARD
TZOFFSETFROM:-0400
TZOFFSETTO:-0500
TZNAME:EST
DTSTART:20261101T060000
END:STANDARD
BEGIN:DAYLIGHT
TZOFFSETFROM:-0500
TZOFFSETTO:-0400
TZNAME:EDT
DTSTART:20270314T070000
END:DAYLIGHT
BEGIN:STANDARD
TZOFFSETFROM:-0400
TZOFFSETTO:-0500
TZNAME:EST
DTSTART:20271107T060000
END:STANDARD
END:VTIMEZONE
BEGIN:VEVENT
DTSTART;TZID=America/New_York:20260417T150000
DTEND;TZID=America/New_York:20260417T220000
DTSTAMP:20260420T005541
CREATED:20260411T134411Z
LAST-MODIFIED:20260411T134411Z
UID:10004029-1776438000-1776463200@www.actonexchange.org
SUMMARY:Acton 250: Isaac Davis Brown Ale release party
DESCRIPTION:Join the Acton 250 Committee for its Isaac Davis Brown Ale 3rd Release Party \nThe Acton Minutemen will join us at 6 PM for a Musket Demonstration on this special occasion! \nHave you tried the Acton 250 Committee’s Isaac Davis Brown Ale? Join the Acton 250 Committee April 17th at Dirigible Brewing Company as we reintroduce our commemorative ale in time for the 250th celebration of American Independence. This ale is representative of one beer style available to the colonial patriots. \nDirigible Brewing will have this on draft\, in cans\, and on cask. \nFood trucks will be on site.
URL:https://www.actonexchange.org/event/acton-250-isaac-davis-brown-ale-release-party/
LOCATION:Dirigible Brewing Company\, 24 Porter Rd\, Littleton\, MA\, 01460\, United States
END:VEVENT
END:VCALENDAR