BEGIN:VCALENDAR
VERSION:2.0
PRODID:-//The Acton Exchange - ECPv6.15.17.1//NONSGML v1.0//EN
CALSCALE:GREGORIAN
METHOD:PUBLISH
X-ORIGINAL-URL:https://www.actonexchange.org
X-WR-CALDESC:Events for The Acton Exchange
REFRESH-INTERVAL;VALUE=DURATION:PT1H
X-Robots-Tag:noindex
X-PUBLISHED-TTL:PT1H
BEGIN:VTIMEZONE
TZID:America/New_York
BEGIN:DAYLIGHT
TZOFFSETFROM:-0500
TZOFFSETTO:-0400
TZNAME:EDT
DTSTART:20240310T070000
END:DAYLIGHT
BEGIN:STANDARD
TZOFFSETFROM:-0400
TZOFFSETTO:-0500
TZNAME:EST
DTSTART:20241103T060000
END:STANDARD
BEGIN:DAYLIGHT
TZOFFSETFROM:-0500
TZOFFSETTO:-0400
TZNAME:EDT
DTSTART:20250309T070000
END:DAYLIGHT
BEGIN:STANDARD
TZOFFSETFROM:-0400
TZOFFSETTO:-0500
TZNAME:EST
DTSTART:20251102T060000
END:STANDARD
BEGIN:DAYLIGHT
TZOFFSETFROM:-0500
TZOFFSETTO:-0400
TZNAME:EDT
DTSTART:20260308T070000
END:DAYLIGHT
BEGIN:STANDARD
TZOFFSETFROM:-0400
TZOFFSETTO:-0500
TZNAME:EST
DTSTART:20261101T060000
END:STANDARD
BEGIN:DAYLIGHT
TZOFFSETFROM:-0500
TZOFFSETTO:-0400
TZNAME:EDT
DTSTART:20270314T070000
END:DAYLIGHT
BEGIN:STANDARD
TZOFFSETFROM:-0400
TZOFFSETTO:-0500
TZNAME:EST
DTSTART:20271107T060000
END:STANDARD
END:VTIMEZONE
BEGIN:VEVENT
DTSTART;TZID=America/New_York:20260415T180000
DTEND;TZID=America/New_York:20260415T190000
DTSTAMP:20260423T005935
CREATED:20260323T234544Z
LAST-MODIFIED:20260326T004133Z
UID:10003768-1776276000-1776279600@www.actonexchange.org
SUMMARY:Library: Teaching Tech @ AML - Resume Basics
DESCRIPTION:Sign up on the program page on our website here!  \nThis month’s topic: Resume Basics. \nNo experience necessary—just bring your questions and curiosity! \nPlease bring your smartphone\, tablet\, or laptop if you have one. If you don’t have a laptop\, one can be supplied for you.
URL:https://www.actonexchange.org/event/library-teaching-tech-aml-resume-basics/
LOCATION:Acton Memorial Library Conference Room (2nd floor)\, 486 Main Street\, Acton\, MA\, 01720\, United States
END:VEVENT
BEGIN:VEVENT
DTSTART;TZID=America/New_York:20260413T183000
DTEND;TZID=America/New_York:20260413T194500
DTSTAMP:20260423T005935
CREATED:20260323T231002Z
LAST-MODIFIED:20260323T231002Z
UID:10003740-1776105000-1776109500@www.actonexchange.org
SUMMARY:Library: Great Decisions Group Discussion
DESCRIPTION:To see this month’s topic and more check out the program page on our website!
URL:https://www.actonexchange.org/event/library-great-decisions-group-discussion-2/2026-04-13/
LOCATION:Acton Memorial Library Conference Room (2nd floor)\, 486 Main Street\, Acton\, MA\, 01720\, United States
END:VEVENT
BEGIN:VEVENT
DTSTART;TZID=America/New_York:20260318T180000
DTEND;TZID=America/New_York:20260318T190000
DTSTAMP:20260423T005935
CREATED:20260207T161531Z
LAST-MODIFIED:20260207T161531Z
UID:10003654-1773856800-1773860400@www.actonexchange.org
SUMMARY:Library: Teaching Tech @ AML - Canva
DESCRIPTION:This month’s topic: Canva \nNo experience necessary—just bring your questions and curiosity! \nPlease bring your smartphone\, tablet\, or laptop if you have one. If you don’t have a laptop\, one can be supplied for you. \nSign up here. 
URL:https://www.actonexchange.org/event/library-teaching-tech-aml-canva/
LOCATION:Acton Memorial Library Conference Room (2nd floor)\, 486 Main Street\, Acton\, MA\, 01720\, United States
END:VEVENT
BEGIN:VEVENT
DTSTART;TZID=America/New_York:20260302T183000
DTEND;TZID=America/New_York:20260302T194500
DTSTAMP:20260423T005935
CREATED:20260207T154325Z
LAST-MODIFIED:20260207T154325Z
UID:10003640-1772476200-1772480700@www.actonexchange.org
SUMMARY:Library: Great Decisions Group Discussion
DESCRIPTION:Great Decisions is America’s largest discussion program on world affairs. The program model involves reading the Great Decisions Briefing Book and meeting in a Discussion Group to discuss the most critical global issues facing America today. This months topic will be on the CIA and led by Willard Hunter. A short article is available from the Great Decisions briefing book. Please read it ahead of the meeting. It is available in the library.
URL:https://www.actonexchange.org/event/library-great-decisions-group-discussion/
LOCATION:Acton Memorial Library Conference Room (2nd floor)\, 486 Main Street\, Acton\, MA\, 01720\, United States
END:VEVENT
BEGIN:VEVENT
DTSTART;TZID=America/New_York:20260218T180000
DTEND;TZID=America/New_York:20260218T190000
DTSTAMP:20260423T005935
CREATED:20260207T125959Z
LAST-MODIFIED:20260207T125959Z
UID:10003612-1771437600-1771441200@www.actonexchange.org
SUMMARY:Library: Teaching Tech @ AML - Google Sheets
DESCRIPTION:This month’s topic: Google Sheets \nNo experience necessary—just bring your questions and curiosity! \nPlease bring your smartphone\, tablet\, or laptop if you have one. If you don’t have a laptop\, one can be supplied for you. \nSign up here. 
URL:https://www.actonexchange.org/event/library-teaching-tech-aml-google-sheets/
LOCATION:Acton Memorial Library Conference Room (2nd floor)\, 486 Main Street\, Acton\, MA\, 01720\, United States
END:VEVENT
BEGIN:VEVENT
DTSTART;TZID=America/New_York:20260126T100000
DTEND;TZID=America/New_York:20260126T113000
DTSTAMP:20260423T005935
CREATED:20251227T142739Z
LAST-MODIFIED:20251227T142739Z
UID:10003415-1769421600-1769427000@www.actonexchange.org
SUMMARY:Library: English at Large - Spring Beginner English classes
DESCRIPTION:This 90-minute class for complete beginners meets twice a week from January to April. You will learn basic English speaking skills to talk about yourself\, daily routines\, food\, clothing\, and more. This is part two\, a continuation of the fall Beginner English class. \nThe class is free\, but registration is required. \nSign up to receive information about the Acton class on the English At Large here. You will receive an email in January with the class schedule and the registration form.
URL:https://www.actonexchange.org/event/library-english-at-large-spring-beginner-english-classes/
LOCATION:Acton Memorial Library Conference Room (2nd floor)\, 486 Main Street\, Acton\, MA\, 01720\, United States
END:VEVENT
BEGIN:VEVENT
DTSTART;TZID=America/New_York:20260121T180000
DTEND;TZID=America/New_York:20260121T190000
DTSTAMP:20260423T005935
CREATED:20251227T142432Z
LAST-MODIFIED:20251227T142432Z
UID:10003412-1769018400-1769022000@www.actonexchange.org
SUMMARY:Library: Teaching Tech @ AML – Google Docs
DESCRIPTION:Register Here \nThis month’s topic: Google Docs \nNo experience necessary—just bring your questions and curiosity! \nPlease bring your smartphone\, tablet\, or laptop if you have one. If you don’t have a laptop\, one can be supplied for you. \nReasonable accommodations for individuals with disabilities are available upon request by emailing library@actonma.gov.
URL:https://www.actonexchange.org/event/library-teaching-tech-aml-google-docs/
LOCATION:Acton Memorial Library Conference Room (2nd floor)\, 486 Main Street\, Acton\, MA\, 01720\, United States
END:VEVENT
BEGIN:VEVENT
DTSTART;TZID=America/New_York:20260105T183000
DTEND;TZID=America/New_York:20260105T194500
DTSTAMP:20260423T005935
CREATED:20251227T135018Z
LAST-MODIFIED:20251227T135018Z
UID:10003336-1767637800-1767642300@www.actonexchange.org
SUMMARY:Library: Great Decisions Group Discussion - America and the World
DESCRIPTION:Great Decisions is America’s largest discussion program on world affairs. The program model involves reading the Great Decisions Briefing Book and meeting in a Discussion Group to discuss the most critical global issues facing America today. This months topic will be on America and the World. A short article is available from the Great Decisions briefing book. Please read it ahead of the meeting. It is available in the library. \nReasonable accommodations for individuals with disabilities are available upon request by emailing library@actonma.gov.
URL:https://www.actonexchange.org/event/library-great-decisions-group-discussion-america-and-the-world/
LOCATION:Acton Memorial Library Conference Room (2nd floor)\, 486 Main Street\, Acton\, MA\, 01720\, United States
END:VEVENT
BEGIN:VEVENT
DTSTART;TZID=America/New_York:20251106T180000
DTEND;TZID=America/New_York:20251106T190000
DTSTAMP:20260423T005935
CREATED:20251016T190940Z
LAST-MODIFIED:20251016T190940Z
UID:10003176-1762452000-1762455600@www.actonexchange.org
SUMMARY:Library: Adult Writing Group
DESCRIPTION:Register on the program page on our website. \nWriting Club is a free group for prose\, poetry and non-fiction writers to come together\, connect\, share and create in a welcoming environment. Join the conversation\, work on optional weekly prompts or use the time to work on an existing project that your passionate about. All writing levels welcome! \nOptional Prompt: Write 1-3 paragraphs about a book\, film\, or tv show you enjoy and why you enjoy it. Do the same on a piece of media you do not enjoy and explain why you don’t enjoy it. Then write at least one paragraph examining the aspects about the piece of media you enjoy that you don’t enjoy. Then do the same for the piece of media you don’t enjoy\, writing about that you did enjoy or thought worked well.
URL:https://www.actonexchange.org/event/library-adult-writing-group-6/
LOCATION:Acton Memorial Library Conference Room (2nd floor)\, 486 Main Street\, Acton\, MA\, 01720\, United States
END:VEVENT
BEGIN:VEVENT
DTSTART;TZID=America/New_York:20251015T180000
DTEND;TZID=America/New_York:20251015T190000
DTSTAMP:20260423T005935
CREATED:20251006T142357Z
LAST-MODIFIED:20251006T142357Z
UID:10002744-1760551200-1760554800@www.actonexchange.org
SUMMARY:Library: Halloween Wreath Making @ AML
DESCRIPTION:Sign up on the program page on our website. \n\nJoin us for Halloween Wreath Making! \n\n\n\nReasonable accommodations for individuals with disabilities are available upon request by emailing library@actonma.gov.
URL:https://www.actonexchange.org/event/library-halloween-wreath-making-aml/
LOCATION:Acton Memorial Library Conference Room (2nd floor)\, 486 Main Street\, Acton\, MA\, 01720\, United States
END:VEVENT
BEGIN:VEVENT
DTSTART;TZID=America/New_York:20251002T180000
DTEND;TZID=America/New_York:20251002T190000
DTSTAMP:20260423T005935
CREATED:20251002T144906Z
LAST-MODIFIED:20251002T144906Z
UID:10002725-1759428000-1759431600@www.actonexchange.org
SUMMARY:Library: Adult Writing Group
DESCRIPTION:Sign up on the program page on our website. \nWriting Club is a free group for prose\, poetry and non-fiction writers to come together\, connect\, share and create in a welcoming environment. \nOptional Prompt: Describe a character\, object or location in 3 paragraphs. Then strip it down to one paragraph\, then three sentences and finally one sentence. \n\nReasonable accommodations for individuals with disabilities are available upon request by emailing library@actonma.gov.
URL:https://www.actonexchange.org/event/library-adult-writing-group-5/
LOCATION:Acton Memorial Library Conference Room (2nd floor)\, 486 Main Street\, Acton\, MA\, 01720\, United States
END:VEVENT
BEGIN:VEVENT
DTSTART;TZID=America/New_York:20250917T100000
DTEND;TZID=America/New_York:20250917T113000
DTSTAMP:20260423T005935
CREATED:20250910T194432Z
LAST-MODIFIED:20250910T194432Z
UID:10002571-1758103200-1758108600@www.actonexchange.org
SUMMARY:Library: English at large - Beginner English Class
DESCRIPTION:Sign up for a free Beginner English class at Acton Memorial Library! This 90-minute class for Complete Beginners meets twice a week from September to December. You will learn basic English speaking skills to talk about yourself\, family\, home\, community\, as well as time\, money\, shopping\, and weather. \nThe class is free\, but registration is required. Registration is open until September 15th. \nSign up for information about the Acton class at the English At Large website https://link.edgepilot.com/s/5150c38e/OT0rRGeD-0q5OlmICQfG0w?u=https://www.englishatlarge.org/beginner-english-classes/ You will receive an email in September with the class schedule and registration form in September
URL:https://www.actonexchange.org/event/library-english-at-large-beginner-english-class/
LOCATION:Acton Memorial Library Conference Room (2nd floor)\, 486 Main Street\, Acton\, MA\, 01720\, United States
END:VEVENT
BEGIN:VEVENT
DTSTART;TZID=America/New_York:20250915T100000
DTEND;TZID=America/New_York:20250915T113000
DTSTAMP:20260423T005935
CREATED:20250910T194618Z
LAST-MODIFIED:20250910T194618Z
UID:10002568-1757930400-1757935800@www.actonexchange.org
SUMMARY:Library: English at large – Beginner English Class
DESCRIPTION:Sign up for a free Beginner English class at Acton Memorial Library! This 90-minute class for Complete Beginners meets twice a week from September to December. You will learn basic English speaking skills to talk about yourself\, family\, home\, community\, as well as time\, money\, shopping\, and weather. \nThe class is free\, but registration is required. Registration is open until September 15th. \nSign up for information about the Acton class at the English At Large website https://link.edgepilot.com/s/5150c38e/OT0rRGeD-0q5OlmICQfG0w?u=https://www.englishatlarge.org/beginner-english-classes/ You will receive an email in September with the class schedule and registration form in September
URL:https://www.actonexchange.org/event/library-english-at-large-beginner-english-class-2/
LOCATION:Acton Memorial Library Conference Room (2nd floor)\, 486 Main Street\, Acton\, MA\, 01720\, United States
END:VEVENT
BEGIN:VEVENT
DTSTART;TZID=America/New_York:20250904T180000
DTEND;TZID=America/New_York:20250904T190000
DTSTAMP:20260423T005935
CREATED:20250902T155207Z
LAST-MODIFIED:20250902T155207Z
UID:10002560-1757008800-1757012400@www.actonexchange.org
SUMMARY:Library: Adult Writing Group
DESCRIPTION:Join the conversation\, work on optional weekly prompts or use the time to work on an existing project that your passionate about. All writing levels welcome! \nOptional Prompt: Take a pre-existing piece of your writing\, or write a new piece (1-3 pages)\, and then rewrite it in the style of your favorite author. \nSpace is limited\, sign up on the program page on our website here.  \nReasonable accommodations for individuals with disabilities are available upon request by emailing library@actonma.gov.
URL:https://www.actonexchange.org/event/library-adult-writing-group-4/
LOCATION:Acton Memorial Library Conference Room (2nd floor)\, 486 Main Street\, Acton\, MA\, 01720\, United States
END:VEVENT
BEGIN:VEVENT
DTSTART;VALUE=DATE:20250901
DTEND;VALUE=DATE:20250902
DTSTAMP:20260423T005935
CREATED:20250821T192152Z
LAST-MODIFIED:20250821T192152Z
UID:10002598-1756684800-1756771199@www.actonexchange.org
SUMMARY:Library: Sign up for English Conversation Class
DESCRIPTION:Looking to practice your English speaking skills? Join a free conversation group with English At Large to build your skills and confidence speaking English in a group setting with the support of trained facilitators. \nWhen: Weekly on Mondays from 6:15-7:15pm\, Sept 22-Dec 15 \nWhere: Acton Memorial Library\, 2nd floor \nEnglish At Large conversation groups are for intermediate to advanced adult English language learners to practice speaking and listening for 90 minutes once per week. Join a group of 10-12 learners and 2 facilitators to discuss topics including American culture and holidays\, idioms\, and daily life situations. Registration starts September 1st. Sign up here to receive an email when it opens! Registration is open until September 15th. Sign up here.
URL:https://www.actonexchange.org/event/library-sign-up-for-english-conversation-class/
LOCATION:Acton Memorial Library Conference Room (2nd floor)\, 486 Main Street\, Acton\, MA\, 01720\, United States
END:VEVENT
BEGIN:VEVENT
DTSTART;TZID=America/New_York:20250807T180000
DTEND;TZID=America/New_York:20250807T190000
DTSTAMP:20260423T005935
CREATED:20250723T212601Z
LAST-MODIFIED:20250724T192530Z
UID:10002542-1754589600-1754593200@www.actonexchange.org
SUMMARY:Library: Adult Writing Group
DESCRIPTION:Register here: https://actonmemoriallibrary.assabetinteractive.com/calendar/adult-writing-group-2/ \nWriting Club is a free group for prose\, poetry and non-fiction writers to come together\, connect\, share and create in a welcoming environment. Join the conversation\, work on optional weekly prompts or use the time to work on an existing project that your passionate about. All writing levels welcome! \nOptional Prompt: Write a one page or longer story\, scene or outline in the first-person. When you’ve finished\, write the passage again but from the third person. You can write it in the second-person as well.
URL:https://www.actonexchange.org/event/library-adult-writing-group-3/
LOCATION:Acton Memorial Library Conference Room (2nd floor)\, 486 Main Street\, Acton\, MA\, 01720\, United States
END:VEVENT
BEGIN:VEVENT
DTSTART;TZID=America/New_York:20250702T180000
DTEND;TZID=America/New_York:20250702T190000
DTSTAMP:20260423T005935
CREATED:20250614T162825Z
LAST-MODIFIED:20250614T172729Z
UID:10002427-1751479200-1751482800@www.actonexchange.org
SUMMARY:Library: Adult Writing Group
DESCRIPTION:Writing Club is a free group for prose\, poetry and non-fiction writers to come together\, connect\, share and create in a welcoming environment. Join the conversation\, work on optional weekly prompts or use the time to work on an existing project that your passionate about. Feel free to join in person or on Zoom\, all writing levels welcome! \nOptional Prompt: Make a list of 25 “things” You love reading about (Topics\, locations\, literary devices\, time periods\, etc). Take five things from your list and write a one page or more story\, scene or outline
URL:https://www.actonexchange.org/event/adult-writing-group/
LOCATION:Acton Memorial Library Conference Room (2nd floor)\, 486 Main Street\, Acton\, MA\, 01720\, United States
END:VEVENT
BEGIN:VEVENT
DTSTART;TZID=America/New_York:20250625T180000
DTEND;TZID=America/New_York:20250625T190000
DTSTAMP:20260423T005935
CREATED:20250526T130951Z
LAST-MODIFIED:20250609T150407Z
UID:10002222-1750874400-1750878000@www.actonexchange.org
SUMMARY:Library: Pride Book Group
DESCRIPTION:Join your fellow community members at Acton Memorial Library for a lively book discussion this Pride\, led by Librarian Olivia. Limited copies of the book in multiple formats will be available at Acton Memorial Library. First come\, first serve. All are welcome!\n\nSign up on our website: Pride Book Group. \nThe Book is: Endpapers By: Jennifer Savran Kelly \nA sharply written\, page-turning\, and evocative debut\, Endpapers is an unforgettable story about the journey toward authenticity and the hard conversations we owe ourselves in pursuit of a world where no one has to hide. \n\nReasonable accommodations for individuals with disabilities are available upon request by emailing library@actonma.gov.
URL:https://www.actonexchange.org/event/library-pride-book-group/
LOCATION:Acton Memorial Library Conference Room (2nd floor)\, 486 Main Street\, Acton\, MA\, 01720\, United States
END:VEVENT
END:VCALENDAR