BEGIN:VCALENDAR
VERSION:2.0
PRODID:-//The Acton Exchange - ECPv6.15.17.1//NONSGML v1.0//EN
CALSCALE:GREGORIAN
METHOD:PUBLISH
X-WR-CALNAME:The Acton Exchange
X-ORIGINAL-URL:https://www.actonexchange.org
X-WR-CALDESC:Events for The Acton Exchange
REFRESH-INTERVAL;VALUE=DURATION:PT1H
X-Robots-Tag:noindex
X-PUBLISHED-TTL:PT1H
BEGIN:VTIMEZONE
TZID:America/New_York
BEGIN:DAYLIGHT
TZOFFSETFROM:-0500
TZOFFSETTO:-0400
TZNAME:EDT
DTSTART:20240310T070000
END:DAYLIGHT
BEGIN:STANDARD
TZOFFSETFROM:-0400
TZOFFSETTO:-0500
TZNAME:EST
DTSTART:20241103T060000
END:STANDARD
BEGIN:DAYLIGHT
TZOFFSETFROM:-0500
TZOFFSETTO:-0400
TZNAME:EDT
DTSTART:20250309T070000
END:DAYLIGHT
BEGIN:STANDARD
TZOFFSETFROM:-0400
TZOFFSETTO:-0500
TZNAME:EST
DTSTART:20251102T060000
END:STANDARD
BEGIN:DAYLIGHT
TZOFFSETFROM:-0500
TZOFFSETTO:-0400
TZNAME:EDT
DTSTART:20260308T070000
END:DAYLIGHT
BEGIN:STANDARD
TZOFFSETFROM:-0400
TZOFFSETTO:-0500
TZNAME:EST
DTSTART:20261101T060000
END:STANDARD
END:VTIMEZONE
BEGIN:VEVENT
DTSTART;TZID=America/New_York:20251012T140000
DTEND;TZID=America/New_York:20251012T153000
DTSTAMP:20260422T223033
CREATED:20250924T233832Z
LAST-MODIFIED:20250924T233832Z
UID:10002707-1760277600-1760283000@www.actonexchange.org
SUMMARY:4th Annual Apple Pie Competition: Friends of the Acton Libraries
DESCRIPTION:Bakers! Start your ovens! Oct 11th is the drop off date for our 2025 Apple Pie (neighborly) competition. \nSign up at the link – Just 20 places in 2 age categories; Apple Pie Baker’s Sign Up. \nFor bakers only\, on Saturday\, October 11\, pies must be delivered to the library between noon-2pm for judging. \nFor bakers and the public\, come to the library on Sunday\, October 12 at 2pm to celebrate the winners and get a slice (or two) of delicious pie\, a donut\, or a glass of cider! \nAfter all\, there’s no such thing as a bad apple pie! \nSo that the judges can compare apples to apples (so to speak) there are a few guidelines.  BUT there are 20 places only… so read the guidelines below then register your name as interested 😉\n\nPies are to be homemade including crust.\nFilling is to be just apples and spices (no other fruits).\nYour general recipe must be written and submitted\, including the type of apple(s) used. \nBring a printout of the recipe or email it to friendsofactonlibraries@gmail.com.\n\n 
URL:https://www.actonexchange.org/event/4th-annual-apple-pie-competition-friends-of-the-acton-libraries/2025-10-12/
LOCATION:Acton Memorial Library Back Lawn\, 486 Main Street\, Acton\, MA\, 01720\, United States
ORGANIZER;CN="Friends of the Acton Libraries":MAILTO:friendsofactonlibraries@gmail.com
END:VEVENT
BEGIN:VEVENT
DTSTART;TZID=America/New_York:20251011T120000
DTEND;TZID=America/New_York:20251011T140000
DTSTAMP:20260422T223033
CREATED:20250924T233832Z
LAST-MODIFIED:20250924T233832Z
UID:10002706-1760184000-1760191200@www.actonexchange.org
SUMMARY:4th Annual Apple Pie Competition: Friends of the Acton Libraries
DESCRIPTION:Bakers! Start your ovens! Oct 11th is the drop off date for our 2025 Apple Pie (neighborly) competition. \nSign up at the link – Just 20 places in 2 age categories; Apple Pie Baker’s Sign Up. \nFor bakers only\, on Saturday\, October 11\, pies must be delivered to the library between noon-2pm for judging. \nFor bakers and the public\, come to the library on Sunday\, October 12 at 2pm to celebrate the winners and get a slice (or two) of delicious pie\, a donut\, or a glass of cider! \nAfter all\, there’s no such thing as a bad apple pie! \nSo that the judges can compare apples to apples (so to speak) there are a few guidelines.  BUT there are 20 places only… so read the guidelines below then register your name as interested 😉\n\nPies are to be homemade including crust.\nFilling is to be just apples and spices (no other fruits).\nYour general recipe must be written and submitted\, including the type of apple(s) used. \nBring a printout of the recipe or email it to friendsofactonlibraries@gmail.com.\n\n 
URL:https://www.actonexchange.org/event/4th-annual-apple-pie-competition-friends-of-the-acton-libraries/2025-10-11/
LOCATION:Acton Memorial Library Back Lawn\, 486 Main Street\, Acton\, MA\, 01720\, United States
ORGANIZER;CN="Friends of the Acton Libraries":MAILTO:friendsofactonlibraries@gmail.com
END:VEVENT
BEGIN:VEVENT
DTSTART;TZID=America/New_York:20250820T180000
DTEND;TZID=America/New_York:20250820T190000
DTSTAMP:20260422T223033
CREATED:20250723T212801Z
LAST-MODIFIED:20250723T212801Z
UID:10002544-1755712800-1755716400@www.actonexchange.org
SUMMARY:Library: Line Dancing!
DESCRIPTION:Grab your boots and get ready to kick up your heels at Line Dancing! Whether you’re a seasoned dancer or just starting out\, this fun and energetic program is perfect for all experience levels. A local instructor will guide participants through classic and modern line dances\, step-by-step. No partner or experience needed—just come ready to move\, laugh\, and enjoy a great time with your community! In case of rain or a heatwave the class will be moved inside. \n Comfortable shoes (or cowhand boots) recommended. \nRegister on the program page on our website: https://actonmemoriallibrary.assabetinteractive.com/calendar/line-dancing-hold-2/ \nReasonable accommodations for individuals with disabilities are available upon request by emailing library@actonma.gov.
URL:https://www.actonexchange.org/event/library-line-dancing-2/
LOCATION:Acton Memorial Library Back Lawn\, 486 Main Street\, Acton\, MA\, 01720\, United States
END:VEVENT
BEGIN:VEVENT
DTSTART;TZID=America/New_York:20250805T180000
DTEND;TZID=America/New_York:20250805T190000
DTSTAMP:20260422T223033
CREATED:20250716T131413Z
LAST-MODIFIED:20250716T131413Z
UID:10002523-1754416800-1754420400@www.actonexchange.org
SUMMARY:Library - Summer Concert Series - The Rule of Two
DESCRIPTION:Join us on August 5th from 6–7 PM as we wrap up our Summer Reading Carnival with an unforgettable performance by The Rule of Two—our third and final band in the Summer Concert Series! \nAbout the band:  \nThe Rule of Two is made up of a married couple who met while attending Berklee College of Music. Over the past 10 years\, Emily Desmond and Aaron Wheeler have performed at various events and venues all over New England\, including Boston’s famous Hatch Shell. Together\, they make their living as full-time musicians – composing\, producing\, and teaching music in addition to performing. \nhttps://www.emilydesmond.com/ruleoftwo \nReasonable accommodations for individuals with disabilities are available upon request by emailing library@actonma.gov.
URL:https://www.actonexchange.org/event/library-summer-concert-series-the-rule-of-two/
LOCATION:Acton Memorial Library Back Lawn\, 486 Main Street\, Acton\, MA\, 01720\, United States
END:VEVENT
BEGIN:VEVENT
DTSTART;TZID=America/New_York:20250805T160000
DTEND;TZID=America/New_York:20250805T180000
DTSTAMP:20260422T223033
CREATED:20250720T204551Z
LAST-MODIFIED:20250720T204551Z
UID:10002522-1754409600-1754416800@www.actonexchange.org
SUMMARY:Library - Summer Reading Carnival
DESCRIPTION:Join us on the Acton Memorial Library Lawn for an evening of fun games\, face paint\, snow cones\, and live music! Food truck: The Twizted Pickle
URL:https://www.actonexchange.org/event/library-summer-reading-carnival/
LOCATION:Acton Memorial Library Back Lawn\, 486 Main Street\, Acton\, MA\, 01720\, United States
END:VEVENT
BEGIN:VEVENT
DTSTART;TZID=America/New_York:20250717T173000
DTEND;TZID=America/New_York:20250717T190000
DTSTAMP:20260422T223033
CREATED:20250326T134527Z
LAST-MODIFIED:20250609T151010Z
UID:10002018-1752773400-1752778800@www.actonexchange.org
SUMMARY:Library: Summer Concert Series: Squeezebox Stompers
DESCRIPTION:Location: Back Library Lawn\, Acton Memorial Library | 486 Main Street\, Acton MA 01720 \nFor over 25 years\, The Squeezebox Stompers have brought the vibrant sounds of Cajun\, zydeco\, blues\, folk\, and original music to New England\, earning Boston Music Awards and songwriting accolades along the way. With a rich blend of instruments—including accordion\, fiddle\, mandolin\, saxophone\, harmonica\, guitar\, bass\, and drums—They create an unique live music experience. Their lively and eclectic performances are guaranteed to get you on your feet and having a blast!
URL:https://www.actonexchange.org/event/library-summer-concert-series-squeezebox-stompers/
LOCATION:Acton Memorial Library Back Lawn\, 486 Main Street\, Acton\, MA\, 01720\, United States
END:VEVENT
BEGIN:VEVENT
DTSTART;TZID=America/New_York:20250716T180000
DTEND;TZID=America/New_York:20250716T190000
DTSTAMP:20260422T223033
CREATED:20250630T190542Z
LAST-MODIFIED:20250630T190542Z
UID:10002467-1752688800-1752692400@www.actonexchange.org
SUMMARY:Library: Line Dancing
DESCRIPTION:Grab your boots and get ready to kick up your heels at Line Dancing! Whether you’re a seasoned dancer or just starting out\, this fun and energetic program is perfect for all experience levels. A local instructor will guide participants through classic and modern line dances\, step-by-step. No partner or experience needed—just come ready to move\, laugh\, and enjoy a great time with your community! \n Comfortable shoes recommended. \nSpace is limited\, sign up on the program page on our website: https://actonmemoriallibrary.assabetinteractive.com/calendar/line-dancing-hold/ \nReasonable accommodations for individuals with disabilities are available upon request by emailing library@actonma.gov.
URL:https://www.actonexchange.org/event/library-line-dancing/
LOCATION:Acton Memorial Library Back Lawn\, 486 Main Street\, Acton\, MA\, 01720\, United States
END:VEVENT
BEGIN:VEVENT
DTSTART;TZID=America/New_York:20250612T180000
DTEND;TZID=America/New_York:20250612T190000
DTSTAMP:20260422T223033
CREATED:20250526T125313Z
LAST-MODIFIED:20250609T145754Z
UID:10002226-1749751200-1749754800@www.actonexchange.org
SUMMARY:Library: Summer Concert Series – Rodney Mashia: Tribute to African American Musicians
DESCRIPTION:Enjoy a concert with singer and guitarist Rodney Mashia\, featuring songs of jazz\, gospel\, soul\, folk and pop made famous by African American singers\, songwriters and composers. Born in New Orleans and raised in rural Louisiana\, Mashia has spent decades using his inspirational music to touch hearts and make folks smile. His soulful interpretations of classic songs have entertained crowds of all kinds. With his music — made by and from the heart — he explores both the black and white American political system and musical cultures of the past five decades. \n  \nReasonable accommodations for individuals with disabilities are available upon request by emailing library@actonma.gov.
URL:https://www.actonexchange.org/event/library-summer-concert-series-rodney-mashia-tribute-to-african-american-musicians/
LOCATION:Acton Memorial Library Back Lawn\, 486 Main Street\, Acton\, MA\, 01720\, United States
END:VEVENT
END:VCALENDAR