BEGIN:VCALENDAR
VERSION:2.0
PRODID:-//The Acton Exchange - ECPv6.15.17.1//NONSGML v1.0//EN
CALSCALE:GREGORIAN
METHOD:PUBLISH
X-ORIGINAL-URL:https://www.actonexchange.org
X-WR-CALDESC:Events for The Acton Exchange
REFRESH-INTERVAL;VALUE=DURATION:PT1H
X-Robots-Tag:noindex
X-PUBLISHED-TTL:PT1H
BEGIN:VTIMEZONE
TZID:America/New_York
BEGIN:DAYLIGHT
TZOFFSETFROM:-0500
TZOFFSETTO:-0400
TZNAME:EDT
DTSTART:20240310T070000
END:DAYLIGHT
BEGIN:STANDARD
TZOFFSETFROM:-0400
TZOFFSETTO:-0500
TZNAME:EST
DTSTART:20241103T060000
END:STANDARD
BEGIN:DAYLIGHT
TZOFFSETFROM:-0500
TZOFFSETTO:-0400
TZNAME:EDT
DTSTART:20250309T070000
END:DAYLIGHT
BEGIN:STANDARD
TZOFFSETFROM:-0400
TZOFFSETTO:-0500
TZNAME:EST
DTSTART:20251102T060000
END:STANDARD
BEGIN:DAYLIGHT
TZOFFSETFROM:-0500
TZOFFSETTO:-0400
TZNAME:EDT
DTSTART:20260308T070000
END:DAYLIGHT
BEGIN:STANDARD
TZOFFSETFROM:-0400
TZOFFSETTO:-0500
TZNAME:EST
DTSTART:20261101T060000
END:STANDARD
END:VTIMEZONE
BEGIN:VEVENT
DTSTART;TZID=America/New_York:20251107T180000
DTEND;TZID=America/New_York:20251107T203000
DTSTAMP:20260420T122316
CREATED:20250908T235248Z
LAST-MODIFIED:20251030T003554Z
UID:10002676-1762538400-1762547400@www.actonexchange.org
SUMMARY:DiscoverSTEM 2025 career discovery
DESCRIPTION:DiscoverSTEM 2025 is an interactive career discovery for teens and others. \n\n\nCome explore this free\, hands-on AB STEAM (Science Technology Engineering Art Math) event! Perfect for students in grades 7–12\, families\, and the whole community. DiscoverSTEM shows how science\, technology\, engineering\, art (creativity + innovation) and math connect to everyday life. \nExperience about 50 interactive exhibits featuring Boston Dynamics’ robotic dog\, Pedal Power E-bikes\, EcoQuiet Lawn Care green tech\, EnergizeActon.org on the future of sustainability\, Haartz advance materials\, Solidworks 3D design and engineering\, Open Door Theater digital accessibility\, Acton Police and Fire Tech\, s’mores made with induction cooking & more! \nPresented by AB STEAM (ABSTEAM.org) in partnership with ABRHS.\nMade possible by AB STEAM volunteers\, the AB School District\, and Boston-area business and community sponsors. \nMore information: www.absteam.org/discoverstem | info@absteam.org
URL:https://www.actonexchange.org/event/discoverstem-2025-career-discovery/
LOCATION:Acton Boxborough Regional High School\, 36 Charter Road\, Acton\, MA\, 01720
END:VEVENT
BEGIN:VEVENT
DTSTART;TZID=America/New_York:20251004T170000
DTEND;TZID=America/New_York:20251004T200000
DTSTAMP:20260420T122316
CREATED:20251002T202005Z
LAST-MODIFIED:20251002T202005Z
UID:10002746-1759597200-1759608000@www.actonexchange.org
SUMMARY:Chinese Mid-Autumn Festival
DESCRIPTION:Come celebrate with us! From 5:00 to 6:00 PM\, guests can enjoy traditional Chinese cuisine and participate in engaging activities.  \nThe festivities continue from 6:00 to 8:00 PM\, featuring live music\, vibrant dances\, and classic songs accompanied by traditional instruments and folkloric performances.  \nAll are welcome\, so don’t miss the fun! We can not wait to see you there!
URL:https://www.actonexchange.org/event/chinese-mid-autumn-festival/
LOCATION:Acton Boxborough Regional High School\, 36 Charter Road\, Acton\, MA\, 01720
END:VEVENT
BEGIN:VEVENT
DTSTART;TZID=America/New_York:20250606T210000
DTEND;TZID=America/New_York:20250607T080000
DTSTAMP:20260420T122317
CREATED:20250602T125555Z
LAST-MODIFIED:20250602T125555Z
UID:10002260-1749243600-1749283200@www.actonexchange.org
SUMMARY:ABRHS Project Graduation Volunteers Needed!
DESCRIPTION:For over 34 years\, we’ve hosted a substance-free Project Graduation Grad Night for ABRHS seniors\, thanks to dedicated volunteers and generous donors. Join us in our mission to provide a safe celebration\, free from alcohol and drugs\, exclusively for the graduating seniors of Acton-Boxborough Regional High School. \nFor more info\, go here. \nThere are still many tasks that need helpers\, from food prep to running games to chaperoning\, to Saturday morning cleanup (after you get a full nights sleep!). \nVolunteer for a shift here.
URL:https://www.actonexchange.org/event/abrhs-project-graduation-volunteers-needed/
LOCATION:Acton Boxborough Regional High School\, 36 Charter Road\, Acton\, MA\, 01720
END:VEVENT
BEGIN:VEVENT
DTSTART;TZID=America/New_York:20250526T100000
DTEND;TZID=America/New_York:20250526T110000
DTSTAMP:20260420T122317
CREATED:20250522T162817Z
LAST-MODIFIED:20250522T202410Z
UID:10002219-1748253600-1748257200@www.actonexchange.org
SUMMARY:Memorial Day Parade and Wreath Laying Ceremonies
DESCRIPTION:Let us come together as a community to remember and honor our nation’s heroes. \nJoin the Town of Acton Veteran Services Department and Celebration Committee as we pay tribute to our nation’s heroes. \nThe parade begins at 10 A.M. from the Acton Boxborough Regional High School\, proceeds along Hayward Road\, Main Street\, and Concord Road\, with a stop at the Town Common for a brief ceremony before\nculminating at Woodlawn Cemetery (on Concord Road) for the main ceremony. \nWe invite you to stand with us in honoring those who have served our country. Please\nnote that there is no rain date scheduled for this event. \nFor more information\, please contact James MacRae\, Acton Veterans’ Service Officer\, at (978) 929-6614 or jmacrae@actonma.gov.
URL:https://www.actonexchange.org/event/memorial-day-parade-and-wreath-laying-ceremonies/
LOCATION:Acton Boxborough Regional High School\, 36 Charter Road\, Acton\, MA\, 01720
END:VEVENT
BEGIN:VEVENT
DTSTART;TZID=America/New_York:20250411T190000
DTEND;TZID=America/New_York:20250411T213000
DTSTAMP:20260420T122317
CREATED:20250404T135323Z
LAST-MODIFIED:20250404T135323Z
UID:10002082-1744398000-1744407000@www.actonexchange.org
SUMMARY:Swing Night ~ AB's Annual Night of Jazz & Dancing!
DESCRIPTION:Enjoy live music by the ABRHS Jazz Band and Combos\, AB’s Orquesta de la Revolucion\, RJ Grey Jazz Ensemble\, and the Soft Touch Big Band. Swing Night is fun for all ages—come to dance or come to listen. Tickets will be sold at the door\, $5 for students and seniors\, $10 for adults. \nBring your dancing shoes to the Stearns (lower) Gym at ABRHS! \nFor more info\, see the AB Friends of Music website at https://abfom.org/
URL:https://www.actonexchange.org/event/swing-night-abs-annual-night-of-jazz-dancing/
LOCATION:Acton Boxborough Regional High School\, 36 Charter Road\, Acton\, MA\, 01720
END:VEVENT
END:VCALENDAR