BEGIN:VCALENDAR
VERSION:2.0
PRODID:-//The Acton Exchange - ECPv6.15.17.1//NONSGML v1.0//EN
CALSCALE:GREGORIAN
METHOD:PUBLISH
X-ORIGINAL-URL:https://www.actonexchange.org
X-WR-CALDESC:Events for The Acton Exchange
REFRESH-INTERVAL;VALUE=DURATION:PT1H
X-Robots-Tag:noindex
X-PUBLISHED-TTL:PT1H
BEGIN:VTIMEZONE
TZID:America/New_York
BEGIN:DAYLIGHT
TZOFFSETFROM:-0500
TZOFFSETTO:-0400
TZNAME:EDT
DTSTART:20240310T070000
END:DAYLIGHT
BEGIN:STANDARD
TZOFFSETFROM:-0400
TZOFFSETTO:-0500
TZNAME:EST
DTSTART:20241103T060000
END:STANDARD
BEGIN:DAYLIGHT
TZOFFSETFROM:-0500
TZOFFSETTO:-0400
TZNAME:EDT
DTSTART:20250309T070000
END:DAYLIGHT
BEGIN:STANDARD
TZOFFSETFROM:-0400
TZOFFSETTO:-0500
TZNAME:EST
DTSTART:20251102T060000
END:STANDARD
BEGIN:DAYLIGHT
TZOFFSETFROM:-0500
TZOFFSETTO:-0400
TZNAME:EDT
DTSTART:20260308T070000
END:DAYLIGHT
BEGIN:STANDARD
TZOFFSETFROM:-0400
TZOFFSETTO:-0500
TZNAME:EST
DTSTART:20261101T060000
END:STANDARD
END:VTIMEZONE
BEGIN:VEVENT
DTSTART;TZID=America/New_York:20250402T143000
DTEND;TZID=America/New_York:20250402T160000
DTSTAMP:20260423T101736
CREATED:20250330T155010Z
LAST-MODIFIED:20250330T164557Z
UID:10002041-1743604200-1743609600@www.actonexchange.org
SUMMARY:Earth Month: AB STEAM Nature Walk
DESCRIPTION:The Acton-Boxborough Science Technology Engineering Art Math (AB STEAM) team invites you to celebrate spring       on Wednesday\, April 2\, 2025\, 2:30-4pm (AB elementary school half-day)  to explore local nature at the Acton Arboretum! This guided nature walk will be led by Acton’s own naturalist\, Ian Bergemann\, from the Acton Conservation Division. \nFREE Family-friendly event (Age 5+ children + adults). Join AB STEAM at the entrance to Acton Arboretum (10 Taylor Road Acton). Rain or shine. \nFor more information\, see Nature Walk — AB STEAM. \nActon Nature Guides will be available during the Acton nature walk for $10 (proceeds benefit AB STEAM non-profit activities) or from local retailers: Kitchen Outfitters\, Pedal Power Bike & Ski\, and Silver Unicorn Bookstore.
URL:https://www.actonexchange.org/event/ab-steam-nature-walk/
LOCATION:Acton Arboretum\, 2 Taylor Road\, Acton\, MA\, 01720\, United States
END:VEVENT
END:VCALENDAR