BEGIN:VCALENDAR
VERSION:2.0
PRODID:-//The Acton Exchange - ECPv6.15.17.1//NONSGML v1.0//EN
CALSCALE:GREGORIAN
METHOD:PUBLISH
X-WR-CALNAME:The Acton Exchange
X-ORIGINAL-URL:https://www.actonexchange.org
X-WR-CALDESC:Events for The Acton Exchange
REFRESH-INTERVAL;VALUE=DURATION:PT1H
X-Robots-Tag:noindex
X-PUBLISHED-TTL:PT1H
BEGIN:VTIMEZONE
TZID:America/New_York
BEGIN:DAYLIGHT
TZOFFSETFROM:-0500
TZOFFSETTO:-0400
TZNAME:EDT
DTSTART:20240310T070000
END:DAYLIGHT
BEGIN:STANDARD
TZOFFSETFROM:-0400
TZOFFSETTO:-0500
TZNAME:EST
DTSTART:20241103T060000
END:STANDARD
BEGIN:DAYLIGHT
TZOFFSETFROM:-0500
TZOFFSETTO:-0400
TZNAME:EDT
DTSTART:20250309T070000
END:DAYLIGHT
BEGIN:STANDARD
TZOFFSETFROM:-0400
TZOFFSETTO:-0500
TZNAME:EST
DTSTART:20251102T060000
END:STANDARD
BEGIN:DAYLIGHT
TZOFFSETFROM:-0500
TZOFFSETTO:-0400
TZNAME:EDT
DTSTART:20260308T070000
END:DAYLIGHT
BEGIN:STANDARD
TZOFFSETFROM:-0400
TZOFFSETTO:-0500
TZNAME:EST
DTSTART:20261101T060000
END:STANDARD
END:VTIMEZONE
BEGIN:VEVENT
DTSTART;TZID=America/New_York:20250807T190000
DTEND;TZID=America/New_York:20250807T210000
DTSTAMP:20260419T144342
CREATED:20250801T132049Z
LAST-MODIFIED:20250801T132400Z
UID:10002551-1754593200-1754600400@www.actonexchange.org
SUMMARY:AB Community Band Summer Finale
DESCRIPTION:Bang a drum\, toot a flute or blow your horn… you are invited to the Acton-Boxborough Community Band Summer finale on Thursday\, August 7\, 2025 at 7pm.\n\nEvery summer we end with an open rehearsal\, where community members can participate in the culminating evening of our summer session.  We read through lots of fun\, familiar and fascinating literature\, and you are welcome to bring an instrument\, or just observe how we keep our fiddles flying and french horns functional.\n\nThe event is free and open to the public\, and held in the ABRHS band room. Park in the Hayward Road lot and enter by the gazebo.  For more information\, contact Dr. David Manuel Garcia\, director at drdavidmanuelgarcia@gmail.com or Kimberly O’Shaughnessy\, Program Director at koshaughnessy@abschools.org.
URL:https://www.actonexchange.org/event/ab-community-band-summer-finale/
LOCATION:ABRHS Band Room\, 36 Charter Road\, Room 115N\, Acton\, MA\, 01720
END:VEVENT
END:VCALENDAR