BEGIN:VCALENDAR
VERSION:2.0
PRODID:-//The Acton Exchange - ECPv6.15.17.1//NONSGML v1.0//EN
CALSCALE:GREGORIAN
METHOD:PUBLISH
X-ORIGINAL-URL:https://www.actonexchange.org
X-WR-CALDESC:Events for The Acton Exchange
REFRESH-INTERVAL;VALUE=DURATION:PT1H
X-Robots-Tag:noindex
X-PUBLISHED-TTL:PT1H
BEGIN:VTIMEZONE
TZID:America/New_York
BEGIN:DAYLIGHT
TZOFFSETFROM:-0500
TZOFFSETTO:-0400
TZNAME:EDT
DTSTART:20250309T070000
END:DAYLIGHT
BEGIN:STANDARD
TZOFFSETFROM:-0400
TZOFFSETTO:-0500
TZNAME:EST
DTSTART:20251102T060000
END:STANDARD
BEGIN:DAYLIGHT
TZOFFSETFROM:-0500
TZOFFSETTO:-0400
TZNAME:EDT
DTSTART:20260308T070000
END:DAYLIGHT
BEGIN:STANDARD
TZOFFSETFROM:-0400
TZOFFSETTO:-0500
TZNAME:EST
DTSTART:20261101T060000
END:STANDARD
BEGIN:DAYLIGHT
TZOFFSETFROM:-0500
TZOFFSETTO:-0400
TZNAME:EDT
DTSTART:20270314T070000
END:DAYLIGHT
BEGIN:STANDARD
TZOFFSETFROM:-0400
TZOFFSETTO:-0500
TZNAME:EST
DTSTART:20271107T060000
END:STANDARD
END:VTIMEZONE
BEGIN:VEVENT
DTSTART;TZID=America/New_York:20260425T200000
DTEND;TZID=America/New_York:20260425T223000
DTSTAMP:20260420T125248
CREATED:20260406T202151Z
LAST-MODIFIED:20260406T202151Z
UID:10003941-1777147200-1777156200@www.actonexchange.org
SUMMARY:Concord Players: Brigadoon
DESCRIPTION:The Concord Players present Lerner & Loewe’s classic musical Brigadoon April 24 – May 9\nNew Yorker Tommy Albright stumbles upon the village of Brigadoon and falls in love with the beautiful las\, Fiona\, but they only appear once every 100 years for a single day.\n\nActon residents Samantha Casale and Ben Hardt are in the cast.\n\nWill Tommy return to his modern life or vanish into the mist with Fiona and the village?
URL:https://www.actonexchange.org/event/concord-players-brigadoon/2026-04-25/
LOCATION:51 Walden\, 51 Walden Street\, Concord\, MA\, 01742\, United States
END:VEVENT
BEGIN:VEVENT
DTSTART;TZID=America/New_York:20260426T120000
DTEND;TZID=America/New_York:20260426T140000
DTSTAMP:20260420T125248
CREATED:20260416T002455Z
LAST-MODIFIED:20260416T002455Z
UID:10004053-1777204800-1777212000@www.actonexchange.org
SUMMARY:Acton Clean-Up: Invasive Garlic Mustard pull
DESCRIPTION:Invasive Garlic Mustard (IGM) pull at Great Hill: register here \nActon residents\, businesses\, town staff\, and organizations work together to support a spring-time clean-up — a time for everyone to help pick up trash and recyclables in public areas around town.
URL:https://www.actonexchange.org/event/acton-clean-up-invasive-garlic-mustard-pull-2/
LOCATION:Great Hill Conservation Land\, 204 Main Street (and other access points)\, Acton\, MA\, 01720
ORGANIZER;CN="Green Acton":MAILTO:info@greenacton.org
END:VEVENT
BEGIN:VEVENT
DTSTART;TZID=America/New_York:20260426T140000
DTEND;TZID=America/New_York:20260426T153000
DTSTAMP:20260420T125248
CREATED:20260326T011742Z
LAST-MODIFIED:20260326T011742Z
UID:10003790-1777212000-1777217400@www.actonexchange.org
SUMMARY:Library: Harmonies of Nature - A concert-lecture about birdsong
DESCRIPTION:Sign up on the program page on our website here! \nPresented by SHE in conjunction with our art exhibit The World We Share – a concert-lecture that goes beyond music to showcase the beauty and complexities of birdsong. With composer Alexander Liebermann and musicians Sophia Szokolay (violin I)\, Hannah Goldstick (violin II)\, Maureen Sheehan (viola)\, and Alan Toda-Ambaras (violoncello).
URL:https://www.actonexchange.org/event/library-harmonies-of-nature-a-concert-lecture-about-birdsong/
LOCATION:Acton Memorial Library Meeting Room (1st floor)\, 486 Main Street\, Acton\, MA\, 01720\, United States
END:VEVENT
BEGIN:VEVENT
DTSTART;TZID=America/New_York:20260426T140000
DTEND;TZID=America/New_York:20260426T163000
DTSTAMP:20260420T125248
CREATED:20260406T202151Z
LAST-MODIFIED:20260406T202151Z
UID:10003942-1777212000-1777221000@www.actonexchange.org
SUMMARY:Concord Players: Brigadoon
DESCRIPTION:The Concord Players present Lerner & Loewe’s classic musical Brigadoon April 24 – May 9\nNew Yorker Tommy Albright stumbles upon the village of Brigadoon and falls in love with the beautiful las\, Fiona\, but they only appear once every 100 years for a single day.\n\nActon residents Samantha Casale and Ben Hardt are in the cast.\n\nWill Tommy return to his modern life or vanish into the mist with Fiona and the village?
URL:https://www.actonexchange.org/event/concord-players-brigadoon/2026-04-26/
LOCATION:51 Walden\, 51 Walden Street\, Concord\, MA\, 01742\, United States
END:VEVENT
BEGIN:VEVENT
DTSTART;TZID=America/New_York:20260427T113000
DTEND;TZID=America/New_York:20260427T123000
DTSTAMP:20260420T125248
CREATED:20260326T011933Z
LAST-MODIFIED:20260326T011933Z
UID:10003791-1777289400-1777293000@www.actonexchange.org
SUMMARY:Acton COA Presents The Poetry & Stories of Langston Hughes Seminar with Stephen Collins
DESCRIPTION:Open to out-of-towners age 60+ starting April 6th for $20/series \nLangston Hughes (1901-1967) was a Harlem poet\, playwright\, novelist and short story writer. He was a leading member of The Harlem Renaissance and was greatly influenced by the poetry of Walt Whitman. His poems continually ask the question: What does it mean to be an American? We will study many of his iconic poems and read three of his short stories. Students should purchase Vintage Hughes\, published by Vintage Books in paperback that retails for $14. \nPreregistration is required. Please call 978-929-6652 to register.
URL:https://www.actonexchange.org/event/acton-coa-presents-the-poetry-stories-of-langston-hughes-seminar-with-stephen-collins/2026-04-27/
LOCATION:Acton Senior Center\, 30 Sudbury Road Rear\, Acton\, MA\, 01720
ORGANIZER;CN="Acton Council on Aging":MAILTO:seniorcenter@actonma.gov
END:VEVENT
BEGIN:VEVENT
DTSTART;TZID=America/New_York:20260427T130000
DTEND;TZID=America/New_York:20260427T150000
DTSTAMP:20260420T125248
CREATED:20260416T003458Z
LAST-MODIFIED:20260416T003458Z
UID:10004054-1777294800-1777302000@www.actonexchange.org
SUMMARY:Acton Clean-Up: Litter pickup
DESCRIPTION:Litter pickup at Anderson Conservation Area: register here \nActon residents\, businesses\, town staff\, and organizations work together to support a spring-time clean-up — a time for everyone to help pick up trash and recyclables in public areas around town.
URL:https://www.actonexchange.org/event/acton-clean-up-litter-pickup-3/
ORGANIZER;CN="Green Acton":MAILTO:info@greenacton.org
END:VEVENT
BEGIN:VEVENT
DTSTART;TZID=America/New_York:20260427T183000
DTEND;TZID=America/New_York:20260427T193000
DTSTAMP:20260420T125248
CREATED:20260323T230810Z
LAST-MODIFIED:20260323T230810Z
UID:10003739-1777314600-1777318200@www.actonexchange.org
SUMMARY:Library: Line Dancing Social Hour
DESCRIPTION:Sign up on the program page on our website here! \nThis is not a structured lesson\, just an opportunity to dance socially with others.
URL:https://www.actonexchange.org/event/library-line-dancing-social-hour-6/2026-04-27/
LOCATION:Acton Memorial Library Meeting Room (1st floor)\, 486 Main Street\, Acton\, MA\, 01720\, United States
END:VEVENT
BEGIN:VEVENT
DTSTART;TZID=America/New_York:20260428T070000
DTEND;TZID=America/New_York:20260428T200000
DTSTAMP:20260420T125248
CREATED:20260406T211816Z
LAST-MODIFIED:20260406T212014Z
UID:10003951-1777359600-1777406400@www.actonexchange.org
SUMMARY:Town Election Day. VOTE!
DESCRIPTION:If you didn’t vote by mail\, today is your day to get your voice counted for Acton Town candidates! \nTo see the sample ballot and more information about voting\, see Elections and Voting.
URL:https://www.actonexchange.org/event/election-day-vote/
LOCATION:RJ Grey Junior High\, 16 Charter Road\, Acton\, MA\, 01720\, United States
END:VEVENT
BEGIN:VEVENT
DTSTART;TZID=America/New_York:20260428T130000
DTEND;TZID=America/New_York:20260428T140000
DTSTAMP:20260420T125248
CREATED:20260325T234001Z
LAST-MODIFIED:20260325T234001Z
UID:10003753-1777381200-1777384800@www.actonexchange.org
SUMMARY:Library: Cookbook Club @ West
DESCRIPTION:Sign up on the program page on our website here! \nBring a dish from the cookbook to share—and come hungry! \nThis month’s book is: Half baked harvest every day: recipes for balanced\, flexible\, feel-good meals by Tieghan Gerard
URL:https://www.actonexchange.org/event/library-cookbook-club-west-3/
LOCATION:West Acton Citizens’ Library\, 21 Windsor Avenue\, Acton\, 01720
ORGANIZER;CN="West Acton Citizens' Library":MAILTO:WACL@actonma.gov
END:VEVENT
BEGIN:VEVENT
DTSTART;TZID=America/New_York:20260428T150000
DTEND;TZID=America/New_York:20260428T160000
DTSTAMP:20260420T125248
CREATED:20250320T183204Z
LAST-MODIFIED:20251227T235413Z
UID:10001707-1777388400-1777392000@www.actonexchange.org
SUMMARY:Library: Yarn & Needle Club
DESCRIPTION:Knitters\, crocheters\, embroiderers\, and sewers\, join the library to work on your project and socialize! We meet every 2nd and 4th Tuesday of the month.
URL:https://www.actonexchange.org/event/library-yarn-needle-club/2026-04-28/
LOCATION:Acton Memorial Library Meeting Room (1st floor)\, 486 Main Street\, Acton\, MA\, 01720\, United States
END:VEVENT
BEGIN:VEVENT
DTSTART;TZID=America/New_York:20260428T170000
DTEND;TZID=America/New_York:20260428T184500
DTSTAMP:20260420T125248
CREATED:20260406T211321Z
LAST-MODIFIED:20260406T211321Z
UID:10003950-1777395600-1777401900@www.actonexchange.org
SUMMARY:LWV: Town Meeting info session
DESCRIPTION:Do you have questions about Town Meeting? Want to know more about specific articles? \nCome to the League of Women Voters Town Meeting drop-in info session. \nMeet article sponsors!\nAsk questions!\nLearn more before you vote! \n 
URL:https://www.actonexchange.org/event/lwv-town-meeting-info-session/
LOCATION:Acton Memorial Library Meeting Room (1st floor)\, 486 Main Street\, Acton\, MA\, 01720\, United States
ORGANIZER;CN="League of Women Voters":MAILTO:steering-lwv-actonarea@googlegroups.com
END:VEVENT
BEGIN:VEVENT
DTSTART;TZID=America/New_York:20260428T173000
DTEND;TZID=America/New_York:20260428T183000
DTSTAMP:20260420T125248
CREATED:20260325T234225Z
LAST-MODIFIED:20260325T234225Z
UID:10003754-1777397400-1777401000@www.actonexchange.org
SUMMARY:Library: Cookbook Club @ AML
DESCRIPTION:Sign up on the program page on our website here! \nBring a dish from the cookbook to share—and come hungry! \nThis month’s book is: Half baked harvest every day: recipes for balanced\, flexible\, feel-good meals by Tieghan Gerard
URL:https://www.actonexchange.org/event/library-cookbook-club-aml-4/
LOCATION:Acton Memorial Library Conference Room (2nd floor)\, 486 Main Street\, Acton\, MA\, 01720\, United States
END:VEVENT
BEGIN:VEVENT
DTSTART;TZID=America/New_York:20260429T094500
DTEND;TZID=America/New_York:20260429T120000
DTSTAMP:20260420T125248
CREATED:20260218T170934Z
LAST-MODIFIED:20260218T170934Z
UID:10003671-1777455900-1777464000@www.actonexchange.org
SUMMARY:AB Unified Games Day (with Special Olympics MA)
DESCRIPTION:As a unified Champion School\, Acton-Boxborough Schools partner with Special Olympics Massachusetts (SOMA) to participate in a one-day Track and Field event hosted by ABRHS. \nThis is Acton-Boxborough’s 7th time to participate in Unified School Day Games. Students from ABRHS\, RJ Grey JHS\, and Elementary Schools will participate as athletes and partners\, supported by staff members and High School student volunteers.
URL:https://www.actonexchange.org/event/ab-unified-games-day-with-special-olympics-ma/
LOCATION:Leary Field\, ABRHS\, 22 Charter Road\, Acton\, MA\, 01720\, United States
END:VEVENT
BEGIN:VEVENT
DTSTART;TZID=America/New_York:20260429T161500
DTEND;TZID=America/New_York:20260429T173000
DTSTAMP:20260420T125248
CREATED:20260326T003036Z
LAST-MODIFIED:20260330T150247Z
UID:10003856-1777479300-1777483800@www.actonexchange.org
SUMMARY:Acton Community Supper – April
DESCRIPTION:Welcome the warmth and beautiful colors of Spring as the flowers and buds begin to pop around us. We look forward to sharing a meal and friendship with you every Wednesday. \nApril 2026 menu \nApril 1       Baked Ziti and Garlic Bread\nSponsored by Friends of Mike Tobia \nApril 8       Chicken Chili and Corn Bread\nSponsored by Friends of Community Supper \nApril 15      Chicken and Dumplings\nSponsored by Mt Calvary Lutheran Church \nApril 22     BBQ Chicken and Tater Tots\nSponsored by Boston Metro West Bible Church of Littleton \nApril 29      Hot Dogs with all the “Fixins”\nSponsored by Congregation Beth Elohim \nDinner is served 4:30pm – 5:30pm. Doors open at 4:15pm. Please\, do not enter prior so our volunteers can prepare your Supper. \nParking: Park your car in the back parking lot and enter from the walkway to the church door. \nhttp://www.mtcalvaryacton.org/Community-Supper \nhttp://www.facebook.com/CommunitySupperofActonMA
URL:https://www.actonexchange.org/event/acton-community-supper-april-2/2026-04-29/
LOCATION:Mt Cavalry Lutheran Church\, 472 Massachusetts Ave.\, Acton\, MA\, 01720
END:VEVENT
BEGIN:VEVENT
DTSTART;TZID=America/New_York:20260429T180000
DTEND;TZID=America/New_York:20260429T190000
DTSTAMP:20260420T125248
CREATED:20260323T231137Z
LAST-MODIFIED:20260323T231137Z
UID:10003749-1777485600-1777489200@www.actonexchange.org
SUMMARY:Library: Author Talk Series - "A Long Walk Down a Winding Road" by Sam Farmer
DESCRIPTION:Sign up on the program page on our website here! \nA Long Walk Down a Winding Road by Sam Farmer. \nJoin us at Acton Memorial Library for a discussion and questions from Sam Farmer. Stick around for a signed copy of the book! \nYou do not need to read the book ahead of time to attend.
URL:https://www.actonexchange.org/event/library-author-talk-series-a-long-walk-down-a-winding-road-by-sam-farmer/
LOCATION:Acton Memorial Library Meeting Room (1st floor)\, 486 Main Street\, Acton\, MA\, 01720\, United States
END:VEVENT
BEGIN:VEVENT
DTSTART;TZID=America/New_York:20260429T190000
DTEND;TZID=America/New_York:20260429T200000
DTSTAMP:20260420T125248
CREATED:20260407T154636Z
LAST-MODIFIED:20260407T154636Z
UID:10003954-1777489200-1777492800@www.actonexchange.org
SUMMARY:EnergizeActon: Why Climate Goals Matter
DESCRIPTION:As the state legislature considers cutting back on clean energy incentives\, do climate goals still matter? Is a renewable future too challenging and\, as some claim\, too expensive? Join Amanda Barker of the Green Energy Consumers Alliance as she looks at Massachusetts climate goals\, where we stand at reaching targets (looking at heating and cooling goals in particular)\, and why renewable energy is not only doable but necessary for a reliable\, independent\, healthy energy future. \nRegister for Zoom link at: https://energizeacton.org/event/why-climate-goals-matter/
URL:https://www.actonexchange.org/event/energizeacton-why-climate-goals-matter/
LOCATION:Zoom
END:VEVENT
BEGIN:VEVENT
DTSTART;TZID=America/New_York:20260430T180000
DTEND;TZID=America/New_York:20260430T193000
DTSTAMP:20260420T125248
CREATED:20260326T012036Z
LAST-MODIFIED:20260326T012036Z
UID:10003849-1777572000-1777577400@www.actonexchange.org
SUMMARY:Library: How to Fight Climate Change\, One Garden at a Time
DESCRIPTION:Sign up on the program page on our website here!  \nCome hear what you can do in your own backyard (and front yard) to address climate change and make your landscape come alive. We will talk trees and shrubs and perennials with Demetra Tseckares the owner of Gardens by Demetra.
URL:https://www.actonexchange.org/event/library-how-to-fight-climate-change-one-garden-at-a-time/
LOCATION:Acton Memorial Library Meeting Room (1st floor)\, 486 Main Street\, Acton\, MA\, 01720\, United States
END:VEVENT
END:VCALENDAR