BEGIN:VCALENDAR
VERSION:2.0
PRODID:-//The Acton Exchange - ECPv6.15.17.1//NONSGML v1.0//EN
CALSCALE:GREGORIAN
METHOD:PUBLISH
X-ORIGINAL-URL:https://www.actonexchange.org
X-WR-CALDESC:Events for The Acton Exchange
REFRESH-INTERVAL;VALUE=DURATION:PT1H
X-Robots-Tag:noindex
X-PUBLISHED-TTL:PT1H
BEGIN:VTIMEZONE
TZID:America/New_York
BEGIN:DAYLIGHT
TZOFFSETFROM:-0500
TZOFFSETTO:-0400
TZNAME:EDT
DTSTART:20250309T070000
END:DAYLIGHT
BEGIN:STANDARD
TZOFFSETFROM:-0400
TZOFFSETTO:-0500
TZNAME:EST
DTSTART:20251102T060000
END:STANDARD
BEGIN:DAYLIGHT
TZOFFSETFROM:-0500
TZOFFSETTO:-0400
TZNAME:EDT
DTSTART:20260308T070000
END:DAYLIGHT
BEGIN:STANDARD
TZOFFSETFROM:-0400
TZOFFSETTO:-0500
TZNAME:EST
DTSTART:20261101T060000
END:STANDARD
BEGIN:DAYLIGHT
TZOFFSETFROM:-0500
TZOFFSETTO:-0400
TZNAME:EDT
DTSTART:20270314T070000
END:DAYLIGHT
BEGIN:STANDARD
TZOFFSETFROM:-0400
TZOFFSETTO:-0500
TZNAME:EST
DTSTART:20271107T060000
END:STANDARD
END:VTIMEZONE
BEGIN:VEVENT
DTSTART;TZID=America/New_York:20260509T090000
DTEND;TZID=America/New_York:20260509T150000
DTSTAMP:20260419T115442
CREATED:20260413T202637Z
LAST-MODIFIED:20260413T202637Z
UID:10004043-1778317200-1778338800@www.actonexchange.org
SUMMARY:West Acton Spring Fling!
DESCRIPTION:Join us for the West Acton Spring Fling! \nActivities for kids and adults throughout West Acton Village including: \n\nAB Community Compass 5K Run/Walk for Mental Health and Kids 1 Mile Fun Run 10:00 – noon\nWest Acton Baptist Church: Thrift Shop popup from noon to 3:00 & 50/50 raffle for Steeple project( also 3-D printed items)\nSilver Unicorn Bookstore: Hosting a bath towel drive with Household Goods\nAnd so much more!\n\nFor information\, see West Acton Village Spring Fling.
URL:https://www.actonexchange.org/event/west-acton-spring-fling/
LOCATION:West Acton Village\, 588 Mass Ave\, Acton\, MA\, 01720
END:VEVENT
END:VCALENDAR