BEGIN:VCALENDAR
VERSION:2.0
PRODID:-//The Acton Exchange - ECPv6.15.17.1//NONSGML v1.0//EN
CALSCALE:GREGORIAN
METHOD:PUBLISH
X-WR-CALNAME:The Acton Exchange
X-ORIGINAL-URL:https://www.actonexchange.org
X-WR-CALDESC:Events for The Acton Exchange
REFRESH-INTERVAL;VALUE=DURATION:PT1H
X-Robots-Tag:noindex
X-PUBLISHED-TTL:PT1H
BEGIN:VTIMEZONE
TZID:America/New_York
BEGIN:DAYLIGHT
TZOFFSETFROM:-0500
TZOFFSETTO:-0400
TZNAME:EDT
DTSTART:20250309T070000
END:DAYLIGHT
BEGIN:STANDARD
TZOFFSETFROM:-0400
TZOFFSETTO:-0500
TZNAME:EST
DTSTART:20251102T060000
END:STANDARD
BEGIN:DAYLIGHT
TZOFFSETFROM:-0500
TZOFFSETTO:-0400
TZNAME:EDT
DTSTART:20260308T070000
END:DAYLIGHT
BEGIN:STANDARD
TZOFFSETFROM:-0400
TZOFFSETTO:-0500
TZNAME:EST
DTSTART:20261101T060000
END:STANDARD
BEGIN:DAYLIGHT
TZOFFSETFROM:-0500
TZOFFSETTO:-0400
TZNAME:EDT
DTSTART:20270314T070000
END:DAYLIGHT
BEGIN:STANDARD
TZOFFSETFROM:-0400
TZOFFSETTO:-0500
TZNAME:EST
DTSTART:20271107T060000
END:STANDARD
END:VTIMEZONE
BEGIN:VEVENT
DTSTART;TZID=America/New_York:20260422T190000
DTEND;TZID=America/New_York:20260422T200000
DTSTAMP:20260421T024745
CREATED:20260407T154235Z
LAST-MODIFIED:20260407T154235Z
UID:10003953-1776884400-1776888000@www.actonexchange.org
SUMMARY:Energize Acton: Heat Pumps 101
DESCRIPTION:Bob Zogg\, co-founder of the HeatSmart Alliance\, and Kit Wu\, of the Laminar Collective\, share their great knowledge of home heat pumps and pricing. Find out about air source and ground source heat pumps for improved heating/cooling energy efficiency\, air quality\, home comfort\, and low emissions. Plus\, learn about significant Mass Save incentives. \nRegister for Zoom link at: https://energizeacton.org/event/heat-pumps-101/ \n 
URL:https://www.actonexchange.org/event/energize-acton-heat-pumps-101/
LOCATION:Zoom
END:VEVENT
END:VCALENDAR