BEGIN:VCALENDAR
VERSION:2.0
PRODID:-//The Acton Exchange - ECPv6.15.17.1//NONSGML v1.0//EN
CALSCALE:GREGORIAN
METHOD:PUBLISH
X-WR-CALNAME:The Acton Exchange
X-ORIGINAL-URL:https://www.actonexchange.org
X-WR-CALDESC:Events for The Acton Exchange
REFRESH-INTERVAL;VALUE=DURATION:PT1H
X-Robots-Tag:noindex
X-PUBLISHED-TTL:PT1H
BEGIN:VTIMEZONE
TZID:America/New_York
BEGIN:DAYLIGHT
TZOFFSETFROM:-0500
TZOFFSETTO:-0400
TZNAME:EDT
DTSTART:20240310T070000
END:DAYLIGHT
BEGIN:STANDARD
TZOFFSETFROM:-0400
TZOFFSETTO:-0500
TZNAME:EST
DTSTART:20241103T060000
END:STANDARD
BEGIN:DAYLIGHT
TZOFFSETFROM:-0500
TZOFFSETTO:-0400
TZNAME:EDT
DTSTART:20250309T070000
END:DAYLIGHT
BEGIN:STANDARD
TZOFFSETFROM:-0400
TZOFFSETTO:-0500
TZNAME:EST
DTSTART:20251102T060000
END:STANDARD
BEGIN:DAYLIGHT
TZOFFSETFROM:-0500
TZOFFSETTO:-0400
TZNAME:EDT
DTSTART:20260308T070000
END:DAYLIGHT
BEGIN:STANDARD
TZOFFSETFROM:-0400
TZOFFSETTO:-0500
TZNAME:EST
DTSTART:20261101T060000
END:STANDARD
END:VTIMEZONE
BEGIN:VEVENT
DTSTART;TZID=America/New_York:20251014T190000
DTEND;TZID=America/New_York:20251014T204500
DTSTAMP:20260420T200306
CREATED:20250209T155517Z
LAST-MODIFIED:20250428T185228Z
UID:10001182-1760468400-1760474700@www.actonexchange.org
SUMMARY:Green Acton monthly meeting
DESCRIPTION:Green Acton works to protect and enhance Acton’s natural environment and resources for present and future generations\, and to help resolve the urgent environmental issues that transcend Acton’s boundaries.  The group meets monthly (except for August) on the second Tuesday of the month\, usually by zoom but occasionally in person.  To learn more about Green Acton’s mission\, accomplishments\, and ongoing work\, visit https://greenacton.org/ \nTo get the agenda and zoom link for the upcoming monthly meeting\, email info@greenacton.org \nIn addition to the all-topics monthly meeting\, the individual committees hold more specialized meetings;  topical committees are Biodiversity\, Energy\, Materials (e.g plastics\, toxics\, recycling)\, Land Use (e.g. zoning)\, and Water.  To find the dates for committee meetings visit the Green Acton Upcoming Events page at: https://greenacton.org/calendar/
URL:https://www.actonexchange.org/event/green-acton-monthly-meeting/2025-10-14/
LOCATION:Zoom
ORGANIZER;CN="Green Acton":MAILTO:info@greenacton.org
END:VEVENT
BEGIN:VEVENT
DTSTART;TZID=America/New_York:20250913T100000
DTEND;TZID=America/New_York:20250913T130000
DTSTAMP:20260420T200306
CREATED:20250902T130116Z
LAST-MODIFIED:20250902T130116Z
UID:10002668-1757757600-1757768400@www.actonexchange.org
SUMMARY:FREE Fixit Clinic!
DESCRIPTION:Got broken stuff you think you could fix with expert help?  \nCome to the FREE Green Acton Fixit Clinic at the Acton Memorial Library. \n Our adept coaches have helped owners fix small appliances\, electronics\, clothing\, jewelry\, toys\, lamps and more.  \nWhile signing up is not required\, it helps to let the Fixit folks know what you’re bringing: Fixit Clinic item checkin. \nKnife sharpening too!
URL:https://www.actonexchange.org/event/free-fixit-clinic/
LOCATION:Acton Memorial Library Meeting Room (1st floor)\, 486 Main Street\, Acton\, MA\, 01720\, United States
ORGANIZER;CN="Green Acton":MAILTO:info@greenacton.org
END:VEVENT
BEGIN:VEVENT
DTSTART;TZID=America/New_York:20250909T190000
DTEND;TZID=America/New_York:20250909T204500
DTSTAMP:20260420T200306
CREATED:20250209T155517Z
LAST-MODIFIED:20250428T185228Z
UID:10001181-1757444400-1757450700@www.actonexchange.org
SUMMARY:Green Acton monthly meeting
DESCRIPTION:Green Acton works to protect and enhance Acton’s natural environment and resources for present and future generations\, and to help resolve the urgent environmental issues that transcend Acton’s boundaries.  The group meets monthly (except for August) on the second Tuesday of the month\, usually by zoom but occasionally in person.  To learn more about Green Acton’s mission\, accomplishments\, and ongoing work\, visit https://greenacton.org/ \nTo get the agenda and zoom link for the upcoming monthly meeting\, email info@greenacton.org \nIn addition to the all-topics monthly meeting\, the individual committees hold more specialized meetings;  topical committees are Biodiversity\, Energy\, Materials (e.g plastics\, toxics\, recycling)\, Land Use (e.g. zoning)\, and Water.  To find the dates for committee meetings visit the Green Acton Upcoming Events page at: https://greenacton.org/calendar/
URL:https://www.actonexchange.org/event/green-acton-monthly-meeting/2025-09-09/
LOCATION:Zoom
ORGANIZER;CN="Green Acton":MAILTO:info@greenacton.org
END:VEVENT
BEGIN:VEVENT
DTSTART;TZID=America/New_York:20250708T190000
DTEND;TZID=America/New_York:20250708T204500
DTSTAMP:20260420T200306
CREATED:20250209T155517Z
LAST-MODIFIED:20250428T185228Z
UID:10001180-1752001200-1752007500@www.actonexchange.org
SUMMARY:Green Acton monthly meeting
DESCRIPTION:Green Acton works to protect and enhance Acton’s natural environment and resources for present and future generations\, and to help resolve the urgent environmental issues that transcend Acton’s boundaries.  The group meets monthly (except for August) on the second Tuesday of the month\, usually by zoom but occasionally in person.  To learn more about Green Acton’s mission\, accomplishments\, and ongoing work\, visit https://greenacton.org/ \nTo get the agenda and zoom link for the upcoming monthly meeting\, email info@greenacton.org \nIn addition to the all-topics monthly meeting\, the individual committees hold more specialized meetings;  topical committees are Biodiversity\, Energy\, Materials (e.g plastics\, toxics\, recycling)\, Land Use (e.g. zoning)\, and Water.  To find the dates for committee meetings visit the Green Acton Upcoming Events page at: https://greenacton.org/calendar/
URL:https://www.actonexchange.org/event/green-acton-monthly-meeting/2025-07-08/
LOCATION:Zoom
ORGANIZER;CN="Green Acton":MAILTO:info@greenacton.org
END:VEVENT
BEGIN:VEVENT
DTSTART;TZID=America/New_York:20250610T190000
DTEND;TZID=America/New_York:20250610T204500
DTSTAMP:20260420T200306
CREATED:20250209T155517Z
LAST-MODIFIED:20250428T185228Z
UID:10001179-1749582000-1749588300@www.actonexchange.org
SUMMARY:Green Acton monthly meeting
DESCRIPTION:Green Acton works to protect and enhance Acton’s natural environment and resources for present and future generations\, and to help resolve the urgent environmental issues that transcend Acton’s boundaries.  The group meets monthly (except for August) on the second Tuesday of the month\, usually by zoom but occasionally in person.  To learn more about Green Acton’s mission\, accomplishments\, and ongoing work\, visit https://greenacton.org/ \nTo get the agenda and zoom link for the upcoming monthly meeting\, email info@greenacton.org \nIn addition to the all-topics monthly meeting\, the individual committees hold more specialized meetings;  topical committees are Biodiversity\, Energy\, Materials (e.g plastics\, toxics\, recycling)\, Land Use (e.g. zoning)\, and Water.  To find the dates for committee meetings visit the Green Acton Upcoming Events page at: https://greenacton.org/calendar/
URL:https://www.actonexchange.org/event/green-acton-monthly-meeting/2025-06-10/
LOCATION:Zoom
ORGANIZER;CN="Green Acton":MAILTO:info@greenacton.org
END:VEVENT
BEGIN:VEVENT
DTSTART;TZID=America/New_York:20250513T190000
DTEND;TZID=America/New_York:20250513T204500
DTSTAMP:20260420T200306
CREATED:20250209T155517Z
LAST-MODIFIED:20250428T185228Z
UID:10001178-1747162800-1747169100@www.actonexchange.org
SUMMARY:Green Acton monthly meeting
DESCRIPTION:Green Acton works to protect and enhance Acton’s natural environment and resources for present and future generations\, and to help resolve the urgent environmental issues that transcend Acton’s boundaries.  The group meets monthly (except for August) on the second Tuesday of the month\, usually by zoom but occasionally in person.  To learn more about Green Acton’s mission\, accomplishments\, and ongoing work\, visit https://greenacton.org/ \nTo get the agenda and zoom link for the upcoming monthly meeting\, email info@greenacton.org \nIn addition to the all-topics monthly meeting\, the individual committees hold more specialized meetings;  topical committees are Biodiversity\, Energy\, Materials (e.g plastics\, toxics\, recycling)\, Land Use (e.g. zoning)\, and Water.  To find the dates for committee meetings visit the Green Acton Upcoming Events page at: https://greenacton.org/calendar/
URL:https://www.actonexchange.org/event/green-acton-monthly-meeting/2025-05-13/
LOCATION:Zoom
ORGANIZER;CN="Green Acton":MAILTO:info@greenacton.org
END:VEVENT
BEGIN:VEVENT
DTSTART;TZID=America/New_York:20250408T190000
DTEND;TZID=America/New_York:20250408T204500
DTSTAMP:20260420T200306
CREATED:20250209T155517Z
LAST-MODIFIED:20250428T185228Z
UID:10001177-1744138800-1744145100@www.actonexchange.org
SUMMARY:Green Acton monthly meeting
DESCRIPTION:Green Acton works to protect and enhance Acton’s natural environment and resources for present and future generations\, and to help resolve the urgent environmental issues that transcend Acton’s boundaries.  The group meets monthly (except for August) on the second Tuesday of the month\, usually by zoom but occasionally in person.  To learn more about Green Acton’s mission\, accomplishments\, and ongoing work\, visit https://greenacton.org/ \nTo get the agenda and zoom link for the upcoming monthly meeting\, email info@greenacton.org \nIn addition to the all-topics monthly meeting\, the individual committees hold more specialized meetings;  topical committees are Biodiversity\, Energy\, Materials (e.g plastics\, toxics\, recycling)\, Land Use (e.g. zoning)\, and Water.  To find the dates for committee meetings visit the Green Acton Upcoming Events page at: https://greenacton.org/calendar/
URL:https://www.actonexchange.org/event/green-acton-monthly-meeting/2025-04-08/
LOCATION:Zoom
ORGANIZER;CN="Green Acton":MAILTO:info@greenacton.org
END:VEVENT
END:VCALENDAR