BEGIN:VCALENDAR
VERSION:2.0
PRODID:-//The Acton Exchange - ECPv6.15.17.1//NONSGML v1.0//EN
CALSCALE:GREGORIAN
METHOD:PUBLISH
X-WR-CALNAME:The Acton Exchange
X-ORIGINAL-URL:https://www.actonexchange.org
X-WR-CALDESC:Events for The Acton Exchange
REFRESH-INTERVAL;VALUE=DURATION:PT1H
X-Robots-Tag:noindex
X-PUBLISHED-TTL:PT1H
BEGIN:VTIMEZONE
TZID:America/New_York
BEGIN:DAYLIGHT
TZOFFSETFROM:-0500
TZOFFSETTO:-0400
TZNAME:EDT
DTSTART:20240310T070000
END:DAYLIGHT
BEGIN:STANDARD
TZOFFSETFROM:-0400
TZOFFSETTO:-0500
TZNAME:EST
DTSTART:20241103T060000
END:STANDARD
BEGIN:DAYLIGHT
TZOFFSETFROM:-0500
TZOFFSETTO:-0400
TZNAME:EDT
DTSTART:20250309T070000
END:DAYLIGHT
BEGIN:STANDARD
TZOFFSETFROM:-0400
TZOFFSETTO:-0500
TZNAME:EST
DTSTART:20251102T060000
END:STANDARD
BEGIN:DAYLIGHT
TZOFFSETFROM:-0500
TZOFFSETTO:-0400
TZNAME:EDT
DTSTART:20260308T070000
END:DAYLIGHT
BEGIN:STANDARD
TZOFFSETFROM:-0400
TZOFFSETTO:-0500
TZNAME:EST
DTSTART:20261101T060000
END:STANDARD
END:VTIMEZONE
BEGIN:VEVENT
DTSTART;TZID=America/New_York:20250621T163000
DTEND;TZID=America/New_York:20250621T203000
DTSTAMP:20260422T070626
CREATED:20250526T150641Z
LAST-MODIFIED:20250526T150641Z
UID:10002232-1750523400-1750537800@www.actonexchange.org
SUMMARY:Boston Area Gleaners: 6th Annual June Food Day
DESCRIPTION:Celebrate summer\, local food and community at Boston Area Gleaners’ 6th annual June Food Day! \nThis rain or shine celebration will be held on Saturday\, June 21st from 4:30-8:30pm at our headquarters at Stonefield Farm in Acton. Our biggest community event of the season will feature farm fun for all ages: there will be hay rides\, farm tours\, a raffle\, live music\, catered food and complimentary festive beverages. \nAny proceeds from this event will help to support our programs and further our mission to create an equitable and sustainable food system for our community. \nWe hope to see you there! \nLearn more and reserve your free tickets here!
URL:https://www.actonexchange.org/event/boston-area-gleaners-6th-annual-june-food-day/
LOCATION:Stonefield Farm (Boston Area Gleaners)\, 91 Martin Street\, Acton\, MA\, 01720\, United States
END:VEVENT
END:VCALENDAR