BEGIN:VCALENDAR
VERSION:2.0
PRODID:-//The Acton Exchange - ECPv6.15.17.1//NONSGML v1.0//EN
CALSCALE:GREGORIAN
METHOD:PUBLISH
X-WR-CALNAME:The Acton Exchange
X-ORIGINAL-URL:https://www.actonexchange.org
X-WR-CALDESC:Events for The Acton Exchange
REFRESH-INTERVAL;VALUE=DURATION:PT1H
X-Robots-Tag:noindex
X-PUBLISHED-TTL:PT1H
BEGIN:VTIMEZONE
TZID:America/New_York
BEGIN:DAYLIGHT
TZOFFSETFROM:-0500
TZOFFSETTO:-0400
TZNAME:EDT
DTSTART:20240310T070000
END:DAYLIGHT
BEGIN:STANDARD
TZOFFSETFROM:-0400
TZOFFSETTO:-0500
TZNAME:EST
DTSTART:20241103T060000
END:STANDARD
BEGIN:DAYLIGHT
TZOFFSETFROM:-0500
TZOFFSETTO:-0400
TZNAME:EDT
DTSTART:20250309T070000
END:DAYLIGHT
BEGIN:STANDARD
TZOFFSETFROM:-0400
TZOFFSETTO:-0500
TZNAME:EST
DTSTART:20251102T060000
END:STANDARD
BEGIN:DAYLIGHT
TZOFFSETFROM:-0500
TZOFFSETTO:-0400
TZNAME:EDT
DTSTART:20260308T070000
END:DAYLIGHT
BEGIN:STANDARD
TZOFFSETFROM:-0400
TZOFFSETTO:-0500
TZNAME:EST
DTSTART:20261101T060000
END:STANDARD
BEGIN:DAYLIGHT
TZOFFSETFROM:-0500
TZOFFSETTO:-0400
TZNAME:EDT
DTSTART:20270314T070000
END:DAYLIGHT
BEGIN:STANDARD
TZOFFSETFROM:-0400
TZOFFSETTO:-0500
TZNAME:EST
DTSTART:20271107T060000
END:STANDARD
END:VTIMEZONE
BEGIN:VEVENT
DTSTART;TZID=America/New_York:20260408T113000
DTEND;TZID=America/New_York:20260408T140000
DTSTAMP:20260420T023615
CREATED:20260330T151809Z
LAST-MODIFIED:20260330T151826Z
UID:10003914-1775647800-1775656800@www.actonexchange.org
SUMMARY:Acton Woman's Club: Storytelling program
DESCRIPTION:On Wednesday\, April 8\, David Gerratt of Fugitive Productions will guide a few courageous members of the Acton Woman’s Club in a riveting storytelling experience for the enjoyment of all.  You will probably laugh….maybe shed a tear.  For sure\, your heart will be opened\, memories will resurface\, and connections will be realized.\n\nThe 1pm program is open to all. If you’d like to join Club members for 11:30 lunch at the Acton Center clubhouse\, please call 978-263-5275 to let us know you are coming.\n\nThe Woman’s Club is collecting for  the Acton Food Pantry Collection. Members are asked to bring in food items or checks made out to the Acton Food Pantry.\n\nThe Acton Woman’s Club is open to any woman with an Acton connection. For more information\, their website is at Acton Woman’s Club.
URL:https://www.actonexchange.org/event/acton-womans-club-storytelling-program/
LOCATION:Acton Woman’s Club\, 504 Main St\, Acton\, MA\, 01720\, United States
ORGANIZER;CN="Acton Woman's Club":MAILTO:awc01720@gmail.com
END:VEVENT
BEGIN:VEVENT
DTSTART;TZID=America/New_York:20251008T113000
DTEND;TZID=America/New_York:20251008T133000
DTSTAMP:20260420T023615
CREATED:20251006T152758Z
LAST-MODIFIED:20251006T152758Z
UID:10003159-1759923000-1759930200@www.actonexchange.org
SUMMARY:Acton Woman's Club: Doug Halley speaks
DESCRIPTION:Doug Halley will be featured at the October 8 Acton Woman’s Club meeting. Doug will share  the history and significance of the Pine Hawk archaeological site in South Acton.  Acton’s most important archaeological discovery\, the site was surveyed prior to the construction of  Acton’s wastewater treatment plant on Adams Street while Halley was the Health Director of the town. More info on Pine Hawk: http://www.pinehawk.org\n\n\n\n\n\n\n\n\n\n\n\n\n\n\n\n\n\n\n\n\n\n\n\n\n\n\n\n\n\nFor an invitation to a light luncheon before the program\,  call 978 263-5275 or email us at awc01720@gmail.com.   The nonprofit Acton Woman’s Club is a place for fun and companionship.  We host  monthly lunches\, social/cultural events\, and interest groups. Any woman who lives or works in Acton or a surrounding town is welcome to join.\nFor more info: https://theactonwomansclub.org/
URL:https://www.actonexchange.org/event/acton-womans-club-doug-halley-speaks/
LOCATION:Acton Woman’s Club\, 504 Main St\, Acton\, MA\, 01720\, United States
ORGANIZER;CN="Acton Woman's Club":MAILTO:awc01720@gmail.com
END:VEVENT
BEGIN:VEVENT
DTSTART;TZID=America/New_York:20250910T113000
DTEND;TZID=America/New_York:20250910T140000
DTSTAMP:20260420T023615
CREATED:20250902T162358Z
LAST-MODIFIED:20250902T162358Z
UID:10002670-1757503800-1757512800@www.actonexchange.org
SUMMARY:Acton Woman's Club Meeting
DESCRIPTION:The Acton Woman’s Club’s September program features two Local Businesses: \n\nEve & Murray’s Farm to Home in West Acton Village carries American farmstead cheeses\, charcuterie\, natural wines\, craft beer\, and accompaniments. They will demonstrate putting together a charcuterie board which will be raffled off.\nGonzalo Condes de Bethencourt originally from Madrid recently opened a micro-bakery here in Acton\, where he crafts traditional\, European-style sourdough bread using time-honored techniques\, organic ingredients\, and fresh milled flour. He will tell about his journey to become a baker and provide samples of his breads.\n\nThis program will be proceeded by a light lunch and a short business meeting. \nFor an invitation\, leave a voice message at 978 263-5275 or email awc01720@gmail.com and a membership chair will get back to you. \nThe non-profit Acton Woman’s Club is a place for fun\, companionship and civic good works. Any woman who lives or works in Acton or a surrounding town may join. More information at https://theactonwomansclub.org/
URL:https://www.actonexchange.org/event/acton-womans-club-meeting/
LOCATION:Acton Woman’s Club\, 504 Main St\, Acton\, MA\, 01720\, United States
ORGANIZER;CN="Acton Woman's Club":MAILTO:awc01720@gmail.com
END:VEVENT
BEGIN:VEVENT
DTSTART;TZID=America/New_York:20250531T140000
DTEND;TZID=America/New_York:20250531T150000
DTSTAMP:20260420T023615
CREATED:20250515T133845Z
LAST-MODIFIED:20250515T133845Z
UID:10002193-1748700000-1748703600@www.actonexchange.org
SUMMARY:Richard Amir Piano Concert @ Acton Woman's Club
DESCRIPTION:Richard Amir entertained locally in early March.  He was such a hit\, the Acton Woman’s Club invited him to perform for the public in the upstairs ballroom of their Federalist-style antique Clubhouse.  Richard’s performance is a blend of music and storytelling.  After a 40 year career in business\, Richard taught himself to play the piano at age 66 and discovered a new career. \nThis free performance is offered to the public to celebrate the 110th  Anniversary of the founding of the Acton Woman’s Club\, with financial support from the Acton/Boxborough Cultural Council.  For more information about the Club\, go to https://theactonwomansclub.org/
URL:https://www.actonexchange.org/event/richard-amir-piano-concert-acton-womans-club/
LOCATION:Acton Woman’s Club\, 504 Main St\, Acton\, MA\, 01720\, United States
ORGANIZER;CN="Acton Woman's Club":MAILTO:awc01720@gmail.com
END:VEVENT
BEGIN:VEVENT
DTSTART;TZID=America/New_York:20250510T090000
DTEND;TZID=America/New_York:20250510T090000
DTSTAMP:20260420T023615
CREATED:20250506T214040Z
LAST-MODIFIED:20250506T214040Z
UID:10002180-1746867600-1746867600@www.actonexchange.org
SUMMARY:Acton Woman's Club Pie and Bake Sale
DESCRIPTION:Always popular and delicious!  During the sale\, you may ask for a tour of the antique Clubhouse building [ask for Margie or Brenda].  For more information about the Club\, or for information about renting the upstairs ballroom or vintage living and dining room\, see www.theactonwomansclub.org. \nBake Sale hours: 9am until sold out!
URL:https://www.actonexchange.org/event/acton-womans-club-pie-and-bake-sale/
LOCATION:Acton Woman’s Club\, 504 Main St\, Acton\, MA\, 01720\, United States
ORGANIZER;CN="Acton Woman's Club":MAILTO:awc01720@gmail.com
END:VEVENT
BEGIN:VEVENT
DTSTART;TZID=America/New_York:20250409T113000
DTEND;TZID=America/New_York:20250409T140000
DTSTAMP:20260420T023615
CREATED:20250330T150022Z
LAST-MODIFIED:20250330T150022Z
UID:10002039-1744198200-1744207200@www.actonexchange.org
SUMMARY:Acton Woman's Club: Between Us Sisters
DESCRIPTION:Join the Acton Woman’s Club on April 9 for a light lunch and original living history piece presented by Amy Cole and Stefanie Cloutier of the Concord Visitors Center. The two women will present an intimate conversation between Louisa May Alcott and her youngest sister May Alcott.\n\nThis event is open to all\, but to reserve a place\, leave a voice message at 978-263-5275 or email the Acton Woman’s Club at awc01720@gmail.com. Someone will get back to you with details.\n\nThe presentation will be preceded by a short business meeting.\n\nFor more information about the Acton Woman ‘s Club\, go to https://theactonwomansclub.org/.
URL:https://www.actonexchange.org/event/acton-womans-club-between-us-sisters/
LOCATION:Acton Woman’s Club\, 504 Main St\, Acton\, MA\, 01720\, United States
ORGANIZER;CN="Acton Woman's Club":MAILTO:awc01720@gmail.com
END:VEVENT
END:VCALENDAR