BEGIN:VCALENDAR
VERSION:2.0
PRODID:-//The Acton Exchange - ECPv6.15.17.1//NONSGML v1.0//EN
CALSCALE:GREGORIAN
METHOD:PUBLISH
X-WR-CALNAME:The Acton Exchange
X-ORIGINAL-URL:https://www.actonexchange.org
X-WR-CALDESC:Events for The Acton Exchange
REFRESH-INTERVAL;VALUE=DURATION:PT1H
X-Robots-Tag:noindex
X-PUBLISHED-TTL:PT1H
BEGIN:VTIMEZONE
TZID:America/New_York
BEGIN:DAYLIGHT
TZOFFSETFROM:-0500
TZOFFSETTO:-0400
TZNAME:EDT
DTSTART:20250309T070000
END:DAYLIGHT
BEGIN:STANDARD
TZOFFSETFROM:-0400
TZOFFSETTO:-0500
TZNAME:EST
DTSTART:20251102T060000
END:STANDARD
BEGIN:DAYLIGHT
TZOFFSETFROM:-0500
TZOFFSETTO:-0400
TZNAME:EDT
DTSTART:20260308T070000
END:DAYLIGHT
BEGIN:STANDARD
TZOFFSETFROM:-0400
TZOFFSETTO:-0500
TZNAME:EST
DTSTART:20261101T060000
END:STANDARD
BEGIN:DAYLIGHT
TZOFFSETFROM:-0500
TZOFFSETTO:-0400
TZNAME:EDT
DTSTART:20270314T070000
END:DAYLIGHT
BEGIN:STANDARD
TZOFFSETFROM:-0400
TZOFFSETTO:-0500
TZNAME:EST
DTSTART:20271107T060000
END:STANDARD
BEGIN:DAYLIGHT
TZOFFSETFROM:-0500
TZOFFSETTO:-0400
TZNAME:EDT
DTSTART:20280312T070000
END:DAYLIGHT
BEGIN:STANDARD
TZOFFSETFROM:-0400
TZOFFSETTO:-0500
TZNAME:EST
DTSTART:20281105T060000
END:STANDARD
END:VTIMEZONE
BEGIN:VEVENT
DTSTART;TZID=America/New_York:20260513T190000
DTEND;TZID=America/New_York:20260513T203000
DTSTAMP:20260420T194307
CREATED:20260331T204923Z
LAST-MODIFIED:20260331T205321Z
UID:10001637-1778698800-1778704200@www.actonexchange.org
SUMMARY:Acton Exchange All-Hands Meeting
DESCRIPTION:The Acton Exchange team holds monthly meetings that are open to our active volunteers and anyone who might want to become a volunteer. If you have an Acton connection and want to contribute to independent community journalism in our town\, it is likely that the AE has a role for you\, whatever your skill sets and interests might be. Each meeting begins with an opportunity to learn what has been going on at the Acton Exchange\, followed by an opportunity to improve our journalism skills. Meetings are either  hybrid (in-person or zoom) or zoom-only.   For this month’s venue and topic\, email info@actonexchange.org. \nUse this link to join by Zoom:\nhttps://us02web.zoom.us/j/86431644688?pwd=RXNReWE5N2Rzdkc1QjUzQnF5d0NKdz09\nThe password\, if needed\, is newspaper.
URL:https://www.actonexchange.org/event/acton-exchange-all-hands-meeting-3/2026-05-13/
LOCATION:ActonTV offices\, 16a Craig Road\, Acton\, MA\, 01720\, United States
ORGANIZER;CN="Acton Exchange":MAILTO:info@actonexchange.org
END:VEVENT
BEGIN:VEVENT
DTSTART;TZID=America/New_York:20260610T190000
DTEND;TZID=America/New_York:20260610T203000
DTSTAMP:20260420T194307
CREATED:20260331T204923Z
LAST-MODIFIED:20260331T205321Z
UID:10001638-1781118000-1781123400@www.actonexchange.org
SUMMARY:Acton Exchange All-Hands Meeting
DESCRIPTION:The Acton Exchange team holds monthly meetings that are open to our active volunteers and anyone who might want to become a volunteer. If you have an Acton connection and want to contribute to independent community journalism in our town\, it is likely that the AE has a role for you\, whatever your skill sets and interests might be. Each meeting begins with an opportunity to learn what has been going on at the Acton Exchange\, followed by an opportunity to improve our journalism skills. Meetings are either  hybrid (in-person or zoom) or zoom-only.   For this month’s venue and topic\, email info@actonexchange.org. \nUse this link to join by Zoom:\nhttps://us02web.zoom.us/j/86431644688?pwd=RXNReWE5N2Rzdkc1QjUzQnF5d0NKdz09\nThe password\, if needed\, is newspaper.
URL:https://www.actonexchange.org/event/acton-exchange-all-hands-meeting-3/2026-06-10/
LOCATION:ActonTV offices\, 16a Craig Road\, Acton\, MA\, 01720\, United States
ORGANIZER;CN="Acton Exchange":MAILTO:info@actonexchange.org
END:VEVENT
BEGIN:VEVENT
DTSTART;TZID=America/New_York:20260708T190000
DTEND;TZID=America/New_York:20260708T203000
DTSTAMP:20260420T194307
CREATED:20260331T204923Z
LAST-MODIFIED:20260331T205321Z
UID:10001639-1783537200-1783542600@www.actonexchange.org
SUMMARY:Acton Exchange All-Hands Meeting
DESCRIPTION:The Acton Exchange team holds monthly meetings that are open to our active volunteers and anyone who might want to become a volunteer. If you have an Acton connection and want to contribute to independent community journalism in our town\, it is likely that the AE has a role for you\, whatever your skill sets and interests might be. Each meeting begins with an opportunity to learn what has been going on at the Acton Exchange\, followed by an opportunity to improve our journalism skills. Meetings are either  hybrid (in-person or zoom) or zoom-only.   For this month’s venue and topic\, email info@actonexchange.org. \nUse this link to join by Zoom:\nhttps://us02web.zoom.us/j/86431644688?pwd=RXNReWE5N2Rzdkc1QjUzQnF5d0NKdz09\nThe password\, if needed\, is newspaper.
URL:https://www.actonexchange.org/event/acton-exchange-all-hands-meeting-3/2026-07-08/
LOCATION:ActonTV offices\, 16a Craig Road\, Acton\, MA\, 01720\, United States
ORGANIZER;CN="Acton Exchange":MAILTO:info@actonexchange.org
END:VEVENT
BEGIN:VEVENT
DTSTART;TZID=America/New_York:20260812T190000
DTEND;TZID=America/New_York:20260812T203000
DTSTAMP:20260420T194307
CREATED:20260331T204923Z
LAST-MODIFIED:20260331T205321Z
UID:10001640-1786561200-1786566600@www.actonexchange.org
SUMMARY:Acton Exchange All-Hands Meeting
DESCRIPTION:The Acton Exchange team holds monthly meetings that are open to our active volunteers and anyone who might want to become a volunteer. If you have an Acton connection and want to contribute to independent community journalism in our town\, it is likely that the AE has a role for you\, whatever your skill sets and interests might be. Each meeting begins with an opportunity to learn what has been going on at the Acton Exchange\, followed by an opportunity to improve our journalism skills. Meetings are either  hybrid (in-person or zoom) or zoom-only.   For this month’s venue and topic\, email info@actonexchange.org. \nUse this link to join by Zoom:\nhttps://us02web.zoom.us/j/86431644688?pwd=RXNReWE5N2Rzdkc1QjUzQnF5d0NKdz09\nThe password\, if needed\, is newspaper.
URL:https://www.actonexchange.org/event/acton-exchange-all-hands-meeting-3/2026-08-12/
LOCATION:ActonTV offices\, 16a Craig Road\, Acton\, MA\, 01720\, United States
ORGANIZER;CN="Acton Exchange":MAILTO:info@actonexchange.org
END:VEVENT
BEGIN:VEVENT
DTSTART;TZID=America/New_York:20260909T190000
DTEND;TZID=America/New_York:20260909T203000
DTSTAMP:20260420T194307
CREATED:20260331T204923Z
LAST-MODIFIED:20260331T205321Z
UID:10001641-1788980400-1788985800@www.actonexchange.org
SUMMARY:Acton Exchange All-Hands Meeting
DESCRIPTION:The Acton Exchange team holds monthly meetings that are open to our active volunteers and anyone who might want to become a volunteer. If you have an Acton connection and want to contribute to independent community journalism in our town\, it is likely that the AE has a role for you\, whatever your skill sets and interests might be. Each meeting begins with an opportunity to learn what has been going on at the Acton Exchange\, followed by an opportunity to improve our journalism skills. Meetings are either  hybrid (in-person or zoom) or zoom-only.   For this month’s venue and topic\, email info@actonexchange.org. \nUse this link to join by Zoom:\nhttps://us02web.zoom.us/j/86431644688?pwd=RXNReWE5N2Rzdkc1QjUzQnF5d0NKdz09\nThe password\, if needed\, is newspaper.
URL:https://www.actonexchange.org/event/acton-exchange-all-hands-meeting-3/2026-09-09/
LOCATION:ActonTV offices\, 16a Craig Road\, Acton\, MA\, 01720\, United States
ORGANIZER;CN="Acton Exchange":MAILTO:info@actonexchange.org
END:VEVENT
BEGIN:VEVENT
DTSTART;TZID=America/New_York:20261014T190000
DTEND;TZID=America/New_York:20261014T203000
DTSTAMP:20260420T194307
CREATED:20260331T204923Z
LAST-MODIFIED:20260331T205321Z
UID:10001642-1792004400-1792009800@www.actonexchange.org
SUMMARY:Acton Exchange All-Hands Meeting
DESCRIPTION:The Acton Exchange team holds monthly meetings that are open to our active volunteers and anyone who might want to become a volunteer. If you have an Acton connection and want to contribute to independent community journalism in our town\, it is likely that the AE has a role for you\, whatever your skill sets and interests might be. Each meeting begins with an opportunity to learn what has been going on at the Acton Exchange\, followed by an opportunity to improve our journalism skills. Meetings are either  hybrid (in-person or zoom) or zoom-only.   For this month’s venue and topic\, email info@actonexchange.org. \nUse this link to join by Zoom:\nhttps://us02web.zoom.us/j/86431644688?pwd=RXNReWE5N2Rzdkc1QjUzQnF5d0NKdz09\nThe password\, if needed\, is newspaper.
URL:https://www.actonexchange.org/event/acton-exchange-all-hands-meeting-3/2026-10-14/
LOCATION:ActonTV offices\, 16a Craig Road\, Acton\, MA\, 01720\, United States
ORGANIZER;CN="Acton Exchange":MAILTO:info@actonexchange.org
END:VEVENT
BEGIN:VEVENT
DTSTART;TZID=America/New_York:20261111T190000
DTEND;TZID=America/New_York:20261111T203000
DTSTAMP:20260420T194307
CREATED:20260331T204923Z
LAST-MODIFIED:20260331T205321Z
UID:10001643-1794423600-1794429000@www.actonexchange.org
SUMMARY:Acton Exchange All-Hands Meeting
DESCRIPTION:The Acton Exchange team holds monthly meetings that are open to our active volunteers and anyone who might want to become a volunteer. If you have an Acton connection and want to contribute to independent community journalism in our town\, it is likely that the AE has a role for you\, whatever your skill sets and interests might be. Each meeting begins with an opportunity to learn what has been going on at the Acton Exchange\, followed by an opportunity to improve our journalism skills. Meetings are either  hybrid (in-person or zoom) or zoom-only.   For this month’s venue and topic\, email info@actonexchange.org. \nUse this link to join by Zoom:\nhttps://us02web.zoom.us/j/86431644688?pwd=RXNReWE5N2Rzdkc1QjUzQnF5d0NKdz09\nThe password\, if needed\, is newspaper.
URL:https://www.actonexchange.org/event/acton-exchange-all-hands-meeting-3/2026-11-11/
LOCATION:ActonTV offices\, 16a Craig Road\, Acton\, MA\, 01720\, United States
ORGANIZER;CN="Acton Exchange":MAILTO:info@actonexchange.org
END:VEVENT
BEGIN:VEVENT
DTSTART;TZID=America/New_York:20261209T190000
DTEND;TZID=America/New_York:20261209T203000
DTSTAMP:20260420T194307
CREATED:20260331T204923Z
LAST-MODIFIED:20260331T205321Z
UID:10001644-1796842800-1796848200@www.actonexchange.org
SUMMARY:Acton Exchange All-Hands Meeting
DESCRIPTION:The Acton Exchange team holds monthly meetings that are open to our active volunteers and anyone who might want to become a volunteer. If you have an Acton connection and want to contribute to independent community journalism in our town\, it is likely that the AE has a role for you\, whatever your skill sets and interests might be. Each meeting begins with an opportunity to learn what has been going on at the Acton Exchange\, followed by an opportunity to improve our journalism skills. Meetings are either  hybrid (in-person or zoom) or zoom-only.   For this month’s venue and topic\, email info@actonexchange.org. \nUse this link to join by Zoom:\nhttps://us02web.zoom.us/j/86431644688?pwd=RXNReWE5N2Rzdkc1QjUzQnF5d0NKdz09\nThe password\, if needed\, is newspaper.
URL:https://www.actonexchange.org/event/acton-exchange-all-hands-meeting-3/2026-12-09/
LOCATION:ActonTV offices\, 16a Craig Road\, Acton\, MA\, 01720\, United States
ORGANIZER;CN="Acton Exchange":MAILTO:info@actonexchange.org
END:VEVENT
BEGIN:VEVENT
DTSTART;TZID=America/New_York:20270113T190000
DTEND;TZID=America/New_York:20270113T203000
DTSTAMP:20260420T194307
CREATED:20260331T204923Z
LAST-MODIFIED:20260331T205321Z
UID:10001645-1799866800-1799872200@www.actonexchange.org
SUMMARY:Acton Exchange All-Hands Meeting
DESCRIPTION:The Acton Exchange team holds monthly meetings that are open to our active volunteers and anyone who might want to become a volunteer. If you have an Acton connection and want to contribute to independent community journalism in our town\, it is likely that the AE has a role for you\, whatever your skill sets and interests might be. Each meeting begins with an opportunity to learn what has been going on at the Acton Exchange\, followed by an opportunity to improve our journalism skills. Meetings are either  hybrid (in-person or zoom) or zoom-only.   For this month’s venue and topic\, email info@actonexchange.org. \nUse this link to join by Zoom:\nhttps://us02web.zoom.us/j/86431644688?pwd=RXNReWE5N2Rzdkc1QjUzQnF5d0NKdz09\nThe password\, if needed\, is newspaper.
URL:https://www.actonexchange.org/event/acton-exchange-all-hands-meeting-3/2027-01-13/
LOCATION:ActonTV offices\, 16a Craig Road\, Acton\, MA\, 01720\, United States
ORGANIZER;CN="Acton Exchange":MAILTO:info@actonexchange.org
END:VEVENT
BEGIN:VEVENT
DTSTART;TZID=America/New_York:20270210T190000
DTEND;TZID=America/New_York:20270210T203000
DTSTAMP:20260420T194307
CREATED:20260331T204923Z
LAST-MODIFIED:20260331T205321Z
UID:10001646-1802286000-1802291400@www.actonexchange.org
SUMMARY:Acton Exchange All-Hands Meeting
DESCRIPTION:The Acton Exchange team holds monthly meetings that are open to our active volunteers and anyone who might want to become a volunteer. If you have an Acton connection and want to contribute to independent community journalism in our town\, it is likely that the AE has a role for you\, whatever your skill sets and interests might be. Each meeting begins with an opportunity to learn what has been going on at the Acton Exchange\, followed by an opportunity to improve our journalism skills. Meetings are either  hybrid (in-person or zoom) or zoom-only.   For this month’s venue and topic\, email info@actonexchange.org. \nUse this link to join by Zoom:\nhttps://us02web.zoom.us/j/86431644688?pwd=RXNReWE5N2Rzdkc1QjUzQnF5d0NKdz09\nThe password\, if needed\, is newspaper.
URL:https://www.actonexchange.org/event/acton-exchange-all-hands-meeting-3/2027-02-10/
LOCATION:ActonTV offices\, 16a Craig Road\, Acton\, MA\, 01720\, United States
ORGANIZER;CN="Acton Exchange":MAILTO:info@actonexchange.org
END:VEVENT
BEGIN:VEVENT
DTSTART;TZID=America/New_York:20270310T190000
DTEND;TZID=America/New_York:20270310T203000
DTSTAMP:20260420T194307
CREATED:20260331T204923Z
LAST-MODIFIED:20260331T205321Z
UID:10001647-1804705200-1804710600@www.actonexchange.org
SUMMARY:Acton Exchange All-Hands Meeting
DESCRIPTION:The Acton Exchange team holds monthly meetings that are open to our active volunteers and anyone who might want to become a volunteer. If you have an Acton connection and want to contribute to independent community journalism in our town\, it is likely that the AE has a role for you\, whatever your skill sets and interests might be. Each meeting begins with an opportunity to learn what has been going on at the Acton Exchange\, followed by an opportunity to improve our journalism skills. Meetings are either  hybrid (in-person or zoom) or zoom-only.   For this month’s venue and topic\, email info@actonexchange.org. \nUse this link to join by Zoom:\nhttps://us02web.zoom.us/j/86431644688?pwd=RXNReWE5N2Rzdkc1QjUzQnF5d0NKdz09\nThe password\, if needed\, is newspaper.
URL:https://www.actonexchange.org/event/acton-exchange-all-hands-meeting-3/2027-03-10/
LOCATION:ActonTV offices\, 16a Craig Road\, Acton\, MA\, 01720\, United States
ORGANIZER;CN="Acton Exchange":MAILTO:info@actonexchange.org
END:VEVENT
BEGIN:VEVENT
DTSTART;TZID=America/New_York:20270414T190000
DTEND;TZID=America/New_York:20270414T203000
DTSTAMP:20260420T194307
CREATED:20260331T204923Z
LAST-MODIFIED:20260331T205321Z
UID:10001648-1807729200-1807734600@www.actonexchange.org
SUMMARY:Acton Exchange All-Hands Meeting
DESCRIPTION:The Acton Exchange team holds monthly meetings that are open to our active volunteers and anyone who might want to become a volunteer. If you have an Acton connection and want to contribute to independent community journalism in our town\, it is likely that the AE has a role for you\, whatever your skill sets and interests might be. Each meeting begins with an opportunity to learn what has been going on at the Acton Exchange\, followed by an opportunity to improve our journalism skills. Meetings are either  hybrid (in-person or zoom) or zoom-only.   For this month’s venue and topic\, email info@actonexchange.org. \nUse this link to join by Zoom:\nhttps://us02web.zoom.us/j/86431644688?pwd=RXNReWE5N2Rzdkc1QjUzQnF5d0NKdz09\nThe password\, if needed\, is newspaper.
URL:https://www.actonexchange.org/event/acton-exchange-all-hands-meeting-3/2027-04-14/
LOCATION:ActonTV offices\, 16a Craig Road\, Acton\, MA\, 01720\, United States
ORGANIZER;CN="Acton Exchange":MAILTO:info@actonexchange.org
END:VEVENT
BEGIN:VEVENT
DTSTART;TZID=America/New_York:20270512T190000
DTEND;TZID=America/New_York:20270512T203000
DTSTAMP:20260420T194307
CREATED:20260331T204923Z
LAST-MODIFIED:20260331T205321Z
UID:10001649-1810148400-1810153800@www.actonexchange.org
SUMMARY:Acton Exchange All-Hands Meeting
DESCRIPTION:The Acton Exchange team holds monthly meetings that are open to our active volunteers and anyone who might want to become a volunteer. If you have an Acton connection and want to contribute to independent community journalism in our town\, it is likely that the AE has a role for you\, whatever your skill sets and interests might be. Each meeting begins with an opportunity to learn what has been going on at the Acton Exchange\, followed by an opportunity to improve our journalism skills. Meetings are either  hybrid (in-person or zoom) or zoom-only.   For this month’s venue and topic\, email info@actonexchange.org. \nUse this link to join by Zoom:\nhttps://us02web.zoom.us/j/86431644688?pwd=RXNReWE5N2Rzdkc1QjUzQnF5d0NKdz09\nThe password\, if needed\, is newspaper.
URL:https://www.actonexchange.org/event/acton-exchange-all-hands-meeting-3/2027-05-12/
LOCATION:ActonTV offices\, 16a Craig Road\, Acton\, MA\, 01720\, United States
ORGANIZER;CN="Acton Exchange":MAILTO:info@actonexchange.org
END:VEVENT
BEGIN:VEVENT
DTSTART;TZID=America/New_York:20270609T190000
DTEND;TZID=America/New_York:20270609T203000
DTSTAMP:20260420T194307
CREATED:20260331T204923Z
LAST-MODIFIED:20260331T205321Z
UID:10001650-1812567600-1812573000@www.actonexchange.org
SUMMARY:Acton Exchange All-Hands Meeting
DESCRIPTION:The Acton Exchange team holds monthly meetings that are open to our active volunteers and anyone who might want to become a volunteer. If you have an Acton connection and want to contribute to independent community journalism in our town\, it is likely that the AE has a role for you\, whatever your skill sets and interests might be. Each meeting begins with an opportunity to learn what has been going on at the Acton Exchange\, followed by an opportunity to improve our journalism skills. Meetings are either  hybrid (in-person or zoom) or zoom-only.   For this month’s venue and topic\, email info@actonexchange.org. \nUse this link to join by Zoom:\nhttps://us02web.zoom.us/j/86431644688?pwd=RXNReWE5N2Rzdkc1QjUzQnF5d0NKdz09\nThe password\, if needed\, is newspaper.
URL:https://www.actonexchange.org/event/acton-exchange-all-hands-meeting-3/2027-06-09/
LOCATION:ActonTV offices\, 16a Craig Road\, Acton\, MA\, 01720\, United States
ORGANIZER;CN="Acton Exchange":MAILTO:info@actonexchange.org
END:VEVENT
BEGIN:VEVENT
DTSTART;TZID=America/New_York:20270714T190000
DTEND;TZID=America/New_York:20270714T203000
DTSTAMP:20260420T194307
CREATED:20260331T204923Z
LAST-MODIFIED:20260331T205321Z
UID:10001651-1815591600-1815597000@www.actonexchange.org
SUMMARY:Acton Exchange All-Hands Meeting
DESCRIPTION:The Acton Exchange team holds monthly meetings that are open to our active volunteers and anyone who might want to become a volunteer. If you have an Acton connection and want to contribute to independent community journalism in our town\, it is likely that the AE has a role for you\, whatever your skill sets and interests might be. Each meeting begins with an opportunity to learn what has been going on at the Acton Exchange\, followed by an opportunity to improve our journalism skills. Meetings are either  hybrid (in-person or zoom) or zoom-only.   For this month’s venue and topic\, email info@actonexchange.org. \nUse this link to join by Zoom:\nhttps://us02web.zoom.us/j/86431644688?pwd=RXNReWE5N2Rzdkc1QjUzQnF5d0NKdz09\nThe password\, if needed\, is newspaper.
URL:https://www.actonexchange.org/event/acton-exchange-all-hands-meeting-3/2027-07-14/
LOCATION:ActonTV offices\, 16a Craig Road\, Acton\, MA\, 01720\, United States
ORGANIZER;CN="Acton Exchange":MAILTO:info@actonexchange.org
END:VEVENT
BEGIN:VEVENT
DTSTART;TZID=America/New_York:20270811T190000
DTEND;TZID=America/New_York:20270811T203000
DTSTAMP:20260420T194307
CREATED:20260331T204923Z
LAST-MODIFIED:20260331T205321Z
UID:10001652-1818010800-1818016200@www.actonexchange.org
SUMMARY:Acton Exchange All-Hands Meeting
DESCRIPTION:The Acton Exchange team holds monthly meetings that are open to our active volunteers and anyone who might want to become a volunteer. If you have an Acton connection and want to contribute to independent community journalism in our town\, it is likely that the AE has a role for you\, whatever your skill sets and interests might be. Each meeting begins with an opportunity to learn what has been going on at the Acton Exchange\, followed by an opportunity to improve our journalism skills. Meetings are either  hybrid (in-person or zoom) or zoom-only.   For this month’s venue and topic\, email info@actonexchange.org. \nUse this link to join by Zoom:\nhttps://us02web.zoom.us/j/86431644688?pwd=RXNReWE5N2Rzdkc1QjUzQnF5d0NKdz09\nThe password\, if needed\, is newspaper.
URL:https://www.actonexchange.org/event/acton-exchange-all-hands-meeting-3/2027-08-11/
LOCATION:ActonTV offices\, 16a Craig Road\, Acton\, MA\, 01720\, United States
ORGANIZER;CN="Acton Exchange":MAILTO:info@actonexchange.org
END:VEVENT
BEGIN:VEVENT
DTSTART;TZID=America/New_York:20270908T190000
DTEND;TZID=America/New_York:20270908T203000
DTSTAMP:20260420T194307
CREATED:20260331T204923Z
LAST-MODIFIED:20260331T205321Z
UID:10001653-1820430000-1820435400@www.actonexchange.org
SUMMARY:Acton Exchange All-Hands Meeting
DESCRIPTION:The Acton Exchange team holds monthly meetings that are open to our active volunteers and anyone who might want to become a volunteer. If you have an Acton connection and want to contribute to independent community journalism in our town\, it is likely that the AE has a role for you\, whatever your skill sets and interests might be. Each meeting begins with an opportunity to learn what has been going on at the Acton Exchange\, followed by an opportunity to improve our journalism skills. Meetings are either  hybrid (in-person or zoom) or zoom-only.   For this month’s venue and topic\, email info@actonexchange.org. \nUse this link to join by Zoom:\nhttps://us02web.zoom.us/j/86431644688?pwd=RXNReWE5N2Rzdkc1QjUzQnF5d0NKdz09\nThe password\, if needed\, is newspaper.
URL:https://www.actonexchange.org/event/acton-exchange-all-hands-meeting-3/2027-09-08/
LOCATION:ActonTV offices\, 16a Craig Road\, Acton\, MA\, 01720\, United States
ORGANIZER;CN="Acton Exchange":MAILTO:info@actonexchange.org
END:VEVENT
BEGIN:VEVENT
DTSTART;TZID=America/New_York:20271013T190000
DTEND;TZID=America/New_York:20271013T203000
DTSTAMP:20260420T194307
CREATED:20260331T204923Z
LAST-MODIFIED:20260331T205321Z
UID:10001654-1823454000-1823459400@www.actonexchange.org
SUMMARY:Acton Exchange All-Hands Meeting
DESCRIPTION:The Acton Exchange team holds monthly meetings that are open to our active volunteers and anyone who might want to become a volunteer. If you have an Acton connection and want to contribute to independent community journalism in our town\, it is likely that the AE has a role for you\, whatever your skill sets and interests might be. Each meeting begins with an opportunity to learn what has been going on at the Acton Exchange\, followed by an opportunity to improve our journalism skills. Meetings are either  hybrid (in-person or zoom) or zoom-only.   For this month’s venue and topic\, email info@actonexchange.org. \nUse this link to join by Zoom:\nhttps://us02web.zoom.us/j/86431644688?pwd=RXNReWE5N2Rzdkc1QjUzQnF5d0NKdz09\nThe password\, if needed\, is newspaper.
URL:https://www.actonexchange.org/event/acton-exchange-all-hands-meeting-3/2027-10-13/
LOCATION:ActonTV offices\, 16a Craig Road\, Acton\, MA\, 01720\, United States
ORGANIZER;CN="Acton Exchange":MAILTO:info@actonexchange.org
END:VEVENT
BEGIN:VEVENT
DTSTART;TZID=America/New_York:20271110T190000
DTEND;TZID=America/New_York:20271110T203000
DTSTAMP:20260420T194307
CREATED:20260331T204923Z
LAST-MODIFIED:20260331T205321Z
UID:10001655-1825873200-1825878600@www.actonexchange.org
SUMMARY:Acton Exchange All-Hands Meeting
DESCRIPTION:The Acton Exchange team holds monthly meetings that are open to our active volunteers and anyone who might want to become a volunteer. If you have an Acton connection and want to contribute to independent community journalism in our town\, it is likely that the AE has a role for you\, whatever your skill sets and interests might be. Each meeting begins with an opportunity to learn what has been going on at the Acton Exchange\, followed by an opportunity to improve our journalism skills. Meetings are either  hybrid (in-person or zoom) or zoom-only.   For this month’s venue and topic\, email info@actonexchange.org. \nUse this link to join by Zoom:\nhttps://us02web.zoom.us/j/86431644688?pwd=RXNReWE5N2Rzdkc1QjUzQnF5d0NKdz09\nThe password\, if needed\, is newspaper.
URL:https://www.actonexchange.org/event/acton-exchange-all-hands-meeting-3/2027-11-10/
LOCATION:ActonTV offices\, 16a Craig Road\, Acton\, MA\, 01720\, United States
ORGANIZER;CN="Acton Exchange":MAILTO:info@actonexchange.org
END:VEVENT
BEGIN:VEVENT
DTSTART;TZID=America/New_York:20271208T190000
DTEND;TZID=America/New_York:20271208T203000
DTSTAMP:20260420T194307
CREATED:20260331T204923Z
LAST-MODIFIED:20260331T205321Z
UID:10001656-1828292400-1828297800@www.actonexchange.org
SUMMARY:Acton Exchange All-Hands Meeting
DESCRIPTION:The Acton Exchange team holds monthly meetings that are open to our active volunteers and anyone who might want to become a volunteer. If you have an Acton connection and want to contribute to independent community journalism in our town\, it is likely that the AE has a role for you\, whatever your skill sets and interests might be. Each meeting begins with an opportunity to learn what has been going on at the Acton Exchange\, followed by an opportunity to improve our journalism skills. Meetings are either  hybrid (in-person or zoom) or zoom-only.   For this month’s venue and topic\, email info@actonexchange.org. \nUse this link to join by Zoom:\nhttps://us02web.zoom.us/j/86431644688?pwd=RXNReWE5N2Rzdkc1QjUzQnF5d0NKdz09\nThe password\, if needed\, is newspaper.
URL:https://www.actonexchange.org/event/acton-exchange-all-hands-meeting-3/2027-12-08/
LOCATION:ActonTV offices\, 16a Craig Road\, Acton\, MA\, 01720\, United States
ORGANIZER;CN="Acton Exchange":MAILTO:info@actonexchange.org
END:VEVENT
END:VCALENDAR