BEGIN:VCALENDAR
VERSION:2.0
PRODID:-//The Acton Exchange - ECPv6.15.17.1//NONSGML v1.0//EN
CALSCALE:GREGORIAN
METHOD:PUBLISH
X-WR-CALNAME:The Acton Exchange
X-ORIGINAL-URL:https://www.actonexchange.org
X-WR-CALDESC:Events for The Acton Exchange
REFRESH-INTERVAL;VALUE=DURATION:PT1H
X-Robots-Tag:noindex
X-PUBLISHED-TTL:PT1H
BEGIN:VTIMEZONE
TZID:America/New_York
BEGIN:DAYLIGHT
TZOFFSETFROM:-0500
TZOFFSETTO:-0400
TZNAME:EDT
DTSTART:20250309T070000
END:DAYLIGHT
BEGIN:STANDARD
TZOFFSETFROM:-0400
TZOFFSETTO:-0500
TZNAME:EST
DTSTART:20251102T060000
END:STANDARD
BEGIN:DAYLIGHT
TZOFFSETFROM:-0500
TZOFFSETTO:-0400
TZNAME:EDT
DTSTART:20260308T070000
END:DAYLIGHT
BEGIN:STANDARD
TZOFFSETFROM:-0400
TZOFFSETTO:-0500
TZNAME:EST
DTSTART:20261101T060000
END:STANDARD
BEGIN:DAYLIGHT
TZOFFSETFROM:-0500
TZOFFSETTO:-0400
TZNAME:EDT
DTSTART:20270314T070000
END:DAYLIGHT
BEGIN:STANDARD
TZOFFSETFROM:-0400
TZOFFSETTO:-0500
TZNAME:EST
DTSTART:20271107T060000
END:STANDARD
END:VTIMEZONE
BEGIN:VEVENT
DTSTART;TZID=America/New_York:20260403T193000
DTEND;TZID=America/New_York:20260403T210000
DTSTAMP:20260423T004631
CREATED:20260316T185334Z
LAST-MODIFIED:20260316T185334Z
UID:10003724-1775244600-1775250000@www.actonexchange.org
SUMMARY:Good Friday Concert at Acton Congregation Church
DESCRIPTION:The Senior Choir of Acton Congregational Church along with guest singers from area choruses will present Margaret Bonds’s masterwork\, Credo\, as part of its special Good Friday service on April 3rd.\n\nBonds composed Credo in 1965\, setting to music the powerful and inspirational words written by W.E.B. Du Bois in 1904. Modern performers and audience can find elements of Credo uncomfortable\, in part because the work forces us to confront the injustice of American slavery and its legacy head on\, as both Du Bois and Bonds intended.For more information about this piece\, see https://www.actonc.org/post/good-friday-credo.\n\nThe music of Bonds and text of Du Bois will be interwoven with scripture and moments of reflection\, drawing connections between the passion of Christ and the suffering of people of color throughout our country’s history. Soprano Amy Onyonyi and Tenor Christon Carney will be featured soloists with Elizabeth Carley\, Acton Congregational’s talented organist and pianist. Senior Choir Director\, Elinor A. Armsby leads the performance.
URL:https://www.actonexchange.org/event/good-friday-concert-at-acton-congregation-church/
LOCATION:Acton Congregational Church\, 12 Concord Road\, Acton\, MA\, 01720\, United States
ORGANIZER;CN="Acton Congregational Church":MAILTO:office@actonc.org
END:VEVENT
BEGIN:VEVENT
DTSTART;TZID=America/New_York:20260225T190000
DTEND;TZID=America/New_York:20260225T210000
DTSTAMP:20260423T004631
CREATED:20260207T124554Z
LAST-MODIFIED:20260207T124627Z
UID:10003666-1772046000-1772053200@www.actonexchange.org
SUMMARY:Skills for disagreeing better: A Braver Angels presentation
DESCRIPTION:What if disagreement didn’t have to feel so hard?\n\nJoin us on February 25th at 7:00pm for Skills for Disagreeing Better\, a Braver Angels presentation with practical tools for listening\, speaking up\, and finding common ground. Come build better conversation skills with us!
URL:https://www.actonexchange.org/event/braver-angels-skills-for-disagreeing-better/
LOCATION:Acton Congregational Church\, 12 Concord Road\, Acton\, MA\, 01720\, United States
ORGANIZER;CN="Acton Congregational Church":MAILTO:office@actonc.org
END:VEVENT
BEGIN:VEVENT
DTSTART;TZID=America/New_York:20260217T173000
DTEND;TZID=America/New_York:20260217T193000
DTSTAMP:20260423T004631
CREATED:20260207T124224Z
LAST-MODIFIED:20260207T124224Z
UID:10003665-1771349400-1771356600@www.actonexchange.org
SUMMARY:Acton Congregational Church: Mardi Gras pancake supper
DESCRIPTION: Bring the whole family for a fun and festive evening on February 17th from 5:30–7:30pm! Enjoy a free\, family-friendly event filled with games\, crafts\, music\, and more.\n\nEveryone is welcome\, and there’s something for all ages. We’d love for you to join us!\n\nFor more information and to RSVP\, please visit https://www.actonc.org/post/mardi-gras-pancake-supper\n\nPlease RSVP to let us know you’re coming.
URL:https://www.actonexchange.org/event/acton-congregational-church-mardi-gras-pancake-supper/
LOCATION:Acton Congregational Church\, 12 Concord Road\, Acton\, MA\, 01720\, United States
ORGANIZER;CN="Acton Congregational Church":MAILTO:office@actonc.org
END:VEVENT
END:VCALENDAR