BEGIN:VCALENDAR
VERSION:2.0
PRODID:-//The Acton Exchange - ECPv6.15.17.1//NONSGML v1.0//EN
CALSCALE:GREGORIAN
METHOD:PUBLISH
X-ORIGINAL-URL:https://www.actonexchange.org
X-WR-CALDESC:Events for The Acton Exchange
REFRESH-INTERVAL;VALUE=DURATION:PT1H
X-Robots-Tag:noindex
X-PUBLISHED-TTL:PT1H
BEGIN:VTIMEZONE
TZID:America/New_York
BEGIN:DAYLIGHT
TZOFFSETFROM:-0500
TZOFFSETTO:-0400
TZNAME:EDT
DTSTART:20250309T070000
END:DAYLIGHT
BEGIN:STANDARD
TZOFFSETFROM:-0400
TZOFFSETTO:-0500
TZNAME:EST
DTSTART:20251102T060000
END:STANDARD
BEGIN:DAYLIGHT
TZOFFSETFROM:-0500
TZOFFSETTO:-0400
TZNAME:EDT
DTSTART:20260308T070000
END:DAYLIGHT
BEGIN:STANDARD
TZOFFSETFROM:-0400
TZOFFSETTO:-0500
TZNAME:EST
DTSTART:20261101T060000
END:STANDARD
BEGIN:DAYLIGHT
TZOFFSETFROM:-0500
TZOFFSETTO:-0400
TZNAME:EDT
DTSTART:20270314T070000
END:DAYLIGHT
BEGIN:STANDARD
TZOFFSETFROM:-0400
TZOFFSETTO:-0500
TZNAME:EST
DTSTART:20271107T060000
END:STANDARD
END:VTIMEZONE
BEGIN:VEVENT
DTSTART;TZID=America/New_York:20260512T160000
DTEND;TZID=America/New_York:20260512T180000
DTSTAMP:20260419T142748
CREATED:20250110T143035Z
LAST-MODIFIED:20250110T143035Z
UID:10000798-1778601600-1778608800@www.actonexchange.org
SUMMARY:Housing Legal Clinics
DESCRIPTION:The Acton Community Services Office within the Department of Health and Human Services\, in partnership with MetroWest Legal Services\, will host a monthly housing legal clinic beginning in January.  \nHousing Legal Clinic appointments will begin on Jan. 14 and will be held on the second Tuesday of each month from 4-6 p.m. at the Human Service and Senior Center\, 30 Sudbury Road Rear. \nBefore you attend a session\, you must complete the following registration form\, which can be found here. \nThe program\, which is funded by the American Rescue Plan Act\, will run until Dec. 31\, 2026.
URL:https://www.actonexchange.org/event/housing-legal-clinics/2026-05-12/
LOCATION:Acton Community Services office\, 30 Sudbury Road Rear\, Acton\, MA\, 01720
END:VEVENT
BEGIN:VEVENT
DTSTART;TZID=America/New_York:20260609T160000
DTEND;TZID=America/New_York:20260609T180000
DTSTAMP:20260419T142748
CREATED:20250110T143035Z
LAST-MODIFIED:20250110T143035Z
UID:10000799-1781020800-1781028000@www.actonexchange.org
SUMMARY:Housing Legal Clinics
DESCRIPTION:The Acton Community Services Office within the Department of Health and Human Services\, in partnership with MetroWest Legal Services\, will host a monthly housing legal clinic beginning in January.  \nHousing Legal Clinic appointments will begin on Jan. 14 and will be held on the second Tuesday of each month from 4-6 p.m. at the Human Service and Senior Center\, 30 Sudbury Road Rear. \nBefore you attend a session\, you must complete the following registration form\, which can be found here. \nThe program\, which is funded by the American Rescue Plan Act\, will run until Dec. 31\, 2026.
URL:https://www.actonexchange.org/event/housing-legal-clinics/2026-06-09/
LOCATION:Acton Community Services office\, 30 Sudbury Road Rear\, Acton\, MA\, 01720
END:VEVENT
BEGIN:VEVENT
DTSTART;TZID=America/New_York:20260714T160000
DTEND;TZID=America/New_York:20260714T180000
DTSTAMP:20260419T142748
CREATED:20250110T143035Z
LAST-MODIFIED:20250110T143035Z
UID:10000800-1784044800-1784052000@www.actonexchange.org
SUMMARY:Housing Legal Clinics
DESCRIPTION:The Acton Community Services Office within the Department of Health and Human Services\, in partnership with MetroWest Legal Services\, will host a monthly housing legal clinic beginning in January.  \nHousing Legal Clinic appointments will begin on Jan. 14 and will be held on the second Tuesday of each month from 4-6 p.m. at the Human Service and Senior Center\, 30 Sudbury Road Rear. \nBefore you attend a session\, you must complete the following registration form\, which can be found here. \nThe program\, which is funded by the American Rescue Plan Act\, will run until Dec. 31\, 2026.
URL:https://www.actonexchange.org/event/housing-legal-clinics/2026-07-14/
LOCATION:Acton Community Services office\, 30 Sudbury Road Rear\, Acton\, MA\, 01720
END:VEVENT
BEGIN:VEVENT
DTSTART;TZID=America/New_York:20260811T160000
DTEND;TZID=America/New_York:20260811T180000
DTSTAMP:20260419T142748
CREATED:20250110T143035Z
LAST-MODIFIED:20250110T143035Z
UID:10000801-1786464000-1786471200@www.actonexchange.org
SUMMARY:Housing Legal Clinics
DESCRIPTION:The Acton Community Services Office within the Department of Health and Human Services\, in partnership with MetroWest Legal Services\, will host a monthly housing legal clinic beginning in January.  \nHousing Legal Clinic appointments will begin on Jan. 14 and will be held on the second Tuesday of each month from 4-6 p.m. at the Human Service and Senior Center\, 30 Sudbury Road Rear. \nBefore you attend a session\, you must complete the following registration form\, which can be found here. \nThe program\, which is funded by the American Rescue Plan Act\, will run until Dec. 31\, 2026.
URL:https://www.actonexchange.org/event/housing-legal-clinics/2026-08-11/
LOCATION:Acton Community Services office\, 30 Sudbury Road Rear\, Acton\, MA\, 01720
END:VEVENT
BEGIN:VEVENT
DTSTART;TZID=America/New_York:20260908T160000
DTEND;TZID=America/New_York:20260908T180000
DTSTAMP:20260419T142748
CREATED:20250110T143035Z
LAST-MODIFIED:20250110T143035Z
UID:10000802-1788883200-1788890400@www.actonexchange.org
SUMMARY:Housing Legal Clinics
DESCRIPTION:The Acton Community Services Office within the Department of Health and Human Services\, in partnership with MetroWest Legal Services\, will host a monthly housing legal clinic beginning in January.  \nHousing Legal Clinic appointments will begin on Jan. 14 and will be held on the second Tuesday of each month from 4-6 p.m. at the Human Service and Senior Center\, 30 Sudbury Road Rear. \nBefore you attend a session\, you must complete the following registration form\, which can be found here. \nThe program\, which is funded by the American Rescue Plan Act\, will run until Dec. 31\, 2026.
URL:https://www.actonexchange.org/event/housing-legal-clinics/2026-09-08/
LOCATION:Acton Community Services office\, 30 Sudbury Road Rear\, Acton\, MA\, 01720
END:VEVENT
BEGIN:VEVENT
DTSTART;TZID=America/New_York:20261013T160000
DTEND;TZID=America/New_York:20261013T180000
DTSTAMP:20260419T142748
CREATED:20250110T143035Z
LAST-MODIFIED:20250110T143035Z
UID:10000803-1791907200-1791914400@www.actonexchange.org
SUMMARY:Housing Legal Clinics
DESCRIPTION:The Acton Community Services Office within the Department of Health and Human Services\, in partnership with MetroWest Legal Services\, will host a monthly housing legal clinic beginning in January.  \nHousing Legal Clinic appointments will begin on Jan. 14 and will be held on the second Tuesday of each month from 4-6 p.m. at the Human Service and Senior Center\, 30 Sudbury Road Rear. \nBefore you attend a session\, you must complete the following registration form\, which can be found here. \nThe program\, which is funded by the American Rescue Plan Act\, will run until Dec. 31\, 2026.
URL:https://www.actonexchange.org/event/housing-legal-clinics/2026-10-13/
LOCATION:Acton Community Services office\, 30 Sudbury Road Rear\, Acton\, MA\, 01720
END:VEVENT
BEGIN:VEVENT
DTSTART;TZID=America/New_York:20261110T160000
DTEND;TZID=America/New_York:20261110T180000
DTSTAMP:20260419T142748
CREATED:20250110T143035Z
LAST-MODIFIED:20250110T143035Z
UID:10000804-1794326400-1794333600@www.actonexchange.org
SUMMARY:Housing Legal Clinics
DESCRIPTION:The Acton Community Services Office within the Department of Health and Human Services\, in partnership with MetroWest Legal Services\, will host a monthly housing legal clinic beginning in January.  \nHousing Legal Clinic appointments will begin on Jan. 14 and will be held on the second Tuesday of each month from 4-6 p.m. at the Human Service and Senior Center\, 30 Sudbury Road Rear. \nBefore you attend a session\, you must complete the following registration form\, which can be found here. \nThe program\, which is funded by the American Rescue Plan Act\, will run until Dec. 31\, 2026.
URL:https://www.actonexchange.org/event/housing-legal-clinics/2026-11-10/
LOCATION:Acton Community Services office\, 30 Sudbury Road Rear\, Acton\, MA\, 01720
END:VEVENT
BEGIN:VEVENT
DTSTART;TZID=America/New_York:20261208T160000
DTEND;TZID=America/New_York:20261208T180000
DTSTAMP:20260419T142748
CREATED:20250110T143035Z
LAST-MODIFIED:20250110T143035Z
UID:10000805-1796745600-1796752800@www.actonexchange.org
SUMMARY:Housing Legal Clinics
DESCRIPTION:The Acton Community Services Office within the Department of Health and Human Services\, in partnership with MetroWest Legal Services\, will host a monthly housing legal clinic beginning in January.  \nHousing Legal Clinic appointments will begin on Jan. 14 and will be held on the second Tuesday of each month from 4-6 p.m. at the Human Service and Senior Center\, 30 Sudbury Road Rear. \nBefore you attend a session\, you must complete the following registration form\, which can be found here. \nThe program\, which is funded by the American Rescue Plan Act\, will run until Dec. 31\, 2026.
URL:https://www.actonexchange.org/event/housing-legal-clinics/2026-12-08/
LOCATION:Acton Community Services office\, 30 Sudbury Road Rear\, Acton\, MA\, 01720
END:VEVENT
END:VCALENDAR