BEGIN:VCALENDAR
VERSION:2.0
PRODID:-//The Acton Exchange - ECPv6.15.17.1//NONSGML v1.0//EN
CALSCALE:GREGORIAN
METHOD:PUBLISH
X-ORIGINAL-URL:https://www.actonexchange.org
X-WR-CALDESC:Events for The Acton Exchange
REFRESH-INTERVAL;VALUE=DURATION:PT1H
X-Robots-Tag:noindex
X-PUBLISHED-TTL:PT1H
BEGIN:VTIMEZONE
TZID:America/New_York
BEGIN:DAYLIGHT
TZOFFSETFROM:-0500
TZOFFSETTO:-0400
TZNAME:EDT
DTSTART:20240310T070000
END:DAYLIGHT
BEGIN:STANDARD
TZOFFSETFROM:-0400
TZOFFSETTO:-0500
TZNAME:EST
DTSTART:20241103T060000
END:STANDARD
BEGIN:DAYLIGHT
TZOFFSETFROM:-0500
TZOFFSETTO:-0400
TZNAME:EDT
DTSTART:20250309T070000
END:DAYLIGHT
BEGIN:STANDARD
TZOFFSETFROM:-0400
TZOFFSETTO:-0500
TZNAME:EST
DTSTART:20251102T060000
END:STANDARD
BEGIN:DAYLIGHT
TZOFFSETFROM:-0500
TZOFFSETTO:-0400
TZNAME:EDT
DTSTART:20260308T070000
END:DAYLIGHT
BEGIN:STANDARD
TZOFFSETFROM:-0400
TZOFFSETTO:-0500
TZNAME:EST
DTSTART:20261101T060000
END:STANDARD
BEGIN:DAYLIGHT
TZOFFSETFROM:-0500
TZOFFSETTO:-0400
TZNAME:EDT
DTSTART:20270314T070000
END:DAYLIGHT
BEGIN:STANDARD
TZOFFSETFROM:-0400
TZOFFSETTO:-0500
TZNAME:EST
DTSTART:20271107T060000
END:STANDARD
END:VTIMEZONE
BEGIN:VEVENT
DTSTART;TZID=America/New_York:20260110T160000
DTEND;TZID=America/New_York:20260110T183000
DTSTAMP:20260420T233241
CREATED:20260107T231940Z
LAST-MODIFIED:20260107T231940Z
UID:10003494-1768060800-1768069800@www.actonexchange.org
SUMMARY:Acton Community Chorus Winter Concert
DESCRIPTION:“I Hear the Stars Still Singing” is a constellation of contemporary choral music contemplating the stars and the universe\, featuring a multi-movement work by Kenneth Riggs called “Starlight Songs\,” plus works by other living composers such as J. Michael Saunders\, Jacob Narverud\, Susan LaBarr\, and Victor C. Johnson. The music ranges from exciting and hopeful to contemplative and serene\, while we consider how the stars influence and guide us through our lives. \nSnow date: January 11. \nFree for students (K -12)\, $28 general admission.
URL:https://www.actonexchange.org/event/acton-community-chorus-winter-concert/
LOCATION:Acton Congregational Church\, 12 Concord Road\, Acton\, MA\, 01720\, United States
ORGANIZER;CN="Acton Community Chorus":MAILTO:accinformation9@gmail.com
END:VEVENT
BEGIN:VEVENT
DTSTART;TZID=America/New_York:20250608T160000
DTEND;TZID=America/New_York:20250608T180000
DTSTAMP:20260420T233241
CREATED:20250526T145402Z
LAST-MODIFIED:20250526T145402Z
UID:10002231-1749398400-1749405600@www.actonexchange.org
SUMMARY:Acton Community Chorus: Celebrating Female Icons
DESCRIPTION:The Acton Community Chorus proudly presents their spring concert celebrating legendary female icons on Saturday\, June 7th at 7:00 PM and Sunday\, June 8th at 4:00 PM. Now in their 41st season\, the chorus will perform beloved hits from a diverse range of powerhouse artists including Aretha Franklin\, Lady Gaga\, Bonnie Raitt\, Dolly Parton\, Chappell Roan\, and many more. This musical tribute promises to showcase the extraordinary contributions women have made across various musical genres. \nJoin the celebration at Great Road Church in Acton. Tickets are available now on the chorus’s website at www.ActonCommunityChorus.org. Don’t miss this opportunity to experience these timeless classics. We hope to see you there!
URL:https://www.actonexchange.org/event/acton-community-chorus-celebrating-female-icons/2025-06-08/
ORGANIZER;CN="Acton Community Chorus":MAILTO:accinformation9@gmail.com
END:VEVENT
BEGIN:VEVENT
DTSTART;TZID=America/New_York:20250607T190000
DTEND;TZID=America/New_York:20250607T210000
DTSTAMP:20260420T233241
CREATED:20250526T145402Z
LAST-MODIFIED:20250526T145402Z
UID:10002230-1749322800-1749330000@www.actonexchange.org
SUMMARY:Acton Community Chorus: Celebrating Female Icons
DESCRIPTION:The Acton Community Chorus proudly presents their spring concert celebrating legendary female icons on Saturday\, June 7th at 7:00 PM and Sunday\, June 8th at 4:00 PM. Now in their 41st season\, the chorus will perform beloved hits from a diverse range of powerhouse artists including Aretha Franklin\, Lady Gaga\, Bonnie Raitt\, Dolly Parton\, Chappell Roan\, and many more. This musical tribute promises to showcase the extraordinary contributions women have made across various musical genres. \nJoin the celebration at Great Road Church in Acton. Tickets are available now on the chorus’s website at www.ActonCommunityChorus.org. Don’t miss this opportunity to experience these timeless classics. We hope to see you there!
URL:https://www.actonexchange.org/event/acton-community-chorus-celebrating-female-icons/2025-06-07/
ORGANIZER;CN="Acton Community Chorus":MAILTO:accinformation9@gmail.com
END:VEVENT
END:VCALENDAR