BEGIN:VCALENDAR
VERSION:2.0
PRODID:-//The Acton Exchange - ECPv6.15.17.1//NONSGML v1.0//EN
CALSCALE:GREGORIAN
METHOD:PUBLISH
X-ORIGINAL-URL:https://www.actonexchange.org
X-WR-CALDESC:Events for The Acton Exchange
REFRESH-INTERVAL;VALUE=DURATION:PT1H
X-Robots-Tag:noindex
X-PUBLISHED-TTL:PT1H
BEGIN:VTIMEZONE
TZID:America/New_York
BEGIN:DAYLIGHT
TZOFFSETFROM:-0500
TZOFFSETTO:-0400
TZNAME:EDT
DTSTART:20250309T070000
END:DAYLIGHT
BEGIN:STANDARD
TZOFFSETFROM:-0400
TZOFFSETTO:-0500
TZNAME:EST
DTSTART:20251102T060000
END:STANDARD
BEGIN:DAYLIGHT
TZOFFSETFROM:-0500
TZOFFSETTO:-0400
TZNAME:EDT
DTSTART:20260308T070000
END:DAYLIGHT
BEGIN:STANDARD
TZOFFSETFROM:-0400
TZOFFSETTO:-0500
TZNAME:EST
DTSTART:20261101T060000
END:STANDARD
BEGIN:DAYLIGHT
TZOFFSETFROM:-0500
TZOFFSETTO:-0400
TZNAME:EDT
DTSTART:20270314T070000
END:DAYLIGHT
BEGIN:STANDARD
TZOFFSETFROM:-0400
TZOFFSETTO:-0500
TZNAME:EST
DTSTART:20271107T060000
END:STANDARD
END:VTIMEZONE
BEGIN:VEVENT
DTSTART;TZID=America/New_York:20260708T133000
DTEND;TZID=America/New_York:20260708T143000
DTSTAMP:20260423T070440
CREATED:20260408T233503Z
LAST-MODIFIED:20260408T233503Z
UID:10003958-1783517400-1783521000@www.actonexchange.org
SUMMARY:Library: Tech Help at West Acton Citizens' Library
DESCRIPTION:Sign up on the program page on our website here! \nSign up for a 15-minute 1:1 tech help session. Please bring your device and any questions you might have. Registration is required.
URL:https://www.actonexchange.org/event/library-tech-help-at-west-acton-citizens-library-12/2026-07-08/
LOCATION:West Acton Citizens’ Library\, 21 Windsor Avenue\, Acton\, 01720
ORGANIZER;CN="West Acton Citizens' Library":MAILTO:WACL@actonma.gov
END:VEVENT
BEGIN:VEVENT
DTSTART;TZID=America/New_York:20260708T190000
DTEND;TZID=America/New_York:20260708T203000
DTSTAMP:20260423T070440
CREATED:20260331T204923Z
LAST-MODIFIED:20260331T205321Z
UID:10001639-1783537200-1783542600@www.actonexchange.org
SUMMARY:Acton Exchange All-Hands Meeting
DESCRIPTION:The Acton Exchange team holds monthly meetings that are open to our active volunteers and anyone who might want to become a volunteer. If you have an Acton connection and want to contribute to independent community journalism in our town\, it is likely that the AE has a role for you\, whatever your skill sets and interests might be. Each meeting begins with an opportunity to learn what has been going on at the Acton Exchange\, followed by an opportunity to improve our journalism skills. Meetings are either  hybrid (in-person or zoom) or zoom-only.   For this month’s venue and topic\, email info@actonexchange.org. \nUse this link to join by Zoom:\nhttps://us02web.zoom.us/j/86431644688?pwd=RXNReWE5N2Rzdkc1QjUzQnF5d0NKdz09\nThe password\, if needed\, is newspaper.
URL:https://www.actonexchange.org/event/acton-exchange-all-hands-meeting-3/2026-07-08/
LOCATION:ActonTV offices\, 16a Craig Road\, Acton\, MA\, 01720\, United States
ORGANIZER;CN="Acton Exchange":MAILTO:info@actonexchange.org
END:VEVENT
BEGIN:VEVENT
DTSTART;TZID=America/New_York:20260710T200000
DTEND;TZID=America/New_York:20260710T223000
DTSTAMP:20260423T070440
CREATED:20260421T153852Z
LAST-MODIFIED:20260421T153852Z
UID:10004057-1783713600-1783722600@www.actonexchange.org
SUMMARY:NARA:  Animals - Maroon 5 Tribute
DESCRIPTION:Get ready for an unforgettable evening as Animals\, a sensational Maroon 5 tribute band\, takes the stage at NARA Park on Friday\, July 10\, at 8 p.m. This exciting event promises to deliver all the chart-topping hits and energetic performances that Maroon 5 fans love\, making it a must-see for music enthusiasts of all ages. Join fellow fans for a night filled with great music\, vibrant atmosphere\, and the chance to celebrate the iconic sounds of one of pop music’s biggest bands. \nParking at NARA Park is free\, but don’t count on finding a spot right next to the entrance—those are reserved for the early birds! Carpooling or  is encouraged to minimize congestion.  Parking will be located in the upper parking lots and overflow parking on the fields: 75 Quarry Road\, Acton. \nFAQ \nCan I get tickets at the gate? \nTickets may be purchased at the gate by credit card only\, no cash sales.  Save time and buy online. \nWhat time do the gates open for the concert? \nThe gates at NARA Park will open one hour before the concert starts\, allowing attendees to find their seats and enjoy the atmosphere. \nAre there age restrictions for the event? \nThis event is family-friendly and welcomes attendees of all ages. However\, children under the age of 12 must be accompanied by an adult. Children under the age of 12 are admitted for free with paying adult. \nWill there be food and beverages available at the venue? \nYes\, NARA Park will have various food and beverage vendors on-site for concertgoers to enjoy during the event. \nWhat should I do if I have special accessibility needs?   \nNARA Park is committed to ensuring accessibility for all guests. If you have special needs\, please contact the Acton Parks and Recreation Department in advance for assistance and accommodations. \nAll events are subject to change is necessary.  End time is an approximate.
URL:https://www.actonexchange.org/event/nara-animals-maroon-5-tribute/
LOCATION:NARA Park Amphitheater\, 71 Quarry Road\, Acton\, MA\, 01720\, United States
ORGANIZER;CN="Acton Recreation Department":MAILTO:recreation@actonma.gov
END:VEVENT
END:VCALENDAR