BEGIN:VCALENDAR
VERSION:2.0
PRODID:-//The Acton Exchange - ECPv6.15.17.1//NONSGML v1.0//EN
CALSCALE:GREGORIAN
METHOD:PUBLISH
X-ORIGINAL-URL:https://www.actonexchange.org
X-WR-CALDESC:Events for The Acton Exchange
REFRESH-INTERVAL;VALUE=DURATION:PT1H
X-Robots-Tag:noindex
X-PUBLISHED-TTL:PT1H
BEGIN:VTIMEZONE
TZID:America/New_York
BEGIN:DAYLIGHT
TZOFFSETFROM:-0500
TZOFFSETTO:-0400
TZNAME:EDT
DTSTART:20250309T070000
END:DAYLIGHT
BEGIN:STANDARD
TZOFFSETFROM:-0400
TZOFFSETTO:-0500
TZNAME:EST
DTSTART:20251102T060000
END:STANDARD
BEGIN:DAYLIGHT
TZOFFSETFROM:-0500
TZOFFSETTO:-0400
TZNAME:EDT
DTSTART:20260308T070000
END:DAYLIGHT
BEGIN:STANDARD
TZOFFSETFROM:-0400
TZOFFSETTO:-0500
TZNAME:EST
DTSTART:20261101T060000
END:STANDARD
BEGIN:DAYLIGHT
TZOFFSETFROM:-0500
TZOFFSETTO:-0400
TZNAME:EDT
DTSTART:20270314T070000
END:DAYLIGHT
BEGIN:STANDARD
TZOFFSETFROM:-0400
TZOFFSETTO:-0500
TZNAME:EST
DTSTART:20271107T060000
END:STANDARD
END:VTIMEZONE
BEGIN:VEVENT
DTSTART;TZID=America/New_York:20260329T130000
DTEND;TZID=America/New_York:20260329T153000
DTSTAMP:20260423T070332
CREATED:20260218T172419Z
LAST-MODIFIED:20260218T174213Z
UID:10003677-1774789200-1774798200@www.actonexchange.org
SUMMARY:HONK! at Open Door Theater
DESCRIPTION:Open Door Theater Takes Flight with HONK! at The Dragonfly Theater\, R.J. Grey Jr. HS in Acton\, March 20-29\, 2026.  \nOpen Door Theater (opendoortheater.org)\, based in Acton is proud to announce our production of HONK!\, a musical telling of “The Ugly Duckling” story. HONK! is a heartwarming celebration of being different that is sure to delight audiences of all ages. Ugly looks quite a bit different from his siblings\, and others are quick to notice and point this out. Ugly is kind-hearted\, awkward and innocent\, and his journey of self-discovery is the heart of the show. This messaging supports the mission of Open Door Theater and will resonate with audiences now more than ever. Like Open Door Theater\, HONK! has the audacity to assert that the default state of community should be inclusion and that “fowl” behavior will no longer be tolerated. \nNOTE: All performances are relaxed/sensory friendly and feature ASL interpretation and open captioning. Performances on March 27\, 28\, and 29 are also audio-described. \nTickets are $20\, with free or discounted tickets available for EBT\, WIC and ConnectorCare cardholders. \nFor more information\, see www.opendoortheater.org.
URL:https://www.actonexchange.org/event/honk-at-open-door-theater/2026-03-29/
LOCATION:Dragonfly Theater (RJ Grey Jr HS)\, 16 Charter Road\, Acton\, MA\, 01720
ORGANIZER;CN="Open Door Theater":MAILTO:info@opendoortheater.org
END:VEVENT
BEGIN:VEVENT
DTSTART;TZID=America/New_York:20260330T183000
DTEND;TZID=America/New_York:20260330T193000
DTSTAMP:20260423T070332
CREATED:20260207T162549Z
LAST-MODIFIED:20260207T162549Z
UID:10003658-1774895400-1774899000@www.actonexchange.org
SUMMARY:Library: Line Dancing Social Hour
DESCRIPTION:Do you love line dancing or just want to get into it? Come to our Line Dancing Social Hour to dance with others in the community. Learn new dances or just dance some of your favorites! This is not a structured lesson\, just an opportunity to dance socially with others. \nSign up here 
URL:https://www.actonexchange.org/event/library-line-dancing-social-hour-5/
LOCATION:Acton Memorial Library Meeting Room (1st floor)\, 486 Main Street\, Acton\, MA\, 01720\, United States
END:VEVENT
BEGIN:VEVENT
DTSTART;TZID=America/New_York:20260331T130000
DTEND;TZID=America/New_York:20260331T140000
DTSTAMP:20260423T070332
CREATED:20260227T230317Z
LAST-MODIFIED:20260227T230317Z
UID:10003694-1774962000-1774965600@www.actonexchange.org
SUMMARY:Acton COA Presents: The Railroad in Song with Jon & Li Waterman
DESCRIPTION:Join acoustic duo Jon and Li Waterman on a tour of songs about trains\, the building of the railroad\, workers on the railroad\, train wrecks\, heroes and hobos. The program looks at the Transcontinental Railroad\, the contribution of Chinese and Irish immigrants\, the stories of Casey Jones and John Henry\, the Old 97 train wreck\, the Great migration and more. The show consists of songs\, history\, and an accompanying slide presentation. Jon and Li Waterman perform as the acoustic duo Sultana whose performances are enthusiastically received at the Senior Center. Jon has been performing his original songs throughout his life. His music is influenced by intriguing characters and stories from history\, the roots of the music he loves\, and the diversity of the human experience. Li is a classically trained guitarist and singer\, as well as a visual artist. \nOpen to out-of-towners age 60+ for $5
URL:https://www.actonexchange.org/event/acton-coa-presents-the-railroad-in-song-with-jon-li-waterman/
LOCATION:Acton Senior Center\, 30 Sudbury Road Rear\, Acton\, MA\, 01720
ORGANIZER;CN="Acton Council on Aging":MAILTO:seniorcenter@actonma.gov
END:VEVENT
BEGIN:VEVENT
DTSTART;TZID=America/New_York:20260331T170000
DTEND;TZID=America/New_York:20260331T170000
DTSTAMP:20260423T070332
CREATED:20260326T005534Z
LAST-MODIFIED:20260326T005534Z
UID:10003909-1774976400-1774976400@www.actonexchange.org
SUMMARY:Gnargonauts Mountain Bike Team Information Session
DESCRIPTION:Gnargonauts is the area mountain bike team for youth in Grades 5 – 12. At this info session\, you will have a chance to meet the coaches and current riders. We will provide an overview of the team and New England Youth Cycling and explain how we approach skills development. There will be optional bike games outside\, so bring a bike and helmet. All riders and experience levels welcome! Questions: gnargonauts.mtb@gmail.com
URL:https://www.actonexchange.org/event/gnargonauts-mountain-bike-team-information-session/
LOCATION:Pedal Power Bike & Ski Shop\, 176 Great Rd\, Acton\, 01720\, United States
END:VEVENT
BEGIN:VEVENT
DTSTART;TZID=America/New_York:20260331T180000
DTEND;TZID=America/New_York:20260331T190000
DTSTAMP:20260423T070332
CREATED:20260207T162630Z
LAST-MODIFIED:20260207T162630Z
UID:10003659-1774980000-1774983600@www.actonexchange.org
SUMMARY:Library: Embodied Awareness for Balance and Ease: An Introduction to the Alexander Technique
DESCRIPTION:In this interactive workshop\, we will explore tools from the Alexander Technique\, a scientifically supported mind-body awareness practice. Come learn how fine-tuning your sensory awareness\, redistributing muscular effort\, and cooperating with your system’s innate design can help you stand\, walk\, and move with more ease. \nSign up here
URL:https://www.actonexchange.org/event/library-embodied-awareness-for-balance-and-ease-an-introduction-to-the-alexander-technique-2/
LOCATION:Acton Memorial Library Meeting Room (1st floor)\, 486 Main Street\, Acton\, MA\, 01720\, United States
END:VEVENT
BEGIN:VEVENT
DTSTART;TZID=America/New_York:20260401T140000
DTEND;TZID=America/New_York:20260401T150000
DTSTAMP:20260423T070332
CREATED:20260323T230350Z
LAST-MODIFIED:20260323T230350Z
UID:10003734-1775052000-1775055600@www.actonexchange.org
SUMMARY:Library: Sewing and Embroidery Club @ West
DESCRIPTION:Sign up on the program page on our website here! \nThis month’s craft will be: Spring Baskets
URL:https://www.actonexchange.org/event/library-sewing-and-embroidery-club-west-7/
LOCATION:West Acton Citizens’ Library\, 21 Windsor Avenue\, Acton\, 01720
ORGANIZER;CN="West Acton Citizens' Library":MAILTO:WACL@actonma.gov
END:VEVENT
BEGIN:VEVENT
DTSTART;TZID=America/New_York:20260401T161500
DTEND;TZID=America/New_York:20260401T173000
DTSTAMP:20260423T070332
CREATED:20260326T003036Z
LAST-MODIFIED:20260330T150247Z
UID:10003852-1775060100-1775064600@www.actonexchange.org
SUMMARY:Acton Community Supper – April
DESCRIPTION:Welcome the warmth and beautiful colors of Spring as the flowers and buds begin to pop around us. We look forward to sharing a meal and friendship with you every Wednesday. \nApril 2026 menu \nApril 1       Baked Ziti and Garlic Bread\nSponsored by Friends of Mike Tobia \nApril 8       Chicken Chili and Corn Bread\nSponsored by Friends of Community Supper \nApril 15      Chicken and Dumplings\nSponsored by Mt Calvary Lutheran Church \nApril 22     BBQ Chicken and Tater Tots\nSponsored by Boston Metro West Bible Church of Littleton \nApril 29      Hot Dogs with all the “Fixins”\nSponsored by Congregation Beth Elohim \nDinner is served 4:30pm – 5:30pm. Doors open at 4:15pm. Please\, do not enter prior so our volunteers can prepare your Supper. \nParking: Park your car in the back parking lot and enter from the walkway to the church door. \nhttp://www.mtcalvaryacton.org/Community-Supper \nhttp://www.facebook.com/CommunitySupperofActonMA
URL:https://www.actonexchange.org/event/acton-community-supper-april-2/2026-04-01/
LOCATION:Mt Cavalry Lutheran Church\, 472 Massachusetts Ave.\, Acton\, MA\, 01720
END:VEVENT
BEGIN:VEVENT
DTSTART;TZID=America/New_York:20260401T180000
DTEND;TZID=America/New_York:20260401T190000
DTSTAMP:20260423T070332
CREATED:20260323T230510Z
LAST-MODIFIED:20260323T230510Z
UID:10003735-1775066400-1775070000@www.actonexchange.org
SUMMARY:Library: Sewing and Embroidery Club @ AML
DESCRIPTION:Sign up on the program page on our wesbite here! \nThis month’s craft will be: Spring Baskets
URL:https://www.actonexchange.org/event/library-sewing-and-embroidery-club-aml-7/
LOCATION:Acton Memorial Library Meeting Room (1st floor)\, 486 Main Street\, Acton\, MA\, 01720\, United States
END:VEVENT
BEGIN:VEVENT
DTSTART;TZID=America/New_York:20260402T180000
DTEND;TZID=America/New_York:20260402T190000
DTSTAMP:20260423T070332
CREATED:20260323T230659Z
LAST-MODIFIED:20260323T230659Z
UID:10003736-1775152800-1775156400@www.actonexchange.org
SUMMARY:Library: Gallery Artist Series - The World We Share
DESCRIPTION:Sign up on the program page on our website here! \nJoin us at Acton Memorial Library for a discussion from the artists on the March/April gallery art titled “The World We Share” presented by SHARED HABITAT EARTH.
URL:https://www.actonexchange.org/event/library-gallery-artist-series-the-world-we-share/
LOCATION:Acton Memorial Library Meeting Room (1st floor)\, 486 Main Street\, Acton\, MA\, 01720\, United States
END:VEVENT
BEGIN:VEVENT
DTSTART;TZID=America/New_York:20260402T190000
DTEND;TZID=America/New_York:20260402T203000
DTSTAMP:20260423T070332
CREATED:20260319T003043Z
LAST-MODIFIED:20260319T003043Z
UID:10003732-1775156400-1775161800@www.actonexchange.org
SUMMARY:U.S. EPA: Update on Nuclear Metals Inc Superfund Site
DESCRIPTION:EPA will hold a public meeting to provide an update about the Nuclear Metals Inc Superfund Site. The meeting will be hybrid (in person or virtual) and will cover the site’s history\, the cleanup plan\, and updates on the cleanup activities currently underway. \n  \nIn-person: \nConcord Town House\, Public Hearing Room\, Second Floor \n22 Monument Square \nConcord\, MA 01742 \nVirtual Option: \nMicrosoft Teams Meeting \nJoin: https://teams.microsoft.com/meet/2543236799278?p=ULrAZRlu8A0uaK8rA0 \nMeeting ID: 254 323 679 927 8 \nPasscode: aT7NW28X
URL:https://www.actonexchange.org/event/u-s-epa-update-on-nuclear-metals-inc-superfund-site/
LOCATION:Concord Town House – Public Hearing Room\, Second Floor\, 22 Monument Square\, Concord\, MA\, 01742\, United States
END:VEVENT
BEGIN:VEVENT
DTSTART;TZID=America/New_York:20260403T090000
DTEND;TZID=America/New_York:20260403T120000
DTSTAMP:20260423T070332
CREATED:20251003T190236Z
LAST-MODIFIED:20251003T190236Z
UID:10002771-1775206800-1775217600@www.actonexchange.org
SUMMARY:Danny's Place School Days Off
DESCRIPTION:Join the School Days Off at Danny’s Place! Kids in grades K–5 can attend from 9 AM–12 PM and enjoy a day of themed activities\, games\, and creative fun. Whether the day’s focus is tied to a holiday or simply a special seasonal activity\, it’s always a great time to connect\, learn\, and play. \nSchool Days Off are offered individually (or as a membership). \n$75.00 per kid per session.
URL:https://www.actonexchange.org/event/dannys-place-school-days-off/2026-04-03/
LOCATION:Danny’s Place\, 543 Mass Ave.\, Acton\, MA\, 01720
END:VEVENT
BEGIN:VEVENT
DTSTART;TZID=America/New_York:20260403T193000
DTEND;TZID=America/New_York:20260403T210000
DTSTAMP:20260423T070332
CREATED:20260316T185334Z
LAST-MODIFIED:20260316T185334Z
UID:10003724-1775244600-1775250000@www.actonexchange.org
SUMMARY:Good Friday Concert at Acton Congregation Church
DESCRIPTION:The Senior Choir of Acton Congregational Church along with guest singers from area choruses will present Margaret Bonds’s masterwork\, Credo\, as part of its special Good Friday service on April 3rd.\n\nBonds composed Credo in 1965\, setting to music the powerful and inspirational words written by W.E.B. Du Bois in 1904. Modern performers and audience can find elements of Credo uncomfortable\, in part because the work forces us to confront the injustice of American slavery and its legacy head on\, as both Du Bois and Bonds intended.For more information about this piece\, see https://www.actonc.org/post/good-friday-credo.\n\nThe music of Bonds and text of Du Bois will be interwoven with scripture and moments of reflection\, drawing connections between the passion of Christ and the suffering of people of color throughout our country’s history. Soprano Amy Onyonyi and Tenor Christon Carney will be featured soloists with Elizabeth Carley\, Acton Congregational’s talented organist and pianist. Senior Choir Director\, Elinor A. Armsby leads the performance.
URL:https://www.actonexchange.org/event/good-friday-concert-at-acton-congregation-church/
LOCATION:Acton Congregational Church\, 12 Concord Road\, Acton\, MA\, 01720\, United States
ORGANIZER;CN="Acton Congregational Church":MAILTO:office@actonc.org
END:VEVENT
BEGIN:VEVENT
DTSTART;TZID=America/New_York:20260404T120000
DTEND;TZID=America/New_York:20260404T130000
DTSTAMP:20260423T070332
CREATED:20260401T203354Z
LAST-MODIFIED:20260401T203420Z
UID:10003919-1775304000-1775307600@www.actonexchange.org
SUMMARY:Iron Work Farm Egg Hunt
DESCRIPTION:Our traditional spring egg hunt on the old Faulkner farm–with both eggs and toys to find!  Bring your own basket\, ready to fill.\n\nAll kids must be accompanied by an adult.  $10 per child.\n\nReservations required:  email us at president@ironworkfarm.org.\n\nFaulkner House\, 5 High Street; parking available in nearby public lots
URL:https://www.actonexchange.org/event/iron-work-farm-egg-hunt/
LOCATION:Faulkner House\, 5 High Street\, Acton\, 01720
END:VEVENT
END:VCALENDAR