BEGIN:VCALENDAR
VERSION:2.0
PRODID:-//The Acton Exchange - ECPv6.15.17.1//NONSGML v1.0//EN
CALSCALE:GREGORIAN
METHOD:PUBLISH
X-WR-CALNAME:The Acton Exchange
X-ORIGINAL-URL:https://www.actonexchange.org
X-WR-CALDESC:Events for The Acton Exchange
REFRESH-INTERVAL;VALUE=DURATION:PT1H
X-Robots-Tag:noindex
X-PUBLISHED-TTL:PT1H
BEGIN:VTIMEZONE
TZID:America/New_York
BEGIN:DAYLIGHT
TZOFFSETFROM:-0500
TZOFFSETTO:-0400
TZNAME:EDT
DTSTART:20240310T070000
END:DAYLIGHT
BEGIN:STANDARD
TZOFFSETFROM:-0400
TZOFFSETTO:-0500
TZNAME:EST
DTSTART:20241103T060000
END:STANDARD
BEGIN:DAYLIGHT
TZOFFSETFROM:-0500
TZOFFSETTO:-0400
TZNAME:EDT
DTSTART:20250309T070000
END:DAYLIGHT
BEGIN:STANDARD
TZOFFSETFROM:-0400
TZOFFSETTO:-0500
TZNAME:EST
DTSTART:20251102T060000
END:STANDARD
BEGIN:DAYLIGHT
TZOFFSETFROM:-0500
TZOFFSETTO:-0400
TZNAME:EDT
DTSTART:20260308T070000
END:DAYLIGHT
BEGIN:STANDARD
TZOFFSETFROM:-0400
TZOFFSETTO:-0500
TZNAME:EST
DTSTART:20261101T060000
END:STANDARD
END:VTIMEZONE
BEGIN:VEVENT
DTSTART;TZID=America/New_York:20251123T100000
DTEND;TZID=America/New_York:20251123T130000
DTSTAMP:20260420T195152
CREATED:20251102T225815Z
LAST-MODIFIED:20251102T225815Z
UID:10003233-1763892000-1763902800@www.actonexchange.org
SUMMARY:AB Farmer's Market Winter Market
DESCRIPTION:Indoors at West Acton Villageworks. \nStock up on winter provisions\, staples\, and specialty foods for your celebrations! \nPies\, greens\, apples\, mushrooms\, eggs\, bagels\, beef\, pork\, chicken\, fish\, breads\, wine\, mead\, beer\, dumplings\, chai\, honey\, granola\, coffee\, cranberry sauce\, vegetables\, houseplants\, yarn\, and more! \nwww.ABFarmersMarket.org \n  \n 
URL:https://www.actonexchange.org/event/ab-farmers-market-winter-market/
LOCATION:West Acton Villageworks\, 525 Mass Ave.\, Acton\, MA\, 01720\, United States
END:VEVENT
BEGIN:VEVENT
DTSTART;TZID=America/New_York:20251123T100000
DTEND;TZID=America/New_York:20251123T140000
DTSTAMP:20260420T195152
CREATED:20251029T235640Z
LAST-MODIFIED:20251030T000124Z
UID:10003213-1763892000-1763906400@www.actonexchange.org
SUMMARY:Acton Lions Ski and Skate Sale
DESCRIPTION:Sell or buy all your winter sporting gear (skis\, boots\, poles\, skates\, and more!) \nGear Drop-off  \n\nFriday November 21st; 6:30 – 8 pm\nSaturday November 22nd; 8 – 10 am\n\nSale \n\nSaturday November 22nd; 11 am – 4 pm\nSunday November 23rd; 10 am – 2 pm\n\nAll money raised goes to local charities.
URL:https://www.actonexchange.org/event/acton-lions-ski-and-skate-sale/2025-11-23/
LOCATION:Luther Conant Elementary School\, 80 Taylor Road\,\, Acton\, MA\, 01720\, United States
ORGANIZER;CN="Acton Lions Club":MAILTO:acton_lions@hotmail.com
END:VEVENT
BEGIN:VEVENT
DTSTART;TZID=America/New_York:20251123T150000
DTEND;TZID=America/New_York:20251123T170000
DTSTAMP:20260420T195152
CREATED:20251029T235934Z
LAST-MODIFIED:20251030T000020Z
UID:10003214-1763910000-1763917200@www.actonexchange.org
SUMMARY:Acton Lions Ski and Skate Sale Pickup and Payout
DESCRIPTION:Sell or buy all your winter sporting gear (skis\, boots\, poles\, skates\, and more!) \nPayout or Pickup:  Sunday November 23rd; 3 – 5 pm \nPick up unsold items and consignment payout Sunday\, Nov. 23rd\, 3 – 5 pm. \nThe Lions Club will pay consignment donors 70% of the sale price of each item\nsold. \nAny items not picked up by 5 p.m. on Nov. 23rd will be considered a donation. \nAll money raised goes to local charities.
URL:https://www.actonexchange.org/event/acton-lions-annual-ski-and-skate-sale-pickup-and-payout/
LOCATION:Luther Conant Elementary School\, 80 Taylor Road\,\, Acton\, MA\, 01720\, United States
ORGANIZER;CN="Acton Lions Club":MAILTO:acton_lions@hotmail.com
END:VEVENT
BEGIN:VEVENT
DTSTART;TZID=America/New_York:20251125T130000
DTEND;TZID=America/New_York:20251125T140000
DTSTAMP:20260420T195152
CREATED:20251103T164111Z
LAST-MODIFIED:20251103T164111Z
UID:10003226-1764075600-1764079200@www.actonexchange.org
SUMMARY:Acton COA Presents: Protect Yourself from Fraud and Identity Theft with AARP
DESCRIPTION:Each year criminals steal billions from Americans using tactics including tech support and business impersonation\, AI\, cryptocurrency\, and social media. Join Alice Diamond of the AARP Speakers Bureau for an eye-opening session where she will delve into the strategies of scammers and how you can outsmart them. Learn the essential steps to safeguard your identity and finances. Don’t miss this crucial presentation—your security could depend on it! \nAlice Diamond formerly served as Associate Dean of Career and Community Service at Lesley University. She became interested in joining efforts to combat fraud when she encountered numerous fraudulent job postings in her work. Alice volunteers on the AARP Fraud Watch Network Helpline.  \nOpen to all age 60+/free
URL:https://www.actonexchange.org/event/acton-coa-presents-protect-yourself-from-fraud-and-identity-theft-with-aarp/
LOCATION:Acton Senior Center\, 30 Sudbury Road Rear\, Acton\, MA\, 01720
ORGANIZER;CN="Acton Council on Aging":MAILTO:seniorcenter@actonma.gov
END:VEVENT
BEGIN:VEVENT
DTSTART;TZID=America/New_York:20251125T150000
DTEND;TZID=America/New_York:20251125T160000
DTSTAMP:20260420T195152
CREATED:20250320T183204Z
LAST-MODIFIED:20251227T235413Z
UID:10001702-1764082800-1764086400@www.actonexchange.org
SUMMARY:Library: Yarn & Needle Club
DESCRIPTION:Knitters\, crocheters\, embroiderers\, and sewers\, join the library to work on your project and socialize! We meet every 2nd and 4th Tuesday of the month.
URL:https://www.actonexchange.org/event/library-yarn-needle-club/2025-11-25/
LOCATION:Acton Memorial Library Meeting Room (1st floor)\, 486 Main Street\, Acton\, MA\, 01720\, United States
END:VEVENT
BEGIN:VEVENT
DTSTART;TZID=America/New_York:20251125T183000
DTEND;TZID=America/New_York:20251125T200000
DTSTAMP:20260420T195152
CREATED:20250418T144117Z
LAST-MODIFIED:20251021T134946Z
UID:10002106-1764095400-1764100800@www.actonexchange.org
SUMMARY:Library: Great Decisions Group Discussion – U.S. Leadership
DESCRIPTION:Meeting Room\, Acton Memorial Library\, 486 Main Street\, Acton\, MA\, 01720\n \n\nGreat Decisions is America’s largest discussion program on world affairs. The program model involves reading the Great Decisions Briefing Book and meeting in a Discussion Group to discuss the most critical global issues facing America today. This months topic will be on U.S. Leadership. A short article is available from the Great Decisions briefing book. Please read it ahead of the meeting. It is available in the library. \nUnder President Biden\, the U.S. has advanced new ideas about trade\, technology\, industrial policy\, competition with China\, and the organization of the world economy. For most of the postwar era\, the U.S. has tied its global leadership to cooperative agendas aimed at creating a more open-world trading system\, but that has apparently come to an end. What are America’s options and opportunities as a leader of the world economy? How will America’s “foreign policy for the middle class” and strategic competition with China impact its leadership role? How can the postwar rules and institutions of the world economy be made safe for economic nationalism and great power competition? \nReasonable accommodations for individuals with disabilities are available upon request by emailing library@actonma.gov.
URL:https://www.actonexchange.org/event/library-great-decisions-group-discussion-u-s-leadership/
LOCATION:Acton Memorial Library\, 486 Main St.\, Acton\, MA\, 01720\, United States
END:VEVENT
BEGIN:VEVENT
DTSTART;TZID=America/New_York:20251128T150000
DTEND;TZID=America/New_York:20251128T180000
DTSTAMP:20260420T195152
CREATED:20251128T212539Z
LAST-MODIFIED:20251128T212539Z
UID:10003280-1764342000-1764352800@www.actonexchange.org
SUMMARY:Acton Lions: Christmas Tree Sale
DESCRIPTION:The holiday season is here\, and so is one of Acton’s favorite traditions! The Acton Lions Club is once again proud to host our long-running Christmas Tree Sale—a cheerful community gathering that has brought families together for decades. Come join the fun\, feel the Christmas spirit\, and pick out the perfect tree to brighten your home this holiday season! \nAll proceeds help support charitable and community needs locally\, nationally\, and even around the world.
URL:https://www.actonexchange.org/event/acton-lions-christmas-tree-sale/2025-11-28/
LOCATION:Acton Ace Hardware parking lot\, 210 Main Street\, Acton\, MA\, 01720
ORGANIZER;CN="Acton Lions Club":MAILTO:acton_lions@hotmail.com
END:VEVENT
BEGIN:VEVENT
DTSTART;TZID=America/New_York:20251129T100000
DTEND;TZID=America/New_York:20251129T180000
DTSTAMP:20260420T195152
CREATED:20251128T213151Z
LAST-MODIFIED:20251128T213151Z
UID:10003284-1764410400-1764439200@www.actonexchange.org
SUMMARY:Acton Lions: Christmas Tree Sale
DESCRIPTION:The holiday season is here\, and so is one of Acton’s favorite traditions! The Acton Lions Club is once again proud to host our long-running Christmas Tree Sale—a cheerful community gathering that has brought families together for decades. Come join the fun\, feel the Christmas spirit\, and pick out the perfect tree to brighten your home this holiday season! \nAll proceeds help support charitable and community needs locally\, nationally\, and even around the world.
URL:https://www.actonexchange.org/event/acton-lions-christmas-tree-sale-2/2025-11-29/
LOCATION:Acton Ace Hardware parking lot\, 210 Main Street\, Acton\, MA\, 01720
ORGANIZER;CN="Acton Lions Club":MAILTO:acton_lions@hotmail.com
END:VEVENT
END:VCALENDAR