BEGIN:VCALENDAR
VERSION:2.0
PRODID:-//The Acton Exchange - ECPv6.15.17.1//NONSGML v1.0//EN
CALSCALE:GREGORIAN
METHOD:PUBLISH
X-WR-CALNAME:The Acton Exchange
X-ORIGINAL-URL:https://www.actonexchange.org
X-WR-CALDESC:Events for The Acton Exchange
REFRESH-INTERVAL;VALUE=DURATION:PT1H
X-Robots-Tag:noindex
X-PUBLISHED-TTL:PT1H
BEGIN:VTIMEZONE
TZID:America/New_York
BEGIN:DAYLIGHT
TZOFFSETFROM:-0500
TZOFFSETTO:-0400
TZNAME:EDT
DTSTART:20250309T070000
END:DAYLIGHT
BEGIN:STANDARD
TZOFFSETFROM:-0400
TZOFFSETTO:-0500
TZNAME:EST
DTSTART:20251102T060000
END:STANDARD
BEGIN:DAYLIGHT
TZOFFSETFROM:-0500
TZOFFSETTO:-0400
TZNAME:EDT
DTSTART:20260308T070000
END:DAYLIGHT
BEGIN:STANDARD
TZOFFSETFROM:-0400
TZOFFSETTO:-0500
TZNAME:EST
DTSTART:20261101T060000
END:STANDARD
BEGIN:DAYLIGHT
TZOFFSETFROM:-0500
TZOFFSETTO:-0400
TZNAME:EDT
DTSTART:20270314T070000
END:DAYLIGHT
BEGIN:STANDARD
TZOFFSETFROM:-0400
TZOFFSETTO:-0500
TZNAME:EST
DTSTART:20271107T060000
END:STANDARD
END:VTIMEZONE
BEGIN:VEVENT
DTSTART;TZID=America/New_York:20260425T110000
DTEND;TZID=America/New_York:20260425T120000
DTSTAMP:20260419T111228
CREATED:20260408T225248Z
LAST-MODIFIED:20260408T225248Z
UID:10003921-1777114800-1777118400@www.actonexchange.org
SUMMARY:Library: Egg Carton Flowers @ West
DESCRIPTION:Sign up on the program page on our website here! \nFor Adults!\n \nJoin for some chatting\, music\, and crafting! \nThis month’s craft is: Egg Carton Flowers
URL:https://www.actonexchange.org/event/library-egg-carton-flowers-west/
LOCATION:West Acton Citizens’ Library\, 21 Windsor Avenue\, Acton\, 01720
ORGANIZER;CN="West Acton Citizens' Library":MAILTO:WACL@actonma.gov
END:VEVENT
BEGIN:VEVENT
DTSTART;TZID=America/New_York:20260425T130000
DTEND;TZID=America/New_York:20260425T150000
DTSTAMP:20260419T111228
CREATED:20260411T135227Z
LAST-MODIFIED:20260411T135227Z
UID:10004030-1777122000-1777129200@www.actonexchange.org
SUMMARY:Acton 250: South Acton walking tour with Amy Cole
DESCRIPTION:Join professional tour leader and Acton resident Amy Cole on a walking tour of South Acton. \nThe walk is free\, but you must register as the walk is limited to 25 people. Register here: https://tinyurl.com/Apr25-Acton250. \nYou will receive details on parking\, and where to meet closer to April 25th. \nProfessional tour leader Amy Cole grew up near Acton Center and has a wide ranging-interest in Acton’s unique history. \nExploring South Acton’s historic Mill Corner provides insight into the area’s earliest colonial settlement and its transformation into a\ncenter of industry and commerce. \nPlease see https://www.actonma.gov/250 for more programming information.
URL:https://www.actonexchange.org/event/acton-250-south-acton-walking-tour-with-amy-cole/
LOCATION:Provided after registration
END:VEVENT
BEGIN:VEVENT
DTSTART;TZID=America/New_York:20260425T140000
DTEND;TZID=America/New_York:20260425T160000
DTSTAMP:20260419T111228
CREATED:20260416T002257Z
LAST-MODIFIED:20260416T002257Z
UID:10004052-1777125600-1777132800@www.actonexchange.org
SUMMARY:Acton Clean-Up: Litter pickup
DESCRIPTION:Litter pickup at Boardwalk Campus: register here \nActon residents\, businesses\, town staff\, and organizations work together to support a spring-time clean-up — a time for everyone to help pick up trash and recyclables in public areas around town.
URL:https://www.actonexchange.org/event/acton-clean-up-litter-pickup-2/
LOCATION:Boardwalk Campus\, 73-75 Spruce Street\, Acton\, MA\, 01720\, United States
ORGANIZER;CN="Green Acton":MAILTO:info@greenacton.org
END:VEVENT
BEGIN:VEVENT
DTSTART;TZID=America/New_York:20260425T140000
DTEND;TZID=America/New_York:20260425T170000
DTSTAMP:20260419T111228
CREATED:20260316T185834Z
LAST-MODIFIED:20260316T185834Z
UID:10003725-1777125600-1777136400@www.actonexchange.org
SUMMARY:YV Art Museum Opening Reception: Fiber Art - THE COLLECTIVE
DESCRIPTION:THE COLLECTIVE is an immersive fiber-art installation created by Stacey Piwinski in\ncollaboration with her students and local arts community. The work incorporates\ncontributions from her elementary school students in Wayland\, Massachusetts\, her\ncollege students at Tufts University\, and fellow artists within her broader community.\nEspecially in our current times\, Piwinski emphasizes the importance of creating artworks\nthat embody healing\, foster a sense of safety\, and bring people together through shared\ncreative experience.
URL:https://www.actonexchange.org/event/yv-art-museum-opening-reception-fiber-art-the-collective/
LOCATION:YV Art Museum\, 68 Quarry Road\, Acton\, MA\, 01720\, United States
ORGANIZER;CN="Contemporary Arts International/YV Art":MAILTO:ypeet@verizon.net
END:VEVENT
BEGIN:VEVENT
DTSTART;TZID=America/New_York:20260425T200000
DTEND;TZID=America/New_York:20260425T223000
DTSTAMP:20260419T111228
CREATED:20260406T202151Z
LAST-MODIFIED:20260406T202151Z
UID:10003941-1777147200-1777156200@www.actonexchange.org
SUMMARY:Concord Players: Brigadoon
DESCRIPTION:The Concord Players present Lerner & Loewe’s classic musical Brigadoon April 24 – May 9\nNew Yorker Tommy Albright stumbles upon the village of Brigadoon and falls in love with the beautiful las\, Fiona\, but they only appear once every 100 years for a single day.\n\nActon residents Samantha Casale and Ben Hardt are in the cast.\n\nWill Tommy return to his modern life or vanish into the mist with Fiona and the village?
URL:https://www.actonexchange.org/event/concord-players-brigadoon/2026-04-25/
LOCATION:51 Walden\, 51 Walden Street\, Concord\, MA\, 01742\, United States
END:VEVENT
END:VCALENDAR