BEGIN:VCALENDAR
VERSION:2.0
PRODID:-//The Acton Exchange - ECPv6.15.17.1//NONSGML v1.0//EN
CALSCALE:GREGORIAN
METHOD:PUBLISH
X-ORIGINAL-URL:https://www.actonexchange.org
X-WR-CALDESC:Events for The Acton Exchange
REFRESH-INTERVAL;VALUE=DURATION:PT1H
X-Robots-Tag:noindex
X-PUBLISHED-TTL:PT1H
BEGIN:VTIMEZONE
TZID:America/New_York
BEGIN:DAYLIGHT
TZOFFSETFROM:-0500
TZOFFSETTO:-0400
TZNAME:EDT
DTSTART:20250309T070000
END:DAYLIGHT
BEGIN:STANDARD
TZOFFSETFROM:-0400
TZOFFSETTO:-0500
TZNAME:EST
DTSTART:20251102T060000
END:STANDARD
BEGIN:DAYLIGHT
TZOFFSETFROM:-0500
TZOFFSETTO:-0400
TZNAME:EDT
DTSTART:20260308T070000
END:DAYLIGHT
BEGIN:STANDARD
TZOFFSETFROM:-0400
TZOFFSETTO:-0500
TZNAME:EST
DTSTART:20261101T060000
END:STANDARD
BEGIN:DAYLIGHT
TZOFFSETFROM:-0500
TZOFFSETTO:-0400
TZNAME:EDT
DTSTART:20270314T070000
END:DAYLIGHT
BEGIN:STANDARD
TZOFFSETFROM:-0400
TZOFFSETTO:-0500
TZNAME:EST
DTSTART:20271107T060000
END:STANDARD
END:VTIMEZONE
BEGIN:VEVENT
DTSTART;TZID=America/New_York:20260324T130000
DTEND;TZID=America/New_York:20260324T140000
DTSTAMP:20260420T023454
CREATED:20260302T154835Z
LAST-MODIFIED:20260302T154835Z
UID:10003693-1774357200-1774360800@www.actonexchange.org
SUMMARY:Acton COA Presents: 3 (Additional) Keys to a More Fulfilled Life: Awe\, Connection & Generosity via Zoom
DESCRIPTION:Would you like to enhance your perspective and mood? Do you long to make a positive difference in the world? Join Dr. Miriam Rosalyn Diamond to identify easy\, readily available actions that can empower yourself in affirming that who you are and what you do matters. Participate in this workshop via Zoom from home or via a large screen TV with others at the Senior Center. Register: seniorcenter@actonma.gov or 987-929-6652. Miriam Rosalyn Diamond\, PhD\, is an educator\, program developer\, and inclusion specialist. She teaches adult education and college classes on lifespan development\, friendship\, and ethical awareness.  \nOpen to all age 60+/free
URL:https://www.actonexchange.org/event/acton-coa-presents-3-additional-keys-to-a-more-fulfilled-life-awe-connection-generosity-via-zoom/
LOCATION:Acton Senior Center\, 30 Sudbury Road Rear\, Acton\, MA\, 01720
ORGANIZER;CN="Acton Council on Aging":MAILTO:seniorcenter@actonma.gov
END:VEVENT
BEGIN:VEVENT
DTSTART;TZID=America/New_York:20260324T150000
DTEND;TZID=America/New_York:20260324T160000
DTSTAMP:20260420T023454
CREATED:20250320T183204Z
LAST-MODIFIED:20251227T235413Z
UID:10001706-1774364400-1774368000@www.actonexchange.org
SUMMARY:Library: Yarn & Needle Club
DESCRIPTION:Knitters\, crocheters\, embroiderers\, and sewers\, join the library to work on your project and socialize! We meet every 2nd and 4th Tuesday of the month.
URL:https://www.actonexchange.org/event/library-yarn-needle-club/2026-03-24/
LOCATION:Acton Memorial Library Meeting Room (1st floor)\, 486 Main Street\, Acton\, MA\, 01720\, United States
END:VEVENT
END:VCALENDAR