BEGIN:VCALENDAR
VERSION:2.0
PRODID:-//The Acton Exchange - ECPv6.15.17.1//NONSGML v1.0//EN
CALSCALE:GREGORIAN
METHOD:PUBLISH
X-WR-CALNAME:The Acton Exchange
X-ORIGINAL-URL:https://www.actonexchange.org
X-WR-CALDESC:Events for The Acton Exchange
REFRESH-INTERVAL;VALUE=DURATION:PT1H
X-Robots-Tag:noindex
X-PUBLISHED-TTL:PT1H
BEGIN:VTIMEZONE
TZID:America/New_York
BEGIN:DAYLIGHT
TZOFFSETFROM:-0500
TZOFFSETTO:-0400
TZNAME:EDT
DTSTART:20250309T070000
END:DAYLIGHT
BEGIN:STANDARD
TZOFFSETFROM:-0400
TZOFFSETTO:-0500
TZNAME:EST
DTSTART:20251102T060000
END:STANDARD
BEGIN:DAYLIGHT
TZOFFSETFROM:-0500
TZOFFSETTO:-0400
TZNAME:EDT
DTSTART:20260308T070000
END:DAYLIGHT
BEGIN:STANDARD
TZOFFSETFROM:-0400
TZOFFSETTO:-0500
TZNAME:EST
DTSTART:20261101T060000
END:STANDARD
BEGIN:DAYLIGHT
TZOFFSETFROM:-0500
TZOFFSETTO:-0400
TZNAME:EDT
DTSTART:20270314T070000
END:DAYLIGHT
BEGIN:STANDARD
TZOFFSETFROM:-0400
TZOFFSETTO:-0500
TZNAME:EST
DTSTART:20271107T060000
END:STANDARD
END:VTIMEZONE
BEGIN:VEVENT
DTSTART;TZID=America/New_York:20260306T180000
DTEND;TZID=America/New_York:20260306T193000
DTSTAMP:20260420T023413
CREATED:20251219T150545Z
LAST-MODIFIED:20251219T150545Z
UID:10003320-1772820000-1772825400@www.actonexchange.org
SUMMARY:Community Focus Groups: Help shape a healthier and more connected Acton
DESCRIPTION:The Town of Acton wants to hear people’s stories\, ideas\, and hopes for making our community stronger and fair for everyone. These small group talks are part of a big project to learn what people need and to help everyone feel healthy\, included\, and supported. \nFor any questions or accessibility accommodations\, send an email to actonforproaction@3×3.co. \nSee a list of the available focus groups and register here: \ntinyurl.com/2sjvdu7b \nAll focus groups are online – Zoom link sent after registration. \nSign Up Today! \nEach session lasts from 60 to 90 minutes and centers on a particular perspective\, but all Town of Acton community members are welcome at any session. Everyone who lives or works in Acton is welcome to join and share their perspective!
URL:https://www.actonexchange.org/event/community-focus-groups-help-shape-a-healthier-and-more-connected-acton/2026-03-06/
LOCATION:Zoom
END:VEVENT
END:VCALENDAR