BEGIN:VCALENDAR
VERSION:2.0
PRODID:-//The Acton Exchange - ECPv6.15.17.1//NONSGML v1.0//EN
CALSCALE:GREGORIAN
METHOD:PUBLISH
X-ORIGINAL-URL:https://www.actonexchange.org
X-WR-CALDESC:Events for The Acton Exchange
REFRESH-INTERVAL;VALUE=DURATION:PT1H
X-Robots-Tag:noindex
X-PUBLISHED-TTL:PT1H
BEGIN:VTIMEZONE
TZID:America/New_York
BEGIN:DAYLIGHT
TZOFFSETFROM:-0500
TZOFFSETTO:-0400
TZNAME:EDT
DTSTART:20250309T070000
END:DAYLIGHT
BEGIN:STANDARD
TZOFFSETFROM:-0400
TZOFFSETTO:-0500
TZNAME:EST
DTSTART:20251102T060000
END:STANDARD
BEGIN:DAYLIGHT
TZOFFSETFROM:-0500
TZOFFSETTO:-0400
TZNAME:EDT
DTSTART:20260308T070000
END:DAYLIGHT
BEGIN:STANDARD
TZOFFSETFROM:-0400
TZOFFSETTO:-0500
TZNAME:EST
DTSTART:20261101T060000
END:STANDARD
BEGIN:DAYLIGHT
TZOFFSETFROM:-0500
TZOFFSETTO:-0400
TZNAME:EDT
DTSTART:20270314T070000
END:DAYLIGHT
BEGIN:STANDARD
TZOFFSETFROM:-0400
TZOFFSETTO:-0500
TZNAME:EST
DTSTART:20271107T060000
END:STANDARD
END:VTIMEZONE
BEGIN:VEVENT
DTSTART;TZID=America/New_York:20260303T103000
DTEND;TZID=America/New_York:20260303T120000
DTSTAMP:20260419T112316
CREATED:20260111T152900Z
LAST-MODIFIED:20260111T152900Z
UID:10003498-1772533800-1772539200@www.actonexchange.org
SUMMARY:Acton Garden Club:  Beauty on the Wing Life Story of the Monarch Butterfly
DESCRIPTION:With award-winning documentary filmmaker Kim Smith. \nExperience the inspirational story of a magnificent species found in our own backyards!  Kim Smith will present her award-winning movie filmed along the shores of Cape Ann and in the heart of Mexico’s forested volcanic mountains. Every stage of the butterfly’s life cycle is experienced in vibrant close-up\, from egg to caterpillar to adult and set to the background of sea and forest\, sun and wind. Movie runtime is 56 minutes followed by Q&A. \nKim Smith is a documentary filmmaker\, wildlife conservationist\, lecturer\, photojournalist\, author\, illustrator\, and an award-winning landscape designer.
URL:https://www.actonexchange.org/event/acton-garden-club-beauty-on-the-wing-life-story-of-the-monarch-butterfly/
LOCATION:Acton Town Hall\, Room 204\, 472 Main Street\, Acton\, MA\, 01720
END:VEVENT
BEGIN:VEVENT
DTSTART;TZID=America/New_York:20260303T133000
DTEND;TZID=America/New_York:20260303T163000
DTSTAMP:20260419T112316
CREATED:20251219T151716Z
LAST-MODIFIED:20251219T151716Z
UID:10003323-1772544600-1772555400@www.actonexchange.org
SUMMARY:Discovery Museum\, Especially for me inclusive afternoons
DESCRIPTION:The Especially for Me series offers dedicated hours and free admission for families with disabilities. During these events\, we offer accommodations that increase access to exhibits and provide an opportunity for families to network with one another in an understanding\, ADA-compliant environment. \nAll Especially for Me events are free to attend\, but preregistration is required. More information\, dates and registration links can be found online at http://bit.ly/EspeciallyforMe.
URL:https://www.actonexchange.org/event/discovery-museum-especially-for-me-inclusive-afternoons/2026-03-03/
LOCATION:Discovery Museum\, 177 Main St.\, Acton\, MA\, 01720\, United States
ORGANIZER;CN="Discovery Museum":MAILTO:fun@DiscoveryActon.org
END:VEVENT
BEGIN:VEVENT
DTSTART;TZID=America/New_York:20260303T140000
DTEND;TZID=America/New_York:20260303T150000
DTSTAMP:20260419T112316
CREATED:20260227T230436Z
LAST-MODIFIED:20260227T230436Z
UID:10003686-1772546400-1772550000@www.actonexchange.org
SUMMARY:Acton COA Invites You to: Lunar New Year Performance
DESCRIPTION:A group of local Chinese musicians and dancers will join us to celebrate the 2026 Lunar New Year–the year of the horse! They will present a very pleasant program with a combination of Chinese and western music—Chinese folk instruments the Pipa and Erhu\, Chinese folk dance\, vocal performances (ensemble\, duet\, solo)\, perhaps a piano concerto\, and even Tai Chi! \nOpen to all age 60 +/free
URL:https://www.actonexchange.org/event/acton-coa-invites-you-to-lunar-new-year-performance/
LOCATION:Acton Senior Center\, 30 Sudbury Road Rear\, Acton\, MA\, 01720
ORGANIZER;CN="Acton Council on Aging":MAILTO:seniorcenter@actonma.gov
END:VEVENT
END:VCALENDAR