BEGIN:VCALENDAR
VERSION:2.0
PRODID:-//The Acton Exchange - ECPv6.15.17.1//NONSGML v1.0//EN
CALSCALE:GREGORIAN
METHOD:PUBLISH
X-WR-CALNAME:The Acton Exchange
X-ORIGINAL-URL:https://www.actonexchange.org
X-WR-CALDESC:Events for The Acton Exchange
REFRESH-INTERVAL;VALUE=DURATION:PT1H
X-Robots-Tag:noindex
X-PUBLISHED-TTL:PT1H
BEGIN:VTIMEZONE
TZID:America/New_York
BEGIN:DAYLIGHT
TZOFFSETFROM:-0500
TZOFFSETTO:-0400
TZNAME:EDT
DTSTART:20250309T070000
END:DAYLIGHT
BEGIN:STANDARD
TZOFFSETFROM:-0400
TZOFFSETTO:-0500
TZNAME:EST
DTSTART:20251102T060000
END:STANDARD
BEGIN:DAYLIGHT
TZOFFSETFROM:-0500
TZOFFSETTO:-0400
TZNAME:EDT
DTSTART:20260308T070000
END:DAYLIGHT
BEGIN:STANDARD
TZOFFSETFROM:-0400
TZOFFSETTO:-0500
TZNAME:EST
DTSTART:20261101T060000
END:STANDARD
BEGIN:DAYLIGHT
TZOFFSETFROM:-0500
TZOFFSETTO:-0400
TZNAME:EDT
DTSTART:20270314T070000
END:DAYLIGHT
BEGIN:STANDARD
TZOFFSETFROM:-0400
TZOFFSETTO:-0500
TZNAME:EST
DTSTART:20271107T060000
END:STANDARD
END:VTIMEZONE
BEGIN:VEVENT
DTSTART;TZID=America/New_York:20260131T080000
DTEND;TZID=America/New_York:20260131T170000
DTSTAMP:20260424T122743
CREATED:20260131T180448Z
LAST-MODIFIED:20260131T180448Z
UID:10003602-1769846400-1769878800@www.actonexchange.org
SUMMARY:AB Family Network: Sweetie Valentine's Party
DESCRIPTION:Join us for the annual Sweetie Valentine’s Day Party – All ABFN members and local families are invited to join us for a morning of fun and festivities. \nKids will enjoy live entertainment plus plenty of crafts and hands-on activities led by local preschools. For those who prefer a quieter experience\, we invite you to our Sensory Friendly Party from 9:30 to 10 am. Afterwards\, the general party will be from 10-11:30. \nFree for ABFN members! \nNon-member families can join for $10. (Not a member? [Sign up and enjoy member perks!]) \nPre-registration is REQUIRED for non-member families and greatly appreciated for members to help us keep everyone safe. Only member families can walk-in. Pre-registration closes at 9 AM on Saturday\, Feb 7. \nRegister here! \n 
URL:https://www.actonexchange.org/event/ab-family-network-sweetie-valentines-party/
LOCATION:Blanchard School Gym\, 493 Mass Ave\, Boxborough\, MA\, 01719
ORGANIZER;CN="Acton-Boxborough Family Network":MAILTO:chair@ABFamily.org
END:VEVENT
BEGIN:VEVENT
DTSTART;TZID=America/New_York:20260131T130000
DTEND;TZID=America/New_York:20260131T160000
DTSTAMP:20260424T122743
CREATED:20260117T162142Z
LAST-MODIFIED:20260117T162142Z
UID:10003512-1769864400-1769875200@www.actonexchange.org
SUMMARY:Boxborough Winterfest
DESCRIPTION:Join your Boxborough neighbors at Steele Farm on 484 Middle Road. \nLive music – Local vendors – Drink – Food \nParking is available at Town Hall with Boxborough Connects Shuttle Service
URL:https://www.actonexchange.org/event/boxborough-winterfest-2/
LOCATION:Steele Farm\, 484 Middle Road\, Boxborough\, 01719
END:VEVENT
BEGIN:VEVENT
DTSTART;TZID=America/New_York:20260131T170000
DTEND;TZID=America/New_York:20260131T200000
DTSTAMP:20260424T122743
CREATED:20251219T153134Z
LAST-MODIFIED:20251219T153134Z
UID:10003328-1769878800-1769889600@www.actonexchange.org
SUMMARY:Discovery Museum: Special Saturday evenings
DESCRIPTION:The Especially for Me series offers dedicated hours and free admission for families with disabilities. During these events\, we offer accommodations that increase access to exhibits and provide an opportunity for families to network with one another in an understanding\, ADA-compliant environment. \nWhile the event titles indicate the focus for certain program accommodations\, any family that would benefit from a sensory friendly visit is welcome at any time. A medical diagnosis is not required. \nAll Especially for Me events are free to attend\, but preregistration is required. More information\, dates and registration links can be found online at http://bit.ly/EspeciallyforMe. \nFor these events\, the museum is closed to the public. Dinner\, including a gluten-free option\, is provided at no cost. \n\nAutism-Friendly Evening – January 10\nEvening for Deaf\, Blind\, or DeafBlind – January 31\nInclusive Evenings – February 28\, March 21\, May 16\, June 27\nMask On\, Play On! – April 11\nMorning for Deaf\, Hard of Hearing\, and KODA visitors – date tba
URL:https://www.actonexchange.org/event/discovery-museum-special-saturday-evenings/2026-01-31/
LOCATION:Discovery Museum\, 177 Main St.\, Acton\, MA\, 01720\, United States
ORGANIZER;CN="Discovery Museum":MAILTO:fun@DiscoveryActon.org
END:VEVENT
BEGIN:VEVENT
DTSTART;TZID=America/New_York:20260131T190000
DTEND;TZID=America/New_York:20260131T210000
DTSTAMP:20260424T122743
CREATED:20260117T165455Z
LAST-MODIFIED:20260117T165455Z
UID:10003514-1769886000-1769893200@www.actonexchange.org
SUMMARY:New Revival Coffeehouse presents Kathleen Parks
DESCRIPTION:Kathleen Parks is a fiddler\, singer\, and songwriter who brings joyful and creative energy to the stage and studio. \nHer deep grounding in Celtic and American roots music blends with her love for pop songwriting\, funk rhythms\, soulful vocals\, and groove-based improvisation\, making every performance unexpected yet familiar: a musical journey from beginning to end. \nKathleen is also a founding member of Twisted Pine and the duo Kat and Brad. \nVisit kathleenparksmusic.com for more info. \nTickets are $20 in advance at Eventbrite.com and $25 on the day of the concert.  Doors open at 7:00 and the show begins at 7:30.
URL:https://www.actonexchange.org/event/new-revival-coffeehouse-presents-kathleen-parks/
LOCATION:First Parish Church of Stow and Acton\, 353 Great Road\, Stow\, MA\, 01775
END:VEVENT
BEGIN:VEVENT
DTSTART;TZID=America/New_York:20260131T190000
DTEND;TZID=America/New_York:20260131T210000
DTSTAMP:20260424T122743
CREATED:20260120T155058Z
LAST-MODIFIED:20260120T155058Z
UID:10003517-1769886000-1769893200@www.actonexchange.org
SUMMARY:UCC Boxborough: 17th Annual Folk Coffeehouse
DESCRIPTION:Save the date! Nothing could be better than shaking off the dark winter chills and enjoying warm\, gentle music in the Gathering Room at the United Church of Christ\, Boxborough\, with friends on a Saturday evening. \nThe UCCB Music Committee invites you to enjoy the many talents of our community and perhaps offer some talents of your own in a traditional folk “coffeehouse” setting. This event is intended to slow us down\, warm us up\, and bring us together as appreciators of music. \nPlease contact Peter Senghas (pwsenghas@gmail.com) or Steve Griffin (sgri617@comcast.net) if you would like to participate or if you have a question about this event.
URL:https://www.actonexchange.org/event/ucc-boxborough-17th-annual-folk-coffeehouse/
LOCATION:UCC Boxborough\, 723 Massachusetts Ave\, Boxborough\, MA\, 01719\, United States
ORGANIZER;CN="UCC Boxborough":MAILTO:boxborochurch@verizon.net
END:VEVENT
BEGIN:VEVENT
DTSTART;TZID=America/New_York:20260131T191500
DTEND;TZID=America/New_York:20260131T223000
DTSTAMP:20260424T122743
CREATED:20260127T162841Z
LAST-MODIFIED:20260127T162841Z
UID:10003522-1769886900-1769898600@www.actonexchange.org
SUMMARY:Concord Orchestra Concert: Far\, Far Away
DESCRIPTION:The Concord Orchestra presents “Far\, Far\, Away” at 8:00 p.m. on Saturday\, January 31 and Sunday\, Feb 1 at 2:30 p.m. at the Performing Arts Center at 51 Walden. \nThis concert features several young performers who participated in The Concord Orchestra’s annual young artist competition. Preceding each concert\, one of the young artist competition runners-up\, both cellists\, will present a pre-concert recital.  On Saturday\, Gabriel Jojatu performs a recital at 7:15 p.m.  On Sunday\, Philip Jeong performs a recital at 1:45 p.m. \nThe orchestra\, conducted by Music Director Zeke Fetrow\, performs a program of W. A. Mozart’s Overture to Don Giovanni\, Alexander Borodin’s In the Steppes of Central Asia\, and John Williams’ Star Wars Suite.  The winner of the young artist competition\, Maggie Bai\, joins the orchestra to perform Felix Mendelssohn’s Piano Concerto No. 1 in G minor. \nOrchestra members Susan Minor\, Bill Ossmann\, John Russell\, and Jerry Vabulas live in Acton.
URL:https://www.actonexchange.org/event/concord-orchestra-concert-far-far-away/2026-01-31/
LOCATION:51 Walden\, 51 Walden Street\, Concord\, MA\, 01742\, United States
ORGANIZER;CN="Concord Orchestra":MAILTO:info@concordorchestra.com
END:VEVENT
BEGIN:VEVENT
DTSTART;TZID=America/New_York:20260131T193000
DTEND;TZID=America/New_York:20260131T220000
DTSTAMP:20260424T122743
CREATED:20260111T153901Z
LAST-MODIFIED:20260125T123708Z
UID:10003502-1769887800-1769896800@www.actonexchange.org
SUMMARY:Theatre III presents Miss Holmes
DESCRIPTION:A play by Christopher M. Walsh.\n\nWhen an anonymous note sends a newlywed wife looking for help\, Miss Sherlock Holmes and Dr. Dorothy Watson work together to uncover the secrets surrounding a corrupt police inspector whose wives keep turning up dead. But this Holmes and Watson face far greater challenges than bringing the cunning criminal to justice.\n\nIn an era where gender roles are rigidly defined\, these women dare to challenge societal norms. Inspired by the works of Sir Arthur Conan Doyle\, this theatrical fan fiction explores what added obstacles would be faced by these two iconic characters if they were women. \nNOTE: Due to weather storm warnings\, the Sunday\, Jan. 25 show has been postponed to Thursday\, Jan. 29. For more information\, see https://www.theatre3.org/visit/tickets. \n\n\n 
URL:https://www.actonexchange.org/event/theatre-iii-presents-miss-holmes/2026-01-31/
LOCATION:Theatre III\, 250 Central St.\, Acton\, 01720
ORGANIZER;CN="Theatre III":MAILTO:publicity@theatre3.org
END:VEVENT
END:VCALENDAR