BEGIN:VCALENDAR
VERSION:2.0
PRODID:-//The Acton Exchange - ECPv6.15.17.1//NONSGML v1.0//EN
CALSCALE:GREGORIAN
METHOD:PUBLISH
X-WR-CALNAME:The Acton Exchange
X-ORIGINAL-URL:https://www.actonexchange.org
X-WR-CALDESC:Events for The Acton Exchange
REFRESH-INTERVAL;VALUE=DURATION:PT1H
X-Robots-Tag:noindex
X-PUBLISHED-TTL:PT1H
BEGIN:VTIMEZONE
TZID:America/New_York
BEGIN:DAYLIGHT
TZOFFSETFROM:-0500
TZOFFSETTO:-0400
TZNAME:EDT
DTSTART:20250309T070000
END:DAYLIGHT
BEGIN:STANDARD
TZOFFSETFROM:-0400
TZOFFSETTO:-0500
TZNAME:EST
DTSTART:20251102T060000
END:STANDARD
BEGIN:DAYLIGHT
TZOFFSETFROM:-0500
TZOFFSETTO:-0400
TZNAME:EDT
DTSTART:20260308T070000
END:DAYLIGHT
BEGIN:STANDARD
TZOFFSETFROM:-0400
TZOFFSETTO:-0500
TZNAME:EST
DTSTART:20261101T060000
END:STANDARD
BEGIN:DAYLIGHT
TZOFFSETFROM:-0500
TZOFFSETTO:-0400
TZNAME:EDT
DTSTART:20270314T070000
END:DAYLIGHT
BEGIN:STANDARD
TZOFFSETFROM:-0400
TZOFFSETTO:-0500
TZNAME:EST
DTSTART:20271107T060000
END:STANDARD
END:VTIMEZONE
BEGIN:VEVENT
DTSTART;TZID=America/New_York:20260129T120000
DTEND;TZID=America/New_York:20260129T130000
DTSTAMP:20260424T060307
CREATED:20260127T171625Z
LAST-MODIFIED:20260127T171625Z
UID:10003525-1769688000-1769691600@www.actonexchange.org
SUMMARY:Winter Heating: Energy Crash Course
DESCRIPTION:Want to save money on your energy bills? \nLearn how to: \n\nGet a no-cost home energy assessment\nAccess incentives and rebates\nMonitor your energy bills\nAvoid scams from 3rd-party suppliers.\n\nPresented by a Mass Save specialist and the Acton Sustainability Office. \nRegister for this online event at bit.ly/encrashcourse. \n 
URL:https://www.actonexchange.org/event/winter-heating-energy-crash-course/
LOCATION:Zoom
ORGANIZER;CN="Acton Sustainability Office":MAILTO:sustainability@actonma.gov
END:VEVENT
BEGIN:VEVENT
DTSTART;TZID=America/New_York:20260129T130000
DTEND;TZID=America/New_York:20260129T140000
DTSTAMP:20260424T060307
CREATED:20260106T160724Z
LAST-MODIFIED:20260106T160724Z
UID:10003493-1769691600-1769695200@www.actonexchange.org
SUMMARY:Webinar: Motor Development in Babies 0-18 Months
DESCRIPTION:A free live webinar presented by pediatric physical therapist Christina Marinelli from Emerson Health\, will be held via Zoom on Thursday\, January 29\, 1-2:00.  \nBabies begin progressing both gross and fine motor skills from birth. They are the building blocks to your baby’s ability to explore their environment as they grow. In this webinar\, you will learn 1) what typical development looks like\, 2) general tips and strategies to support baby’s skill acquisition\, and 3) helpful resources for continued learning. Time for questions will be allowed. To receive the link\, email lmatthews@jri.org at First Connections.
URL:https://www.actonexchange.org/event/webinar-motor-development-in-babies-0-18-months/
LOCATION:Zoom
END:VEVENT
BEGIN:VEVENT
DTSTART;TZID=America/New_York:20260129T193000
DTEND;TZID=America/New_York:20260129T220000
DTSTAMP:20260424T060307
CREATED:20260111T153901Z
LAST-MODIFIED:20260125T123708Z
UID:10003518-1769715000-1769724000@www.actonexchange.org
SUMMARY:Theatre III presents Miss Holmes
DESCRIPTION:A play by Christopher M. Walsh.\n\nWhen an anonymous note sends a newlywed wife looking for help\, Miss Sherlock Holmes and Dr. Dorothy Watson work together to uncover the secrets surrounding a corrupt police inspector whose wives keep turning up dead. But this Holmes and Watson face far greater challenges than bringing the cunning criminal to justice.\n\nIn an era where gender roles are rigidly defined\, these women dare to challenge societal norms. Inspired by the works of Sir Arthur Conan Doyle\, this theatrical fan fiction explores what added obstacles would be faced by these two iconic characters if they were women. \nNOTE: Due to weather storm warnings\, the Sunday\, Jan. 25 show has been postponed to Thursday\, Jan. 29. For more information\, see https://www.theatre3.org/visit/tickets. \n\n\n 
URL:https://www.actonexchange.org/event/theatre-iii-presents-miss-holmes/2026-01-29/
LOCATION:Theatre III\, 250 Central St.\, Acton\, 01720
ORGANIZER;CN="Theatre III":MAILTO:publicity@theatre3.org
END:VEVENT
END:VCALENDAR