BEGIN:VCALENDAR
VERSION:2.0
PRODID:-//The Acton Exchange - ECPv6.15.17.1//NONSGML v1.0//EN
CALSCALE:GREGORIAN
METHOD:PUBLISH
X-WR-CALNAME:The Acton Exchange
X-ORIGINAL-URL:https://www.actonexchange.org
X-WR-CALDESC:Events for The Acton Exchange
REFRESH-INTERVAL;VALUE=DURATION:PT1H
X-Robots-Tag:noindex
X-PUBLISHED-TTL:PT1H
BEGIN:VTIMEZONE
TZID:America/New_York
BEGIN:DAYLIGHT
TZOFFSETFROM:-0500
TZOFFSETTO:-0400
TZNAME:EDT
DTSTART:20250309T070000
END:DAYLIGHT
BEGIN:STANDARD
TZOFFSETFROM:-0400
TZOFFSETTO:-0500
TZNAME:EST
DTSTART:20251102T060000
END:STANDARD
BEGIN:DAYLIGHT
TZOFFSETFROM:-0500
TZOFFSETTO:-0400
TZNAME:EDT
DTSTART:20260308T070000
END:DAYLIGHT
BEGIN:STANDARD
TZOFFSETFROM:-0400
TZOFFSETTO:-0500
TZNAME:EST
DTSTART:20261101T060000
END:STANDARD
BEGIN:DAYLIGHT
TZOFFSETFROM:-0500
TZOFFSETTO:-0400
TZNAME:EDT
DTSTART:20270314T070000
END:DAYLIGHT
BEGIN:STANDARD
TZOFFSETFROM:-0400
TZOFFSETTO:-0500
TZNAME:EST
DTSTART:20271107T060000
END:STANDARD
END:VTIMEZONE
BEGIN:VEVENT
DTSTART;TZID=America/New_York:20260114T133000
DTEND;TZID=America/New_York:20260114T143000
DTSTAMP:20260420T232856
CREATED:20251227T140503Z
LAST-MODIFIED:20251227T140503Z
UID:10003343-1768397400-1768401000@www.actonexchange.org
SUMMARY:Library: Tech Help at West Acton Citizens' Library
DESCRIPTION:Sign up for a 15-minute 1:1 tech help session. \nPlease bring your device and any questions you might have! \nRegistration is required! \n1:30pm Slot \n1:45pm Slot \n2:00pm Slot \n2:15pm Slot 
URL:https://www.actonexchange.org/event/library-tech-help-at-west-acton-citizens-library-9/
LOCATION:West Acton Citizens’ Library\, 21 Windsor Avenue\, Acton\, 01720
ORGANIZER;CN="West Acton Citizens' Library":MAILTO:WACL@actonma.gov
END:VEVENT
BEGIN:VEVENT
DTSTART;TZID=America/New_York:20260114T153000
DTEND;TZID=America/New_York:20260114T163000
DTSTAMP:20260420T232856
CREATED:20251227T140609Z
LAST-MODIFIED:20251227T140609Z
UID:10003344-1768404600-1768408200@www.actonexchange.org
SUMMARY:Library: West Acton Citizens' Library Book Discussion Group
DESCRIPTION:Register Here \nLimited copies of the book in multiple formats will be available at the West Acton branch. First come\, first serve. All are welcome! \nThis month’s book is: Astor: The Rise and Fall of an American Fortune by Anderson Cooper and Katherine Howe \nReasonable accommodations for individuals with disabilities are available upon request by emailing WACL@actonma.gov. Please note that the West Acton Citizens’ Library has limited accessibility. More accessible programs are offered at the Acton Memorial Library.
URL:https://www.actonexchange.org/event/library-west-acton-citizens-library-book-discussion-group-7/
LOCATION:West Acton Citizens’ Library\, 21 Windsor Avenue\, Acton\, 01720
ORGANIZER;CN="West Acton Citizens' Library":MAILTO:WACL@actonma.gov
END:VEVENT
BEGIN:VEVENT
DTSTART;TZID=America/New_York:20260114T163000
DTEND;TZID=America/New_York:20260114T173000
DTSTAMP:20260420T232856
CREATED:20251219T140038Z
LAST-MODIFIED:20251219T140038Z
UID:10003308-1768408200-1768411800@www.actonexchange.org
SUMMARY:Acton Community Supper - January
DESCRIPTION:Happy New Year to Everyone! Please join us to welcome in 2026. We look forward to sharing a meal and friendship with you every Wednesday. \nJanuary 7: Chicken Chili with Cornbread\nSponsored by Society of St. Vincent DePaul \nJanuary 14: Turkey Tetrazzini\nSponsored by Thrivent Financial \nJanuary 21: Pork Chop Cacciatore\n     Sponsored by Friends of Mike Tobia \nJanuary  28:  Spaghetti and Meatball\n     Sponsored by West Acton Baptist Church \n\n** Please note that the meals we serve may contain gluten\, nuts\, seeds\, or dairy. \nDoors open at 4:15 pm. Please\, do not enter earlier so our volunteers can prepare your Supper. \nParking: Park your car in the back parking lot and enter from the walkway to the church door. \nFor more information\, see http://www.facebook.com/CommunitySupperofActonMA. \nAs 2026 begins\, we wish to express how grateful we are for the support and dedication of so many individuals\, community organizations\, church members and the team of our Supper volunteers. Together we hope that each meal we share will bring us closer together.
URL:https://www.actonexchange.org/event/acton-community-supper-january/2026-01-14/
LOCATION:Mt Cavalry Lutheran Church\, 472 Massachusetts Ave.\, Acton\, MA\, 01720
END:VEVENT
BEGIN:VEVENT
DTSTART;TZID=America/New_York:20260114T173000
DTEND;TZID=America/New_York:20260114T183000
DTSTAMP:20260420T232856
CREATED:20251227T140835Z
LAST-MODIFIED:20251227T140835Z
UID:10003345-1768411800-1768415400@www.actonexchange.org
SUMMARY:Library: 2026 Vision Boards @ AML
DESCRIPTION:Register Here \nFor Adults! Join for some chatting\, music\, and crafting! This month’s craft is: 2026 Vision Boards \nMake 2026 vision boards! Brainstorm your goals\, browse magazines and stickers to craft a personalized collage\, and receive a magnetic photo frame to display your work throughout the year! \nReasonable accommodations for individuals with disabilities are available upon request by emailing library@actonma.gov.
URL:https://www.actonexchange.org/event/library-2026-vision-boards-aml/
LOCATION:Acton Memorial Library Meeting Room (1st floor)\, 486 Main Street\, Acton\, MA\, 01720\, United States
END:VEVENT
BEGIN:VEVENT
DTSTART;TZID=America/New_York:20260114T190000
DTEND;TZID=America/New_York:20260114T203000
DTSTAMP:20260420T232856
CREATED:20250119T142429Z
LAST-MODIFIED:20260210T230529Z
UID:10001633-1768417200-1768422600@www.actonexchange.org
SUMMARY:Acton Exchange All-Hands Meeting
DESCRIPTION:The Acton Exchange team holds monthly meetings that are open to our active volunteers and anyone who might want to become a volunteer. If you have an Acton connection and want to contribute to independent community journalism in our town\, it is likely that the AE has a role for you\, whatever your skill sets and interests might be. Each meeting begins with an opportunity to learn what has been going on at the Acton Exchange\, followed by an opportunity to improve our journalism skills. Meetings are either  hybrid (in-person or zoom) or zoom-only.   For this month’s venue and topic\, email info@actonexchange.org. \nUse this link to join by Zoom:\nhttps://us02web.zoom.us/j/86431644688?pwd=RXNReWE5N2Rzdkc1QjUzQnF5d0NKdz09\nThe password\, if needed\, is newspaper.
URL:https://www.actonexchange.org/event/acton-exchange-all-hands-meeting/2026-01-14/
LOCATION:ActonTV offices\, 16a Craig Road\, Acton\, MA\, 01720\, United States
ORGANIZER;CN="Acton Exchange":MAILTO:info@actonexchange.org
END:VEVENT
END:VCALENDAR