BEGIN:VCALENDAR
VERSION:2.0
PRODID:-//The Acton Exchange - ECPv6.15.17.1//NONSGML v1.0//EN
CALSCALE:GREGORIAN
METHOD:PUBLISH
X-WR-CALNAME:The Acton Exchange
X-ORIGINAL-URL:https://www.actonexchange.org
X-WR-CALDESC:Events for The Acton Exchange
REFRESH-INTERVAL;VALUE=DURATION:PT1H
X-Robots-Tag:noindex
X-PUBLISHED-TTL:PT1H
BEGIN:VTIMEZONE
TZID:America/New_York
BEGIN:DAYLIGHT
TZOFFSETFROM:-0500
TZOFFSETTO:-0400
TZNAME:EDT
DTSTART:20250309T070000
END:DAYLIGHT
BEGIN:STANDARD
TZOFFSETFROM:-0400
TZOFFSETTO:-0500
TZNAME:EST
DTSTART:20251102T060000
END:STANDARD
BEGIN:DAYLIGHT
TZOFFSETFROM:-0500
TZOFFSETTO:-0400
TZNAME:EDT
DTSTART:20260308T070000
END:DAYLIGHT
BEGIN:STANDARD
TZOFFSETFROM:-0400
TZOFFSETTO:-0500
TZNAME:EST
DTSTART:20261101T060000
END:STANDARD
BEGIN:DAYLIGHT
TZOFFSETFROM:-0500
TZOFFSETTO:-0400
TZNAME:EDT
DTSTART:20270314T070000
END:DAYLIGHT
BEGIN:STANDARD
TZOFFSETFROM:-0400
TZOFFSETTO:-0500
TZNAME:EST
DTSTART:20271107T060000
END:STANDARD
END:VTIMEZONE
BEGIN:VEVENT
DTSTART;TZID=America/New_York:20260113T150000
DTEND;TZID=America/New_York:20260113T160000
DTSTAMP:20260422T124416
CREATED:20250322T220927Z
LAST-MODIFIED:20251227T143238Z
UID:10001769-1768316400-1768320000@www.actonexchange.org
SUMMARY:Library: Yarn & Needle Club
DESCRIPTION:Knitters\, crocheters\, embroiderers\, and sewers\, join the library to work on your project and socialize! We meet every 2nd and 4th Tuesday of the month.
URL:https://www.actonexchange.org/event/library-yarn-needle-club-2/2026-01-13/
LOCATION:Acton Memorial Library Meeting Room (1st floor)\, 486 Main Street\, Acton\, MA\, 01720\, United States
END:VEVENT
BEGIN:VEVENT
DTSTART;TZID=America/New_York:20260113T160000
DTEND;TZID=America/New_York:20260113T180000
DTSTAMP:20260422T124416
CREATED:20250110T143035Z
LAST-MODIFIED:20250110T143035Z
UID:10000794-1768320000-1768327200@www.actonexchange.org
SUMMARY:Housing Legal Clinics
DESCRIPTION:The Acton Community Services Office within the Department of Health and Human Services\, in partnership with MetroWest Legal Services\, will host a monthly housing legal clinic beginning in January.  \nHousing Legal Clinic appointments will begin on Jan. 14 and will be held on the second Tuesday of each month from 4-6 p.m. at the Human Service and Senior Center\, 30 Sudbury Road Rear. \nBefore you attend a session\, you must complete the following registration form\, which can be found here. \nThe program\, which is funded by the American Rescue Plan Act\, will run until Dec. 31\, 2026.
URL:https://www.actonexchange.org/event/housing-legal-clinics/2026-01-13/
LOCATION:Acton Community Services office\, 30 Sudbury Road Rear\, Acton\, MA\, 01720
END:VEVENT
BEGIN:VEVENT
DTSTART;TZID=America/New_York:20260113T180000
DTEND;TZID=America/New_York:20260113T193000
DTSTAMP:20260422T124417
CREATED:20251219T150545Z
LAST-MODIFIED:20251219T150545Z
UID:10003313-1768327200-1768332600@www.actonexchange.org
SUMMARY:Community Focus Groups: Help shape a healthier and more connected Acton
DESCRIPTION:The Town of Acton wants to hear people’s stories\, ideas\, and hopes for making our community stronger and fair for everyone. These small group talks are part of a big project to learn what people need and to help everyone feel healthy\, included\, and supported. \nFor any questions or accessibility accommodations\, send an email to actonforproaction@3×3.co. \nSee a list of the available focus groups and register here: \ntinyurl.com/2sjvdu7b \nAll focus groups are online – Zoom link sent after registration. \nSign Up Today! \nEach session lasts from 60 to 90 minutes and centers on a particular perspective\, but all Town of Acton community members are welcome at any session. Everyone who lives or works in Acton is welcome to join and share their perspective!
URL:https://www.actonexchange.org/event/community-focus-groups-help-shape-a-healthier-and-more-connected-acton/2026-01-13/
LOCATION:Zoom
END:VEVENT
BEGIN:VEVENT
DTSTART;TZID=America/New_York:20260113T190000
DTEND;TZID=America/New_York:20260113T204500
DTSTAMP:20260422T124417
CREATED:20250209T155517Z
LAST-MODIFIED:20250428T185228Z
UID:10001185-1768330800-1768337100@www.actonexchange.org
SUMMARY:Green Acton monthly meeting
DESCRIPTION:Green Acton works to protect and enhance Acton’s natural environment and resources for present and future generations\, and to help resolve the urgent environmental issues that transcend Acton’s boundaries.  The group meets monthly (except for August) on the second Tuesday of the month\, usually by zoom but occasionally in person.  To learn more about Green Acton’s mission\, accomplishments\, and ongoing work\, visit https://greenacton.org/ \nTo get the agenda and zoom link for the upcoming monthly meeting\, email info@greenacton.org \nIn addition to the all-topics monthly meeting\, the individual committees hold more specialized meetings;  topical committees are Biodiversity\, Energy\, Materials (e.g plastics\, toxics\, recycling)\, Land Use (e.g. zoning)\, and Water.  To find the dates for committee meetings visit the Green Acton Upcoming Events page at: https://greenacton.org/calendar/
URL:https://www.actonexchange.org/event/green-acton-monthly-meeting/2026-01-13/
LOCATION:Zoom
ORGANIZER;CN="Green Acton":MAILTO:info@greenacton.org
END:VEVENT
END:VCALENDAR