BEGIN:VCALENDAR
VERSION:2.0
PRODID:-//The Acton Exchange - ECPv6.15.17.1//NONSGML v1.0//EN
CALSCALE:GREGORIAN
METHOD:PUBLISH
X-ORIGINAL-URL:https://www.actonexchange.org
X-WR-CALDESC:Events for The Acton Exchange
REFRESH-INTERVAL;VALUE=DURATION:PT1H
X-Robots-Tag:noindex
X-PUBLISHED-TTL:PT1H
BEGIN:VTIMEZONE
TZID:America/New_York
BEGIN:DAYLIGHT
TZOFFSETFROM:-0500
TZOFFSETTO:-0400
TZNAME:EDT
DTSTART:20250309T070000
END:DAYLIGHT
BEGIN:STANDARD
TZOFFSETFROM:-0400
TZOFFSETTO:-0500
TZNAME:EST
DTSTART:20251102T060000
END:STANDARD
BEGIN:DAYLIGHT
TZOFFSETFROM:-0500
TZOFFSETTO:-0400
TZNAME:EDT
DTSTART:20260308T070000
END:DAYLIGHT
BEGIN:STANDARD
TZOFFSETFROM:-0400
TZOFFSETTO:-0500
TZNAME:EST
DTSTART:20261101T060000
END:STANDARD
BEGIN:DAYLIGHT
TZOFFSETFROM:-0500
TZOFFSETTO:-0400
TZNAME:EDT
DTSTART:20270314T070000
END:DAYLIGHT
BEGIN:STANDARD
TZOFFSETFROM:-0400
TZOFFSETTO:-0500
TZNAME:EST
DTSTART:20271107T060000
END:STANDARD
END:VTIMEZONE
BEGIN:VEVENT
DTSTART;TZID=America/New_York:20260110T110000
DTEND;TZID=America/New_York:20260110T120000
DTSTAMP:20260420T143532
CREATED:20251227T135631Z
LAST-MODIFIED:20251227T135631Z
UID:10003340-1768042800-1768046400@www.actonexchange.org
SUMMARY:Library: 2026 Vision Boards @ West
DESCRIPTION:Register Here \nFor Adults! Join for some chatting\, music\, and crafting. This month’s craft is: 2026 Vision Boards. \nMake 2026 vision boards! Brainstorm your goals\, browse magazines and stickers to craft a personalized collage\, and receive a magnetic photo frame to display your work throughout the year! \nReasonable accommodations for individuals with disabilities are available upon request by emailing WACL@actonma.gov. Please note that the West Acton Citizens’ Library has limited accessibility. More accessible programs are offered at the Acton Memorial Library.
URL:https://www.actonexchange.org/event/library-2026-vision-boards-west/
LOCATION:West Acton Citizens’ Library\, 21 Windsor Avenue\, Acton\, 01720
ORGANIZER;CN="West Acton Citizens' Library":MAILTO:WACL@actonma.gov
END:VEVENT
BEGIN:VEVENT
DTSTART;TZID=America/New_York:20260110T140000
DTEND;TZID=America/New_York:20260110T150000
DTSTAMP:20260420T143532
CREATED:20251211T192426Z
LAST-MODIFIED:20251227T140220Z
UID:10003306-1768053600-1768057200@www.actonexchange.org
SUMMARY:Common Sense and the Birth of Independence: How Thomas Paine’s Words Ignited Acton – and America
DESCRIPTION:This lecture by longtime Acton resident Greg Jarboe commemorates the 250th anniversary of the publication of Thomas Paine’s Common Sense. This pamphlet transformed colonial resistance into a movement for American independence. Drawing on history\, Acton’s own revolutionary legacy\, and his articles for The Acton Exchange\, Jarboe explains how Paine’s plainspoken arguments against monarchy and for popular sovereignty reshaped public opinion and helped make independence inevitable. \nThe talk traces Paine’s unlikely path\, the pamphlet’s explosive spread through New England\, its influence on Acton Town Meeting’s vote for independence on June 14\, 1776\, and its direct impact on the Declaration of Independence. Jarboe also explores tensions between Paine’s democratic vision and John Adams’s preference for checks and balances\, concluding with the enduring relevance of Paine’s ideas to American democracy today. \n 
URL:https://www.actonexchange.org/event/thomas-paines-common-sense-in-america-the-law-is-king/
LOCATION:Acton Memorial Library Meeting Room (1st floor)\, 486 Main Street\, Acton\, MA\, 01720\, United States
END:VEVENT
BEGIN:VEVENT
DTSTART;TZID=America/New_York:20260110T160000
DTEND;TZID=America/New_York:20260110T183000
DTSTAMP:20260420T143532
CREATED:20260107T231940Z
LAST-MODIFIED:20260107T231940Z
UID:10003494-1768060800-1768069800@www.actonexchange.org
SUMMARY:Acton Community Chorus Winter Concert
DESCRIPTION:“I Hear the Stars Still Singing” is a constellation of contemporary choral music contemplating the stars and the universe\, featuring a multi-movement work by Kenneth Riggs called “Starlight Songs\,” plus works by other living composers such as J. Michael Saunders\, Jacob Narverud\, Susan LaBarr\, and Victor C. Johnson. The music ranges from exciting and hopeful to contemplative and serene\, while we consider how the stars influence and guide us through our lives. \nSnow date: January 11. \nFree for students (K -12)\, $28 general admission.
URL:https://www.actonexchange.org/event/acton-community-chorus-winter-concert/
LOCATION:Acton Congregational Church\, 12 Concord Road\, Acton\, MA\, 01720\, United States
ORGANIZER;CN="Acton Community Chorus":MAILTO:accinformation9@gmail.com
END:VEVENT
BEGIN:VEVENT
DTSTART;TZID=America/New_York:20260110T170000
DTEND;TZID=America/New_York:20260110T200000
DTSTAMP:20260420T143532
CREATED:20251219T153134Z
LAST-MODIFIED:20251219T153134Z
UID:10003327-1768064400-1768075200@www.actonexchange.org
SUMMARY:Discovery Museum: Special Saturday evenings
DESCRIPTION:The Especially for Me series offers dedicated hours and free admission for families with disabilities. During these events\, we offer accommodations that increase access to exhibits and provide an opportunity for families to network with one another in an understanding\, ADA-compliant environment. \nWhile the event titles indicate the focus for certain program accommodations\, any family that would benefit from a sensory friendly visit is welcome at any time. A medical diagnosis is not required. \nAll Especially for Me events are free to attend\, but preregistration is required. More information\, dates and registration links can be found online at http://bit.ly/EspeciallyforMe. \nFor these events\, the museum is closed to the public. Dinner\, including a gluten-free option\, is provided at no cost. \n\nAutism-Friendly Evening – January 10\nEvening for Deaf\, Blind\, or DeafBlind – January 31\nInclusive Evenings – February 28\, March 21\, May 16\, June 27\nMask On\, Play On! – April 11\nMorning for Deaf\, Hard of Hearing\, and KODA visitors – date tba
URL:https://www.actonexchange.org/event/discovery-museum-special-saturday-evenings/2026-01-10/
LOCATION:Discovery Museum\, 177 Main St.\, Acton\, MA\, 01720\, United States
ORGANIZER;CN="Discovery Museum":MAILTO:fun@DiscoveryActon.org
END:VEVENT
END:VCALENDAR