BEGIN:VCALENDAR
VERSION:2.0
PRODID:-//The Acton Exchange - ECPv6.15.17.1//NONSGML v1.0//EN
CALSCALE:GREGORIAN
METHOD:PUBLISH
X-WR-CALNAME:The Acton Exchange
X-ORIGINAL-URL:https://www.actonexchange.org
X-WR-CALDESC:Events for The Acton Exchange
REFRESH-INTERVAL;VALUE=DURATION:PT1H
X-Robots-Tag:noindex
X-PUBLISHED-TTL:PT1H
BEGIN:VTIMEZONE
TZID:America/New_York
BEGIN:DAYLIGHT
TZOFFSETFROM:-0500
TZOFFSETTO:-0400
TZNAME:EDT
DTSTART:20250309T070000
END:DAYLIGHT
BEGIN:STANDARD
TZOFFSETFROM:-0400
TZOFFSETTO:-0500
TZNAME:EST
DTSTART:20251102T060000
END:STANDARD
BEGIN:DAYLIGHT
TZOFFSETFROM:-0500
TZOFFSETTO:-0400
TZNAME:EDT
DTSTART:20260308T070000
END:DAYLIGHT
BEGIN:STANDARD
TZOFFSETFROM:-0400
TZOFFSETTO:-0500
TZNAME:EST
DTSTART:20261101T060000
END:STANDARD
BEGIN:DAYLIGHT
TZOFFSETFROM:-0500
TZOFFSETTO:-0400
TZNAME:EDT
DTSTART:20270314T070000
END:DAYLIGHT
BEGIN:STANDARD
TZOFFSETFROM:-0400
TZOFFSETTO:-0500
TZNAME:EST
DTSTART:20271107T060000
END:STANDARD
END:VTIMEZONE
BEGIN:VEVENT
DTSTART;TZID=America/New_York:20260108T180000
DTEND;TZID=America/New_York:20260108T190000
DTSTAMP:20260421T195216
CREATED:20251227T135514Z
LAST-MODIFIED:20251227T135532Z
UID:10003339-1767895200-1767898800@www.actonexchange.org
SUMMARY:Library: Embodied Awareness for Balance and Ease – An Introduction to the Alexander Technique
DESCRIPTION:Register Here \nIn this interactive workshop\, we will explore tools from the Alexander Technique! Come learn how fine-tuning your sensory awareness\, redistributing muscular effort\, and cooperating with your system’s innate design can help you stand\, walk\, and move with more ease. We will learn basic anatomy\, do breathwork\, explore activities of daily life (walking\, sitting-to-standing\, speaking)\, and experience gentle hands-on touch from the teacher. Learn about this wonderfully supportive self-care technique and leave feeling lighter\, more alert\, and more confident in movement. Wear comfortable clothes and bring a water bottle. \nReasonable accommodations for individuals with disabilities are available upon request by emailing library@actonma.gov.
URL:https://www.actonexchange.org/event/library-embodied-awareness-for-balance-and-ease-an-introduction-to-the-alexander-technique/
LOCATION:Acton Memorial Library Meeting Room (1st floor)\, 486 Main Street\, Acton\, MA\, 01720\, United States
END:VEVENT
END:VCALENDAR