BEGIN:VCALENDAR
VERSION:2.0
PRODID:-//The Acton Exchange - ECPv6.15.17.1//NONSGML v1.0//EN
CALSCALE:GREGORIAN
METHOD:PUBLISH
X-WR-CALNAME:The Acton Exchange
X-ORIGINAL-URL:https://www.actonexchange.org
X-WR-CALDESC:Events for The Acton Exchange
REFRESH-INTERVAL;VALUE=DURATION:PT1H
X-Robots-Tag:noindex
X-PUBLISHED-TTL:PT1H
BEGIN:VTIMEZONE
TZID:America/New_York
BEGIN:DAYLIGHT
TZOFFSETFROM:-0500
TZOFFSETTO:-0400
TZNAME:EDT
DTSTART:20240310T070000
END:DAYLIGHT
BEGIN:STANDARD
TZOFFSETFROM:-0400
TZOFFSETTO:-0500
TZNAME:EST
DTSTART:20241103T060000
END:STANDARD
BEGIN:DAYLIGHT
TZOFFSETFROM:-0500
TZOFFSETTO:-0400
TZNAME:EDT
DTSTART:20250309T070000
END:DAYLIGHT
BEGIN:STANDARD
TZOFFSETFROM:-0400
TZOFFSETTO:-0500
TZNAME:EST
DTSTART:20251102T060000
END:STANDARD
BEGIN:DAYLIGHT
TZOFFSETFROM:-0500
TZOFFSETTO:-0400
TZNAME:EDT
DTSTART:20260308T070000
END:DAYLIGHT
BEGIN:STANDARD
TZOFFSETFROM:-0400
TZOFFSETTO:-0500
TZNAME:EST
DTSTART:20261101T060000
END:STANDARD
END:VTIMEZONE
BEGIN:VEVENT
DTSTART;TZID=America/New_York:20251216T130000
DTEND;TZID=America/New_York:20251216T140000
DTSTAMP:20260421T195312
CREATED:20251129T125748Z
LAST-MODIFIED:20251129T125748Z
UID:10003277-1765890000-1765893600@www.actonexchange.org
SUMMARY:Acton COA Presents: Holiday Music Performance by New England Musician Matt York
DESCRIPTION:Longtime New England musician Matt York will be performing a selection of music with a holiday theme. The songs will run the gamut from those that have been around for hundreds of years to more modern Christmas and holiday classics. Singing along is encouraged! Matt’s program combines guitar/vocal performance and interesting stories about the origins of the songs. Matt York was twice been nominated for the Boston Music Award for Best Country Artist and his album Gently Used was named one of the top albums by Worcester Magazine. His programs on the songs of Willie Nelson and Johnny Cash at the Senior Center were big hits! \nOpen to out-of-towners 60+ for $5 \n 
URL:https://www.actonexchange.org/event/acton-coa-presents-holiday-music-performance-by-new-england-musician-matt-york/
LOCATION:Acton Senior Center\, 30 Sudbury Road Rear\, Acton\, MA\, 01720
ORGANIZER;CN="Acton Council on Aging":MAILTO:seniorcenter@actonma.gov
END:VEVENT
END:VCALENDAR