BEGIN:VCALENDAR
VERSION:2.0
PRODID:-//The Acton Exchange - ECPv6.15.17.1//NONSGML v1.0//EN
CALSCALE:GREGORIAN
METHOD:PUBLISH
X-WR-CALNAME:The Acton Exchange
X-ORIGINAL-URL:https://www.actonexchange.org
X-WR-CALDESC:Events for The Acton Exchange
REFRESH-INTERVAL;VALUE=DURATION:PT1H
X-Robots-Tag:noindex
X-PUBLISHED-TTL:PT1H
BEGIN:VTIMEZONE
TZID:America/New_York
BEGIN:DAYLIGHT
TZOFFSETFROM:-0500
TZOFFSETTO:-0400
TZNAME:EDT
DTSTART:20240310T070000
END:DAYLIGHT
BEGIN:STANDARD
TZOFFSETFROM:-0400
TZOFFSETTO:-0500
TZNAME:EST
DTSTART:20241103T060000
END:STANDARD
BEGIN:DAYLIGHT
TZOFFSETFROM:-0500
TZOFFSETTO:-0400
TZNAME:EDT
DTSTART:20250309T070000
END:DAYLIGHT
BEGIN:STANDARD
TZOFFSETFROM:-0400
TZOFFSETTO:-0500
TZNAME:EST
DTSTART:20251102T060000
END:STANDARD
BEGIN:DAYLIGHT
TZOFFSETFROM:-0500
TZOFFSETTO:-0400
TZNAME:EDT
DTSTART:20260308T070000
END:DAYLIGHT
BEGIN:STANDARD
TZOFFSETFROM:-0400
TZOFFSETTO:-0500
TZNAME:EST
DTSTART:20261101T060000
END:STANDARD
END:VTIMEZONE
BEGIN:VEVENT
DTSTART;TZID=America/New_York:20251214T100000
DTEND;TZID=America/New_York:20251214T180000
DTSTAMP:20260420T195117
CREATED:20251128T213151Z
LAST-MODIFIED:20251128T213151Z
UID:10003289-1765706400-1765735200@www.actonexchange.org
SUMMARY:Acton Lions: Christmas Tree Sale
DESCRIPTION:The holiday season is here\, and so is one of Acton’s favorite traditions! The Acton Lions Club is once again proud to host our long-running Christmas Tree Sale—a cheerful community gathering that has brought families together for decades. Come join the fun\, feel the Christmas spirit\, and pick out the perfect tree to brighten your home this holiday season! \nAll proceeds help support charitable and community needs locally\, nationally\, and even around the world.
URL:https://www.actonexchange.org/event/acton-lions-christmas-tree-sale-2/2025-12-14/
LOCATION:Acton Ace Hardware parking lot\, 210 Main Street\, Acton\, MA\, 01720
ORGANIZER;CN="Acton Lions Club":MAILTO:acton_lions@hotmail.com
END:VEVENT
BEGIN:VEVENT
DTSTART;TZID=America/New_York:20251214T110000
DTEND;TZID=America/New_York:20251214T153000
DTSTAMP:20260420T195117
CREATED:20251203T012248Z
LAST-MODIFIED:20251203T012248Z
UID:10003297-1765710000-1765726200@www.actonexchange.org
SUMMARY:Fair Trade Craft Sale
DESCRIPTION:Beautiful\, Unique\, Affordable\, Fair Trade Handmade Crafts on Sale \nWhy shop at this sale? \nThe purchase of these Fair Trade items benefit the artisans who made them – Mayan Hands collaborates with 15 artisan groups in the rural Guatemalan highlands\, representing about 200 skilled craftswomen; UPAVIM’s member cooperative\, located in a “Red Zone” of Guatemala City plagued by gang and violence\, is comprised of more than 70 women working as seamstresses and making handicrafts. \nProceeds from the sale benefit a scholarship fund for students in the Church of the Good Shepherd sister community of El Ocotillo\, a small village in the mountains of El Salvador – the sale does not benefit the church.  These Fair Trade items are affordable as they haven’t yet been subject to higher tariffs that are likely to be imposed due to changes to the CAFTA-DR regulations.  The lovely handmade creations reflect ancestral techniques\, artisan craftswomanship\, and heirloom quality in new\, updated designs for the modern market. Come shop for exquisite: \nBaskets\, Ornaments\, Wooden crafts\, Ceramics\, Jewelry\, Textiles\, Scarves\, Bags\, Purses\, Children’s novelties \nAnd much more …
URL:https://www.actonexchange.org/event/fair-trade-craft-sale/2025-12-14/
LOCATION:Church of the Good Shepherd\, 164 Newtown Road\, Acton\, MA\, 01720\, United States
END:VEVENT
BEGIN:VEVENT
DTSTART;TZID=America/New_York:20251214T140000
DTEND;TZID=America/New_York:20251214T160000
DTSTAMP:20260420T195117
CREATED:20250829T202858Z
LAST-MODIFIED:20251122T190454Z
UID:10002634-1765720800-1765728000@www.actonexchange.org
SUMMARY:Boxborough Museum open house
DESCRIPTION:The Boxborough Museum at 575 Middle Road is open on second Sundays from 2 p.m. to 4 p.m.  \nCome see Boxborough’s historic treasures including the 1850’s scale which is sensitive enough to weigh a penny and strong enough to calibrate a 50 pound weight\, the “new” hearse built in 1881\, and the “old” hearse (come and see how old is old).   \nAdmission is free and all are welcome. For more information or to arrange a private tour for a small group\, please contact John Fallon through the Boxborough Historical Society.
URL:https://www.actonexchange.org/event/boxborough-museum-open-house/2025-12-14/
LOCATION:Boxborough Museum\, 575 Middle Road\, Boxborough\, MA\, 01719
END:VEVENT
END:VCALENDAR