BEGIN:VCALENDAR
VERSION:2.0
PRODID:-//The Acton Exchange - ECPv6.15.17.1//NONSGML v1.0//EN
CALSCALE:GREGORIAN
METHOD:PUBLISH
X-WR-CALNAME:The Acton Exchange
X-ORIGINAL-URL:https://www.actonexchange.org
X-WR-CALDESC:Events for The Acton Exchange
REFRESH-INTERVAL;VALUE=DURATION:PT1H
X-Robots-Tag:noindex
X-PUBLISHED-TTL:PT1H
BEGIN:VTIMEZONE
TZID:America/New_York
BEGIN:DAYLIGHT
TZOFFSETFROM:-0500
TZOFFSETTO:-0400
TZNAME:EDT
DTSTART:20240310T070000
END:DAYLIGHT
BEGIN:STANDARD
TZOFFSETFROM:-0400
TZOFFSETTO:-0500
TZNAME:EST
DTSTART:20241103T060000
END:STANDARD
BEGIN:DAYLIGHT
TZOFFSETFROM:-0500
TZOFFSETTO:-0400
TZNAME:EDT
DTSTART:20250309T070000
END:DAYLIGHT
BEGIN:STANDARD
TZOFFSETFROM:-0400
TZOFFSETTO:-0500
TZNAME:EST
DTSTART:20251102T060000
END:STANDARD
BEGIN:DAYLIGHT
TZOFFSETFROM:-0500
TZOFFSETTO:-0400
TZNAME:EDT
DTSTART:20260308T070000
END:DAYLIGHT
BEGIN:STANDARD
TZOFFSETFROM:-0400
TZOFFSETTO:-0500
TZNAME:EST
DTSTART:20261101T060000
END:STANDARD
END:VTIMEZONE
BEGIN:VEVENT
DTSTART;TZID=America/New_York:20251212T130000
DTEND;TZID=America/New_York:20251212T143000
DTSTAMP:20260420T023308
CREATED:20251210T132216Z
LAST-MODIFIED:20251210T132216Z
UID:10003305-1765544400-1765549800@www.actonexchange.org
SUMMARY:Danny's Place: Homeschool Open House
DESCRIPTION:Stop by Danny’s Place for a relaxed open house designed especially for homeschooling families. Come explore our space\, connect with other families\, and discover resources\, programs\, and community support available throughout the year. All are welcome! \nNo sign-up needed.
URL:https://www.actonexchange.org/event/dannys-place-homeschool-open-house/
LOCATION:Danny’s Place\, 543 Mass Ave.\, Acton\, MA\, 01720
END:VEVENT
BEGIN:VEVENT
DTSTART;TZID=America/New_York:20251212T150000
DTEND;TZID=America/New_York:20251212T180000
DTSTAMP:20260420T023308
CREATED:20251128T212539Z
LAST-MODIFIED:20251128T212539Z
UID:10003282-1765551600-1765562400@www.actonexchange.org
SUMMARY:Acton Lions: Christmas Tree Sale
DESCRIPTION:The holiday season is here\, and so is one of Acton’s favorite traditions! The Acton Lions Club is once again proud to host our long-running Christmas Tree Sale—a cheerful community gathering that has brought families together for decades. Come join the fun\, feel the Christmas spirit\, and pick out the perfect tree to brighten your home this holiday season! \nAll proceeds help support charitable and community needs locally\, nationally\, and even around the world.
URL:https://www.actonexchange.org/event/acton-lions-christmas-tree-sale/2025-12-12/
LOCATION:Acton Ace Hardware parking lot\, 210 Main Street\, Acton\, MA\, 01720
ORGANIZER;CN="Acton Lions Club":MAILTO:acton_lions@hotmail.com
END:VEVENT
BEGIN:VEVENT
DTSTART;TZID=America/New_York:20251212T170000
DTEND;TZID=America/New_York:20251212T180000
DTSTAMP:20260420T023308
CREATED:20251209T182230Z
LAST-MODIFIED:20251209T182230Z
UID:10003304-1765558800-1765562400@www.actonexchange.org
SUMMARY:Danny's Place: Live Music with South Commons (ages13+)
DESCRIPTION:Join us for an energetic hour of live music featuring South Commons\, a talented local high school band. This all-ages (13+) event offers teens a safe\, welcoming space to explore creativity\, expression\, and community. Earplugs recommended (available on site). \nVisit https://www.dannys-place.org/events/live-music-at-dannys-place-south-commons for more information!
URL:https://www.actonexchange.org/event/dannys-place-live-music-with-south-commons-ages13/
LOCATION:Danny’s Place\, 543 Mass Ave.\, Acton\, MA\, 01720
END:VEVENT
BEGIN:VEVENT
DTSTART;TZID=America/New_York:20251212T183000
DTEND;TZID=America/New_York:20251212T220000
DTSTAMP:20260420T023308
CREATED:20250209T152450Z
LAST-MODIFIED:20250710T003200Z
UID:10001295-1765564200-1765576800@www.actonexchange.org
SUMMARY:Carlisle Potluck and Contradance
DESCRIPTION:The Carlisle Dance\, with its accompanying potluck dinner\, is known as the most sociable dance in the area. Arrive at 6:30 for  dinner and conversation\, and then dance from 8 until 10. Live music by the Carlisle Band\, who bring an eclectic collection of instruments. Outstanding local callers call mostly contradances\, plus occasional square and circle dances. \nAdmission is just $6-10 (self-determined sliding scale) for all ages\, along with your tasty and creative contribution for the meal. \nYou’ll find us at the lovely Unitarian Church in Carlisle Center on the Common. Navigate to 27 School St\, Carlisle MA and look for a classic New England church with the town clock in the steeple.
URL:https://www.actonexchange.org/event/carlisle-potluck-and-contradance/2025-12-12/
LOCATION:First Religious Society of Carlisle\, 27 School Street\, Carlisle\, 10741
END:VEVENT
END:VCALENDAR