BEGIN:VCALENDAR
VERSION:2.0
PRODID:-//The Acton Exchange - ECPv6.15.17.1//NONSGML v1.0//EN
CALSCALE:GREGORIAN
METHOD:PUBLISH
X-ORIGINAL-URL:https://www.actonexchange.org
X-WR-CALDESC:Events for The Acton Exchange
REFRESH-INTERVAL;VALUE=DURATION:PT1H
X-Robots-Tag:noindex
X-PUBLISHED-TTL:PT1H
BEGIN:VTIMEZONE
TZID:America/New_York
BEGIN:DAYLIGHT
TZOFFSETFROM:-0500
TZOFFSETTO:-0400
TZNAME:EDT
DTSTART:20240310T070000
END:DAYLIGHT
BEGIN:STANDARD
TZOFFSETFROM:-0400
TZOFFSETTO:-0500
TZNAME:EST
DTSTART:20241103T060000
END:STANDARD
BEGIN:DAYLIGHT
TZOFFSETFROM:-0500
TZOFFSETTO:-0400
TZNAME:EDT
DTSTART:20250309T070000
END:DAYLIGHT
BEGIN:STANDARD
TZOFFSETFROM:-0400
TZOFFSETTO:-0500
TZNAME:EST
DTSTART:20251102T060000
END:STANDARD
BEGIN:DAYLIGHT
TZOFFSETFROM:-0500
TZOFFSETTO:-0400
TZNAME:EDT
DTSTART:20260308T070000
END:DAYLIGHT
BEGIN:STANDARD
TZOFFSETFROM:-0400
TZOFFSETTO:-0500
TZNAME:EST
DTSTART:20261101T060000
END:STANDARD
END:VTIMEZONE
BEGIN:VEVENT
DTSTART;TZID=America/New_York:20251211T130000
DTEND;TZID=America/New_York:20251211T140000
DTSTAMP:20260419T112207
CREATED:20251129T125637Z
LAST-MODIFIED:20251129T125637Z
UID:10003276-1765458000-1765461600@www.actonexchange.org
SUMMARY:Acton COA: Holiday Music Presentation with Music Historian John Clark
DESCRIPTION:Get into the spirit of the season with this presentation featuring classic holiday songs from the 50s and 60s! You’ll hear the stories behind It’s Beginning to Look a Lot Like Christmas by Broadway composer Meredith Willson (of Music Man fame) and country star Willie Nelson’s Pretty Paper. Did you know that songwriter Johnny Marks had written three big hits during these years? Rockin’ Around the Christmas Tree (Brenda Lee)\, A Holly Jolly Christmas (Burl Ives) and Run Rudolph Run (Chuck Berry)? And in the 1950s there were novelty songs galore like The Chipmunk Song\, I’m Getting’ Nuttin’ for Christmas and I Saw Mommy Kissing Santa Claus (which was used for a Saks Fifth Avenue advertising campaign). You’ll also see performance clips for This Time of the Year (Brook Benton)\, There’s No Place Like Home for the Holidays (Perry Como)\, The Most Wonderful Time of the Year (Andy Williams) and Feliz Navidad (Jose Feliciano). \nOpen to out-of-towners 60+ for $5
URL:https://www.actonexchange.org/event/acton-coa-holiday-music-presentation-with-music-historian-john-clark/
LOCATION:Acton Senior Center\, 30 Sudbury Road Rear\, Acton\, MA\, 01720
ORGANIZER;CN="Acton Council on Aging":MAILTO:seniorcenter@actonma.gov
END:VEVENT
END:VCALENDAR