BEGIN:VCALENDAR
VERSION:2.0
PRODID:-//The Acton Exchange - ECPv6.15.17.1//NONSGML v1.0//EN
CALSCALE:GREGORIAN
METHOD:PUBLISH
X-ORIGINAL-URL:https://www.actonexchange.org
X-WR-CALDESC:Events for The Acton Exchange
REFRESH-INTERVAL;VALUE=DURATION:PT1H
X-Robots-Tag:noindex
X-PUBLISHED-TTL:PT1H
BEGIN:VTIMEZONE
TZID:America/New_York
BEGIN:DAYLIGHT
TZOFFSETFROM:-0500
TZOFFSETTO:-0400
TZNAME:EDT
DTSTART:20240310T070000
END:DAYLIGHT
BEGIN:STANDARD
TZOFFSETFROM:-0400
TZOFFSETTO:-0500
TZNAME:EST
DTSTART:20241103T060000
END:STANDARD
BEGIN:DAYLIGHT
TZOFFSETFROM:-0500
TZOFFSETTO:-0400
TZNAME:EDT
DTSTART:20250309T070000
END:DAYLIGHT
BEGIN:STANDARD
TZOFFSETFROM:-0400
TZOFFSETTO:-0500
TZNAME:EST
DTSTART:20251102T060000
END:STANDARD
BEGIN:DAYLIGHT
TZOFFSETFROM:-0500
TZOFFSETTO:-0400
TZNAME:EDT
DTSTART:20260308T070000
END:DAYLIGHT
BEGIN:STANDARD
TZOFFSETFROM:-0400
TZOFFSETTO:-0500
TZNAME:EST
DTSTART:20261101T060000
END:STANDARD
END:VTIMEZONE
BEGIN:VEVENT
DTSTART;TZID=America/New_York:20251117T180000
DTEND;TZID=America/New_York:20251117T190000
DTSTAMP:20260419T160645
CREATED:20251016T191208Z
LAST-MODIFIED:20251016T191208Z
UID:10003182-1763402400-1763406000@www.actonexchange.org
SUMMARY:Library: Felt Leaf Garland @ AML
DESCRIPTION:Register on the program page on our website.  \nFor Adults! \nJoin for some chatting\, music\, and crafting! Make and take home a felt leaf garland of your own. \nReasonable accommodations for individuals with disabilities are available upon request by emailing library@actonma.gov.
URL:https://www.actonexchange.org/event/library-felt-leaf-garland-aml/
LOCATION:Acton Memorial Library Meeting Room (1st floor)\, 486 Main Street\, Acton\, MA\, 01720\, United States
END:VEVENT
BEGIN:VEVENT
DTSTART;TZID=America/New_York:20251117T183000
DTEND;TZID=America/New_York:20251117T203000
DTSTAMP:20260419T160645
CREATED:20251010T122044Z
LAST-MODIFIED:20251010T122044Z
UID:10003167-1763404200-1763411400@www.actonexchange.org
SUMMARY:American Civil Liberties Union (ACLU) of MA: Discussion on Demonstrations
DESCRIPTION:The First Religious Society of Carlisle (FRS) will host the American Civil Liberties Union (ACLU) of Massachusetts for a discussion on rights while demonstrating and standing up for our communities. Topics will include: \n\nan overview of the current landscape\nrights and best practices during demonstrations\nrights and best practices related to immigration enforcement\n\nAll are welcome. Seating may be limited\, so please arrive early if you want to attend.
URL:https://www.actonexchange.org/event/american-civil-liberties-union-aclu-of-ma-discussion-on-demonstrations/
LOCATION:First Religious Society of Carlisle\, 27 School Street\, Carlisle\, 10741
END:VEVENT
END:VCALENDAR