BEGIN:VCALENDAR
VERSION:2.0
PRODID:-//The Acton Exchange - ECPv6.15.17.1//NONSGML v1.0//EN
CALSCALE:GREGORIAN
METHOD:PUBLISH
X-ORIGINAL-URL:https://www.actonexchange.org
X-WR-CALDESC:Events for The Acton Exchange
REFRESH-INTERVAL;VALUE=DURATION:PT1H
X-Robots-Tag:noindex
X-PUBLISHED-TTL:PT1H
BEGIN:VTIMEZONE
TZID:America/New_York
BEGIN:DAYLIGHT
TZOFFSETFROM:-0500
TZOFFSETTO:-0400
TZNAME:EDT
DTSTART:20240310T070000
END:DAYLIGHT
BEGIN:STANDARD
TZOFFSETFROM:-0400
TZOFFSETTO:-0500
TZNAME:EST
DTSTART:20241103T060000
END:STANDARD
BEGIN:DAYLIGHT
TZOFFSETFROM:-0500
TZOFFSETTO:-0400
TZNAME:EDT
DTSTART:20250309T070000
END:DAYLIGHT
BEGIN:STANDARD
TZOFFSETFROM:-0400
TZOFFSETTO:-0500
TZNAME:EST
DTSTART:20251102T060000
END:STANDARD
BEGIN:DAYLIGHT
TZOFFSETFROM:-0500
TZOFFSETTO:-0400
TZNAME:EDT
DTSTART:20260308T070000
END:DAYLIGHT
BEGIN:STANDARD
TZOFFSETFROM:-0400
TZOFFSETTO:-0500
TZNAME:EST
DTSTART:20261101T060000
END:STANDARD
END:VTIMEZONE
BEGIN:VEVENT
DTSTART;TZID=America/New_York:20251106T130000
DTEND;TZID=America/New_York:20251106T140000
DTSTAMP:20260421T200555
CREATED:20251103T161726Z
LAST-MODIFIED:20251103T161726Z
UID:10003221-1762434000-1762437600@www.actonexchange.org
SUMMARY:Acton COA Presents: The Fall of the Roman Republic: Civil War\, Discord\, and the Birth of Empire with Paolo Di Gregorio
DESCRIPTION:With the end of the Punic Wars in the second century BCE\, Rome dominated the Western Mediterranean and was poised to expand eastward. Yet the tremendous growth of Roman power caused social turmoil in Rome itself. The result was civil war\, dictatorship\, and the eventual collapse of the Roman Republic. This illustrated lecture will look at the forces that caused the transformation from Roman Republic to Roman Empire. \nOpen to out-of-towners 60+ for $5
URL:https://www.actonexchange.org/event/acton-coa-presents-the-fall-of-the-roman-republic-civil-war-discord-and-the-birth-of-empire-with-paolo-di-gregorio/
LOCATION:Acton Senior Center\, 30 Sudbury Road Rear\, Acton\, MA\, 01720
ORGANIZER;CN="Acton Council on Aging":MAILTO:seniorcenter@actonma.gov
END:VEVENT
BEGIN:VEVENT
DTSTART;TZID=America/New_York:20251106T150000
DTEND;TZID=America/New_York:20251106T160000
DTSTAMP:20260421T200555
CREATED:20251106T194517Z
LAST-MODIFIED:20251106T194517Z
UID:10003224-1762441200-1762444800@www.actonexchange.org
SUMMARY:ACTON COA Navigating Grief Group via Zoom
DESCRIPTION:Are you experiencing grief from the death of an older loved one and finding it hard to cope with everyday life? If so\, please join us in a new grief support group that will meet once a month for one hour via Zoom to discuss ways of coping with grief. Listening to others’ experiences can help you to better understand your own experience and may provide you with new insight in more constructive ways of dealing with this stage of life. This group will be led by Julie Norstrand\, PhD\, an experienced eldercare consultant who has worked with older adults and family caregivers for many years. Please sign up with the Council on Aging at seniorcenter@actonma.gov. Funded by an Executive Office of Aging & Independence grant. \nOpen to all/free
URL:https://www.actonexchange.org/event/acton-coa-navigating-grief-group-via-zoom/
LOCATION:Acton Senior Center\, 30 Sudbury Road Rear\, Acton\, MA\, 01720
ORGANIZER;CN="Acton Council on Aging":MAILTO:seniorcenter@actonma.gov
END:VEVENT
BEGIN:VEVENT
DTSTART;TZID=America/New_York:20251106T180000
DTEND;TZID=America/New_York:20251106T190000
DTSTAMP:20260421T200555
CREATED:20251016T190940Z
LAST-MODIFIED:20251016T190940Z
UID:10003176-1762452000-1762455600@www.actonexchange.org
SUMMARY:Library: Adult Writing Group
DESCRIPTION:Register on the program page on our website. \nWriting Club is a free group for prose\, poetry and non-fiction writers to come together\, connect\, share and create in a welcoming environment. Join the conversation\, work on optional weekly prompts or use the time to work on an existing project that your passionate about. All writing levels welcome! \nOptional Prompt: Write 1-3 paragraphs about a book\, film\, or tv show you enjoy and why you enjoy it. Do the same on a piece of media you do not enjoy and explain why you don’t enjoy it. Then write at least one paragraph examining the aspects about the piece of media you enjoy that you don’t enjoy. Then do the same for the piece of media you don’t enjoy\, writing about that you did enjoy or thought worked well.
URL:https://www.actonexchange.org/event/library-adult-writing-group-6/
LOCATION:Acton Memorial Library Conference Room (2nd floor)\, 486 Main Street\, Acton\, MA\, 01720\, United States
END:VEVENT
BEGIN:VEVENT
DTSTART;TZID=America/New_York:20251106T190000
DTEND;TZID=America/New_York:20251106T200000
DTSTAMP:20260421T200555
CREATED:20251022T205518Z
LAST-MODIFIED:20251022T205518Z
UID:10003205-1762455600-1762459200@www.actonexchange.org
SUMMARY:Co-existing with Black Bears in MA
DESCRIPTION:Join this engaging presentation to learn about black bear biology and behavior and get tips on how communities can take proactive steps to prevent conflict with bears. The program will be presented by Meghan Crawford\, Community Engagement Biologist at the Massachusetts Division of Fisheries and Wildlife (MassWildlife). Hosted by Acton Conservation\, Littleton Conservation\, Westford Conservation\, and the Littleton Conservation Trust. \nA hybrid attendance option via zoom is also available. \nTo attend in person\, please register at Co-existing with black bears in Massachusetts. \nZoom link: https://bit.ly/BlackBearsinMA
URL:https://www.actonexchange.org/event/co-existing-with-black-bears-in-ma/
LOCATION:Acton Town Hall\, Room 204\, 472 Main Street\, Acton\, MA\, 01720
END:VEVENT
END:VCALENDAR