BEGIN:VCALENDAR
VERSION:2.0
PRODID:-//The Acton Exchange - ECPv6.15.17.1//NONSGML v1.0//EN
CALSCALE:GREGORIAN
METHOD:PUBLISH
X-ORIGINAL-URL:https://www.actonexchange.org
X-WR-CALDESC:Events for The Acton Exchange
REFRESH-INTERVAL;VALUE=DURATION:PT1H
X-Robots-Tag:noindex
X-PUBLISHED-TTL:PT1H
BEGIN:VTIMEZONE
TZID:America/New_York
BEGIN:DAYLIGHT
TZOFFSETFROM:-0500
TZOFFSETTO:-0400
TZNAME:EDT
DTSTART:20240310T070000
END:DAYLIGHT
BEGIN:STANDARD
TZOFFSETFROM:-0400
TZOFFSETTO:-0500
TZNAME:EST
DTSTART:20241103T060000
END:STANDARD
BEGIN:DAYLIGHT
TZOFFSETFROM:-0500
TZOFFSETTO:-0400
TZNAME:EDT
DTSTART:20250309T070000
END:DAYLIGHT
BEGIN:STANDARD
TZOFFSETFROM:-0400
TZOFFSETTO:-0500
TZNAME:EST
DTSTART:20251102T060000
END:STANDARD
BEGIN:DAYLIGHT
TZOFFSETFROM:-0500
TZOFFSETTO:-0400
TZNAME:EDT
DTSTART:20260308T070000
END:DAYLIGHT
BEGIN:STANDARD
TZOFFSETFROM:-0400
TZOFFSETTO:-0500
TZNAME:EST
DTSTART:20261101T060000
END:STANDARD
END:VTIMEZONE
BEGIN:VEVENT
DTSTART;TZID=America/New_York:20251101T090000
DTEND;TZID=America/New_York:20251101T120000
DTSTAMP:20260419T111830
CREATED:20250916T233141Z
LAST-MODIFIED:20251031T212912Z
UID:10002687-1761987600-1761998400@www.actonexchange.org
SUMMARY:Friends of Pine Hawk: Hockomock Swamp Field Trip
DESCRIPTION:“Hockomock” in Algonquin means “land where spirits dwell” and is a revered Wampanoag sacred site\, and later a “Devil’s Swamp” for English settlers. Join Dan Boudillion and Bettina Abe for a 2-mile hike at Hockomock Swamp\, a Massachusetts Wildlife Management Area in Raynham\, Mass. \nThere is much lore surrounding the history of Hockomock Swamp\, beginning in the 1600s. The area is the largest freshwater swamp in the state and is known for sightings of floating orbs of light\, ghostly voices\, and phantom drums linked to its past as an ancient burial ground and a natural fortress during King Phillip’s War. \nWe will walk the trail\, while Dan shares the many stories and lore he has collected over the years. We will meet in Acton and carpool down Route 495 for approximately one hour drive to “the Bridgewater Triangle.” \nFriends of Pine Hawk events are free but this walk requires registration at https://tinyurl.com/2025-Pinehawk
URL:https://www.actonexchange.org/event/friends-of-pinehawk-hockomock-swamp-field-trip/
LOCATION:Acton Memorial Library\, 486 Main St.\, Acton\, MA\, 01720\, United States
ORGANIZER;CN="Friends of Pine Hawk":MAILTO:friends.of.pinehawk@gmail.com
END:VEVENT
BEGIN:VEVENT
DTSTART;TZID=America/New_York:20251101T090000
DTEND;TZID=America/New_York:20251101T120000
DTSTAMP:20260419T111830
CREATED:20251006T151244Z
LAST-MODIFIED:20251006T151244Z
UID:10003157-1761987600-1761998400@www.actonexchange.org
SUMMARY:ITC (Infant Toddler Children's Center) open house
DESCRIPTION:Are you looking for an early education program that fosters a love for learning and the outdoors? The Infant Toddler Children’s Center is hosting its Annual Enrollment Open House on Saturday\, November 1st\, from 9 a.m. to Noon. We invite you to learn about our unique nature-based curriculum and discover how we inspire a lifelong love of learning.
URL:https://www.actonexchange.org/event/itc-infant-toddler-childrens-center-open-house/
LOCATION:Infant Toddler Children’s Center\, 149 Central Street\, Acton\, MA\, 01720\, United States
END:VEVENT
BEGIN:VEVENT
DTSTART;TZID=America/New_York:20251101T100000
DTEND;TZID=America/New_York:20251101T150000
DTSTAMP:20260419T111830
CREATED:20251010T124851Z
LAST-MODIFIED:20251010T124851Z
UID:10003169-1761991200-1762009200@www.actonexchange.org
SUMMARY:First Annual Handmade Harvest Market
DESCRIPTION:Kick off your holiday shopping at Acton Congregational Church’s First Annual Handmade Harvest Market! We’re bringing together a variety of professional artisans and enthusiastic shoppers for a wonderful day of creativity and community.\n\nAdmission: $3 adults\, Free for students and children\nProceeds benefit the local Missions and Outreach activities of ACC.
URL:https://www.actonexchange.org/event/first-annual-handmade-harvest-market/
LOCATION:Acton Congregational Church\, 12 Concord Road\, Acton\, MA\, 01720\, United States
END:VEVENT
BEGIN:VEVENT
DTSTART;TZID=America/New_York:20251101T180000
DTEND;TZID=America/New_York:20251101T200000
DTSTAMP:20260419T111830
CREATED:20251015T002422Z
LAST-MODIFIED:20251015T002422Z
UID:10003196-1762020000-1762027200@www.actonexchange.org
SUMMARY:Nepal travelogue: Jeanette's trip to Nepal during a revolution!
DESCRIPTION:Nepal: Jeanette’s trip to Nepal during a revolution! Nov 1 6-8 pm\n\nJeanette Staley\, a Vermont-based artist and activist\, had just arrived in Kathmandu\, Nepal when a revolution broke out! She’ll share with us her experience with art-making in Kathmandu\, a brief hike in Nargokot\, meeting an elephant in Chitwan\, her visit to a rural school of the lowest caste on the south eastern plains of Nepal and what happened when a revolution not only broke out near where she was in lock down\, but was successful! \n\nShe’ll show us photos and other media and artifacts she collected\, and of course\, share stories of her wonderful adventures…\n\n\n\n\nPlease park in the driveway\, in front of the Citizen’s Library (old yellow house) across the street\, in the Pearl St. parking lot\, or on Mass. Ave.\n\nEating and drinking in the kitchen area only. No pets.\n\n\nDonations accepted for the school that Jeanette visited.\n\n\n \nMore info on Jeanette’s work: https://jeanettestaley-artist.com/\nMore info on the Nepali revolution:\nhttps://www.aljazeera.com/video/the-stream/2025/9/19/why-gen-z-brought-down-the-government-in-nepal
URL:https://www.actonexchange.org/event/nepal-travelogue-jeanettes-trip-to-nepal-during-a-revolution/
LOCATION:24 Windsor\, 24 Windsor Ave.\, Acton\, MA\, 01720\, United States
END:VEVENT
END:VCALENDAR