BEGIN:VCALENDAR
VERSION:2.0
PRODID:-//The Acton Exchange - ECPv6.15.17.1//NONSGML v1.0//EN
CALSCALE:GREGORIAN
METHOD:PUBLISH
X-ORIGINAL-URL:https://www.actonexchange.org
X-WR-CALDESC:Events for The Acton Exchange
REFRESH-INTERVAL;VALUE=DURATION:PT1H
X-Robots-Tag:noindex
X-PUBLISHED-TTL:PT1H
BEGIN:VTIMEZONE
TZID:America/New_York
BEGIN:DAYLIGHT
TZOFFSETFROM:-0500
TZOFFSETTO:-0400
TZNAME:EDT
DTSTART:20240310T070000
END:DAYLIGHT
BEGIN:STANDARD
TZOFFSETFROM:-0400
TZOFFSETTO:-0500
TZNAME:EST
DTSTART:20241103T060000
END:STANDARD
BEGIN:DAYLIGHT
TZOFFSETFROM:-0500
TZOFFSETTO:-0400
TZNAME:EDT
DTSTART:20250309T070000
END:DAYLIGHT
BEGIN:STANDARD
TZOFFSETFROM:-0400
TZOFFSETTO:-0500
TZNAME:EST
DTSTART:20251102T060000
END:STANDARD
BEGIN:DAYLIGHT
TZOFFSETFROM:-0500
TZOFFSETTO:-0400
TZNAME:EDT
DTSTART:20260308T070000
END:DAYLIGHT
BEGIN:STANDARD
TZOFFSETFROM:-0400
TZOFFSETTO:-0500
TZNAME:EST
DTSTART:20261101T060000
END:STANDARD
END:VTIMEZONE
BEGIN:VEVENT
DTSTART;TZID=America/New_York:20251029T113000
DTEND;TZID=America/New_York:20251029T130000
DTSTAMP:20260419T143317
CREATED:20251010T124701Z
LAST-MODIFIED:20251016T192021Z
UID:10003168-1761737400-1761742800@www.actonexchange.org
SUMMARY:Halloween Brown Bag Organ Concert
DESCRIPTION:Join the ACC organist\, Liz Carley\, for a free 30 minute concert and lecture on some of the spooky music associated with Hallowe’en. Liz will give a little history of Hallowe’en and play one or two serious organ pieces. Then the fun begins with singing some classic silly Hallowe’en songs.\n\n\nBring a brown bag lunch and have lunch with us after the concert in our fellowship hall. You bring the interest and the sandwiches\, and we’ll provide the music\, juice\, and cookies.\n\nCome and celebrate the season through music. It will be a Hallowe’en Howl.
URL:https://www.actonexchange.org/event/halloween-brown-bag-organ-concert/
LOCATION:Acton Congregational Church\, 12 Concord Road\, Acton\, MA\, 01720\, United States
END:VEVENT
BEGIN:VEVENT
DTSTART;TZID=America/New_York:20251029T143000
DTEND;TZID=America/New_York:20251029T160000
DTSTAMP:20260419T143317
CREATED:20250831T130103Z
LAST-MODIFIED:20250831T130103Z
UID:10002649-1761748200-1761753600@www.actonexchange.org
SUMMARY:Acton'sTrails Challenge
DESCRIPTION:“I Hiked Acton’s Trails!” \n\n\n\n\nWalk the trails in Acton’s conservation areas with the goal of earning a sticker and a sew-on patch! These weekly walks are a joint effort between Acton Conservation Trust and Acton Conservation Division. We’ll walk a different conservation area weekly. Check out the “I Hiked Acton’s Trails” Challenge form HERE for more information about the challenge.\n\n\n\nDate: Wednesdays from September 3 to November 19. Once you register\, the location of each hike will be sent out each Sunday before the walk.\n\nTime: 2:30-4:00 pm. Plan to arrive a few minutes early as we will start our hikes on time.\nTypical distance: 1-2 miles\n\n\nREGISTER HERE
URL:https://www.actonexchange.org/event/actonstrails-challenge/2025-10-29/
LOCATION:Provided after registration
ORGANIZER;CN="Acton Conservation Trust":MAILTO:jharris.actonconservationtrust@gmail.com
END:VEVENT
BEGIN:VEVENT
DTSTART;TZID=America/New_York:20251029T150000
DTEND;TZID=America/New_York:20251029T160000
DTSTAMP:20260419T143317
CREATED:20251010T121511Z
LAST-MODIFIED:20251010T121511Z
UID:10003166-1761750000-1761753600@www.actonexchange.org
SUMMARY:Trek or Treat – Halloween Bike Ride
DESCRIPTION:Join us on Wednesday\, October 29th\, from 3:00 to 4:00pm for a Halloween bike ride event! Wear your best costume and travel 2 miles along the Bruce Freeman Rail Trail from the West Concord bike share station to the East Acton bike share station. Bring your own bike or borrow one from the Minuteman Bike Share. Treats and volunteers will be staggered along the route. Prizes for best costumes will be announced at 4:00! FREE for all ages and communities! \nStart at West Concord bike share station (Behind 40 Beharrell St\, Concord) and ride along the Bruce Freeman Rail Trail to East Acton Village Green (129 Concord Rd\, Acton) \nSponsored by the Minuteman Bike Share Towns (Acton\, Concord\, Lincoln\, and Maynard)
URL:https://www.actonexchange.org/event/trek-or-treat-halloween-bike-ride/
LOCATION:Bruce Freeman Rail Trail\, various access points\, see website\, Acton\, MA\, 01720\, United States
END:VEVENT
BEGIN:VEVENT
DTSTART;TZID=America/New_York:20251029T163000
DTEND;TZID=America/New_York:20251029T173000
DTSTAMP:20260419T143317
CREATED:20250926T161004Z
LAST-MODIFIED:20251003T205019Z
UID:10002717-1761755400-1761759000@www.actonexchange.org
SUMMARY:Acton Community Supper - October
DESCRIPTION:Join us for our weekly community supper! We look forward to sharing a meal and friendship with you. \nOctober 1: GRAB & GO: Pasta and Meatballs\nSponsored by St. John Lutheran Church of Sudbury \nOctober 8: GRAB & GO: Chili and Cornbread\nSponsored by West Acton Baptist Church \nOctober 15: SIT DOWN: BBQ Chicken Dinner\nSponsored by Boston Metro West Bible Church \nOctober 22: SIT DOWN: Middle Eastern Chicken Dinner\nSponsored by Acton Boxborough Regional Islamic Cultural Center \nOctober 29: SIT DOWN: Halloween Goulash and Spooky Slides\nSponsored by Congregation Beth Elohim \n\n** Please note that the meals we serve may contain gluten\, nuts\, seeds\, or dairy. \nDoors open at 4:15pm. Please\, do not enter earlier so our volunteers can prepare your Supper. \nParking: Park your car in the back parking lot and enter from the walkway to the church door. \nFor more information\, see http://www.facebook.com/CommunitySupperofActonMA. \n\n  \nWe are so grateful for the support and dedication of so many individuals\, community\norganizations\, church members and the team of our Supper volunteers. Together we\nhope that each meal we share will bring us closer together.
URL:https://www.actonexchange.org/event/acton-community-supper-october/2025-10-29/
LOCATION:Mt Cavalry Lutheran Church\, 472 Massachusetts Ave.\, Acton\, MA\, 01720
END:VEVENT
BEGIN:VEVENT
DTSTART;TZID=America/New_York:20251029T183000
DTEND;TZID=America/New_York:20251029T200000
DTSTAMP:20260419T143317
CREATED:20250418T143758Z
LAST-MODIFIED:20251018T124837Z
UID:10002105-1761762600-1761768000@www.actonexchange.org
SUMMARY:Library: Great Decisions Group Discussion – American Foreign Policy in the Middle East: Taking Stock and Looking Ahead
DESCRIPTION:Great Decisions is America’s largest discussion program on world affairs. The program model involves reading the Great Decisions Briefing Book and meeting in a Discussion Group to discuss the most critical global issues facing America today. This months topic will be on American Foreign Policy in the Middle East: Taking Stock and Looking Ahead. A short article is available from the Great Decisions briefing book. Please read it ahead of the meeting. It is available in the library. \nReasonable accommodations for individuals with disabilities are available upon request by emailing library@actonma.gov.
URL:https://www.actonexchange.org/event/library-great-decisions-group-discussion-artificial-intelligence/
LOCATION:Acton Memorial Library Meeting Room (1st floor)\, 486 Main Street\, Acton\, MA\, 01720\, United States
END:VEVENT
BEGIN:VEVENT
DTSTART;TZID=America/New_York:20251029T183000
DTEND;TZID=America/New_York:20251029T200000
DTSTAMP:20260419T143317
CREATED:20251003T192523Z
LAST-MODIFIED:20251027T165417Z
UID:10002758-1761762600-1761768000@www.actonexchange.org
SUMMARY:Library: Great Decisions Group Discussion – U.S. Leadership
DESCRIPTION:Great Decisions is America’s largest discussion program on world affairs. The program model involves reading the Great Decisions Briefing Book and meeting in a Discussion Group to discuss the most critical global issues facing America today. This months topic will be on U.S. Leadership. A short article is available from the Great Decisions briefing book. Please read it ahead of the meeting. It is available in the library. \nReasonable accommodations for individuals with disabilities are available upon request by emailing library@actonma.gov.
URL:https://www.actonexchange.org/event/library-great-decisions-group-discussion-tbd/
LOCATION:Acton Memorial Library Meeting Room (1st floor)\, 486 Main Street\, Acton\, MA\, 01720\, United States
END:VEVENT
END:VCALENDAR