BEGIN:VCALENDAR
VERSION:2.0
PRODID:-//The Acton Exchange - ECPv6.15.17.1//NONSGML v1.0//EN
CALSCALE:GREGORIAN
METHOD:PUBLISH
X-WR-CALNAME:The Acton Exchange
X-ORIGINAL-URL:https://www.actonexchange.org
X-WR-CALDESC:Events for The Acton Exchange
REFRESH-INTERVAL;VALUE=DURATION:PT1H
X-Robots-Tag:noindex
X-PUBLISHED-TTL:PT1H
BEGIN:VTIMEZONE
TZID:America/New_York
BEGIN:DAYLIGHT
TZOFFSETFROM:-0500
TZOFFSETTO:-0400
TZNAME:EDT
DTSTART:20240310T070000
END:DAYLIGHT
BEGIN:STANDARD
TZOFFSETFROM:-0400
TZOFFSETTO:-0500
TZNAME:EST
DTSTART:20241103T060000
END:STANDARD
BEGIN:DAYLIGHT
TZOFFSETFROM:-0500
TZOFFSETTO:-0400
TZNAME:EDT
DTSTART:20250309T070000
END:DAYLIGHT
BEGIN:STANDARD
TZOFFSETFROM:-0400
TZOFFSETTO:-0500
TZNAME:EST
DTSTART:20251102T060000
END:STANDARD
BEGIN:DAYLIGHT
TZOFFSETFROM:-0500
TZOFFSETTO:-0400
TZNAME:EDT
DTSTART:20260308T070000
END:DAYLIGHT
BEGIN:STANDARD
TZOFFSETFROM:-0400
TZOFFSETTO:-0500
TZNAME:EST
DTSTART:20261101T060000
END:STANDARD
END:VTIMEZONE
BEGIN:VEVENT
DTSTART;TZID=America/New_York:20251026T080000
DTEND;TZID=America/New_York:20251026T170000
DTSTAMP:20260420T023332
CREATED:20251003T181526Z
LAST-MODIFIED:20251003T181526Z
UID:10002763-1761465600-1761498000@www.actonexchange.org
SUMMARY:Acton Open Studios
DESCRIPTION:Visit artist studios and popup exhibits all over Acton (and Hill Road in Boxborough). \nSee a map of this year’s artists.
URL:https://www.actonexchange.org/event/acton-open-studios/2025-10-26/
LOCATION:MA
END:VEVENT
BEGIN:VEVENT
DTSTART;TZID=America/New_York:20251026T090000
DTEND;TZID=America/New_York:20251026T150000
DTSTAMP:20260420T023332
CREATED:20250914T134428Z
LAST-MODIFIED:20250914T134428Z
UID:10002682-1761469200-1761490800@www.actonexchange.org
SUMMARY:44th Annual Conant Artisan & Craft Fair
DESCRIPTION:Join us to shop over 70+ local artisans and crafters who sell their handmade items — jewelry\, knitwear\, candles\, home goods\, seasonal gifts\, greeting cards and more! Conant Artisan and Craft Fair is highly regarded by our attendees as a worthwhile place to shop for high-quality\, handmade items in an engaging and warm environment. \n\nWe are proud to be a reputable fair providing substantial funding to our children’s educational enrichment. We welcome you to join us and appreciate your support. \n\nAdmission is $5 Adults\, $4 Seniors\, FREE for Students and Children (under 18).\n\nFree parking.
URL:https://www.actonexchange.org/event/44th-annual-conant-artisan-craft-fair/
LOCATION:Luther Conant Elementary School\, 80 Taylor Road\,\, Acton\, MA\, 01720\, United States
END:VEVENT
BEGIN:VEVENT
DTSTART;TZID=America/New_York:20251026T113000
DTEND;TZID=America/New_York:20251026T123000
DTSTAMP:20260420T023332
CREATED:20251010T125315Z
LAST-MODIFIED:20251010T125315Z
UID:10003170-1761478200-1761481800@www.actonexchange.org
SUMMARY:Trunk or Treat for Sudbury Community Food Pantry
DESCRIPTION:Children ages 10 and under are invited to wear their costumes and take part in First Parish of Sudbury’s Fantastic & Fun 4th Annual Trunk or Treat So Others Can Eat! Collect candy\, play games\, and have lots of Ghoulish Fun!! \nThere is no fee to attend\, but please bring a nonperishable food item to donate to our collection for the Sudbury Community Food Pantry. The Food Pantry will accept donations of all unexpired food. \nThe event will take place in the First Parish Parking Lot (or inside if the weather is inclement). Free parking is available across the street behind the Sudbury Town Hall (322 Concord Rd\, Sudbury).
URL:https://www.actonexchange.org/event/trunk-or-treat-for-sudbury-community-food-pantry/
LOCATION:First Parish of Sudbury\, 327 Concord Road\, Sudbury\, MA\, 01776
END:VEVENT
BEGIN:VEVENT
DTSTART;TZID=America/New_York:20251026T120000
DTEND;TZID=America/New_York:20251026T123000
DTSTAMP:20260420T023332
CREATED:20251006T150435Z
LAST-MODIFIED:20251010T160531Z
UID:10002790-1761480000-1761481800@www.actonexchange.org
SUMMARY:Acton Restaurant Week Oct 19 - 26!
DESCRIPTION:Get ready to enjoy a week of great flavors right here in Acton! \nSee the Acton Economic-Development page for a list of participating restaurants and more information. \n 
URL:https://www.actonexchange.org/event/acton-restaurant-week-oct-19-26/2025-10-26/
LOCATION:MA
END:VEVENT
BEGIN:VEVENT
DTSTART;TZID=America/New_York:20251026T130000
DTEND;TZID=America/New_York:20251026T160000
DTSTAMP:20260420T023332
CREATED:20251003T184539Z
LAST-MODIFIED:20251003T184539Z
UID:10002766-1761483600-1761494400@www.actonexchange.org
SUMMARY:Friends of Acton Libraries Fall Book Sale
DESCRIPTION:Winter is coming! Stock your shelves! \nThe Friends of the Acton Libraries will hold a live and in person used book sale the weekend of October 24 – 26. \n\nFriday  — Members of the Friends night — Be sure your membership is up to date before the Book Sale so you can have first crack at the great selection of used books at the sale preview. If you aren’t yet a member\, you can join on Friday night. But why wait? Go to the Friends of the Acton Libraries website and pay online!\nSaturday — General sale from 9 am until 4 pm.\n Sunday — Half price day for all\, from 1 pm to 4 pm.\n\nWhile not required\, face coverings while inside at the sale are encouraged. \nBoth cash and credit cards are accepted! \n  \n 
URL:https://www.actonexchange.org/event/friends-of-acton-libraries-fall-book-sale/2025-10-26/
LOCATION:Acton Memorial Library Meeting Room (1st floor)\, 486 Main Street\, Acton\, MA\, 01720\, United States
ORGANIZER;CN="Friends of the Acton Libraries":MAILTO:friendsofactonlibraries@gmail.com
END:VEVENT
BEGIN:VEVENT
DTSTART;TZID=America/New_York:20251026T130000
DTEND;TZID=America/New_York:20251026T170000
DTSTAMP:20260420T023332
CREATED:20251017T205851Z
LAST-MODIFIED:20251019T142135Z
UID:10003203-1761483600-1761498000@www.actonexchange.org
SUMMARY:Iron Work Farm: Open Houses and Living History Program
DESCRIPTION:Iron Work Farm continues our series of combined “4th Sunday” events with museum open houses at both Iron Work Farm locations: \nJones Tavern: 1 -3 pm – Open House. \nFaulkner Homestead:  \n2 – 5 pm –  A special program for children and families\, “Women\, Medicine and Witchcraft.” \n3 – 5 pm – Open house and members of the Nashoba Valley Weavers Guild will be on hand at the Faulkner House to demonstrate the important role of colonial women in the making of cloth. \nCostumes are welcome. \n 
URL:https://www.actonexchange.org/event/iron-work-farm-open-houses-and-living-history-program/
LOCATION:Jones Tavern\, 128 Main St\, Acton\, MA\, 01720\, United States
END:VEVENT
BEGIN:VEVENT
DTSTART;TZID=America/New_York:20251026T140000
DTEND;TZID=America/New_York:20251026T170000
DTSTAMP:20260420T023332
CREATED:20251023T185009Z
LAST-MODIFIED:20251023T185010Z
UID:10002705-1761487200-1761498000@www.actonexchange.org
SUMMARY:Theatre III: Women in Jeopardy
DESCRIPTION:Thelma and Louise meets The First Wives Club in this fun and flirtatious comedy. Divorcées Mary and Jo are suspicious of their friend Liz’s new dentist boyfriend. He’s not just a weirdo; he may be a serial killer! After all\, his hygienist just disappeared. Trading their wine glasses for spy glasses\, imaginations run wild as the ladies try to discover the truth and save their friend in a hilarious off-road adventure. \nAdded Oct. 23: See our review at Review: Women in Jeopardy at Theatre III. \nTickets $25 general/$22 students and seniors/$10 EBT\, WIC\, and ConnectorCare cardholder. \n 
URL:https://www.actonexchange.org/event/theatre-iii-women-in-jeopardy-2/2025-10-26/
LOCATION:Theatre III\, 250 Central St.\, Acton\, 01720
ORGANIZER;CN="Theatre III":MAILTO:publicity@theatre3.org
END:VEVENT
END:VCALENDAR