BEGIN:VCALENDAR
VERSION:2.0
PRODID:-//The Acton Exchange - ECPv6.15.17.1//NONSGML v1.0//EN
CALSCALE:GREGORIAN
METHOD:PUBLISH
X-WR-CALNAME:The Acton Exchange
X-ORIGINAL-URL:https://www.actonexchange.org
X-WR-CALDESC:Events for The Acton Exchange
REFRESH-INTERVAL;VALUE=DURATION:PT1H
X-Robots-Tag:noindex
X-PUBLISHED-TTL:PT1H
BEGIN:VTIMEZONE
TZID:America/New_York
BEGIN:DAYLIGHT
TZOFFSETFROM:-0500
TZOFFSETTO:-0400
TZNAME:EDT
DTSTART:20240310T070000
END:DAYLIGHT
BEGIN:STANDARD
TZOFFSETFROM:-0400
TZOFFSETTO:-0500
TZNAME:EST
DTSTART:20241103T060000
END:STANDARD
BEGIN:DAYLIGHT
TZOFFSETFROM:-0500
TZOFFSETTO:-0400
TZNAME:EDT
DTSTART:20250309T070000
END:DAYLIGHT
BEGIN:STANDARD
TZOFFSETFROM:-0400
TZOFFSETTO:-0500
TZNAME:EST
DTSTART:20251102T060000
END:STANDARD
BEGIN:DAYLIGHT
TZOFFSETFROM:-0500
TZOFFSETTO:-0400
TZNAME:EDT
DTSTART:20260308T070000
END:DAYLIGHT
BEGIN:STANDARD
TZOFFSETFROM:-0400
TZOFFSETTO:-0500
TZNAME:EST
DTSTART:20261101T060000
END:STANDARD
END:VTIMEZONE
BEGIN:VEVENT
DTSTART;TZID=America/New_York:20250927T100000
DTEND;TZID=America/New_York:20250927T150000
DTSTAMP:20260423T110845
CREATED:20250911T021705Z
LAST-MODIFIED:20250911T021705Z
UID:10002679-1758967200-1758985200@www.actonexchange.org
SUMMARY:Acton Oktoberfest
DESCRIPTION:Come to Gardner Field to catch fantastic live music\, enjoy a cold drink\, tasty snacks\, local shopping and the opportunity to get to know local organizations!
URL:https://www.actonexchange.org/event/acton-oktoberfest/
LOCATION:Gardner Field Playground\, 530 Massachusetts Ave\, Acton\, MA\, 01720\, United States
END:VEVENT
BEGIN:VEVENT
DTSTART;TZID=America/New_York:20250927T130000
DTEND;TZID=America/New_York:20250927T150000
DTSTAMP:20260423T110845
CREATED:20250902T132226Z
LAST-MODIFIED:20250902T132226Z
UID:10002664-1758978000-1758985200@www.actonexchange.org
SUMMARY:Acton 250: South Acton Walking Tour
DESCRIPTION:Walking in and around South Acton’s historic Mill Corner\, you will learn about Acton’s earliest colonial settlement and its development into a hub of industry and commerce. You will learn about the people\, places and practices that shaped the town’s history and our nation’s as well. Topics include Native American history\, the use of natural resources\, the importance of Colonel Francis Faulkner and Acton’s West Militia Company\, the longtime role of the Jones and Faulkner families\, the impact of the railroad\, and visit nearby historic buildings\, including those owned by the Iron Work Farm. \nTour leader Amy Cole is an accomplished professional tour leader and has been improving this tour every time she does it. She grew up near Acton Center and knows the town well. She has a wide-ranging interest in Acton’s unique history. Parking on the 27th will be available at the Jones-Faulkner Homestead. \nThe walk is free but registration is required. Limit 25 people. Please register at https://tinyurl.com/Sep27-Acton250
URL:https://www.actonexchange.org/event/acton-250-south-acton-walking-tour-2/
LOCATION:Faulkner House\, 5 High Street\, Acton\, 01720
END:VEVENT
END:VCALENDAR