BEGIN:VCALENDAR
VERSION:2.0
PRODID:-//The Acton Exchange - ECPv6.15.17.1//NONSGML v1.0//EN
CALSCALE:GREGORIAN
METHOD:PUBLISH
X-ORIGINAL-URL:https://www.actonexchange.org
X-WR-CALDESC:Events for The Acton Exchange
REFRESH-INTERVAL;VALUE=DURATION:PT1H
X-Robots-Tag:noindex
X-PUBLISHED-TTL:PT1H
BEGIN:VTIMEZONE
TZID:America/New_York
BEGIN:DAYLIGHT
TZOFFSETFROM:-0500
TZOFFSETTO:-0400
TZNAME:EDT
DTSTART:20240310T070000
END:DAYLIGHT
BEGIN:STANDARD
TZOFFSETFROM:-0400
TZOFFSETTO:-0500
TZNAME:EST
DTSTART:20241103T060000
END:STANDARD
BEGIN:DAYLIGHT
TZOFFSETFROM:-0500
TZOFFSETTO:-0400
TZNAME:EDT
DTSTART:20250309T070000
END:DAYLIGHT
BEGIN:STANDARD
TZOFFSETFROM:-0400
TZOFFSETTO:-0500
TZNAME:EST
DTSTART:20251102T060000
END:STANDARD
BEGIN:DAYLIGHT
TZOFFSETFROM:-0500
TZOFFSETTO:-0400
TZNAME:EDT
DTSTART:20260308T070000
END:DAYLIGHT
BEGIN:STANDARD
TZOFFSETFROM:-0400
TZOFFSETTO:-0500
TZNAME:EST
DTSTART:20261101T060000
END:STANDARD
END:VTIMEZONE
BEGIN:VEVENT
DTSTART;TZID=America/New_York:20250918T100000
DTEND;TZID=America/New_York:20250918T120000
DTSTAMP:20260420T200231
CREATED:20250902T161832Z
LAST-MODIFIED:20250902T161832Z
UID:10002669-1758189600-1758196800@www.actonexchange.org
SUMMARY:Acton Commission on Disabilities: MBTA Accessibility Training Webinar
DESCRIPTION:Have you ever wondered how accessible the commuter train and the “T” are? Don’t want to take your first trip alone? The Acton COD is sponsoring a virtual training session on accessibility given by the MBTA’s Mobility Training Department. \nRegistration is required: bit.ly/3JwugCa \nFor more information on the training\, please email the Commission on Disabilities COD@actonma.gov
URL:https://www.actonexchange.org/event/acton-commission-on-disabilities-mbta-accessibility-training-webinar/
LOCATION:MA
END:VEVENT
BEGIN:VEVENT
DTSTART;TZID=America/New_York:20250918T100000
DTEND;TZID=America/New_York:20250918T140000
DTSTAMP:20260420T200231
CREATED:20250829T194502Z
LAST-MODIFIED:20250829T194502Z
UID:10002627-1758189600-1758204000@www.actonexchange.org
SUMMARY:Acton COD: MBTA training
DESCRIPTION:Have you ever wondered how accessible the commuter train and the T are? Don’t want to take your first trip alone? \nThe Acton Commission on Disabilities (COD) is sponsoring an online training session on accessibility given by the MBTA’s Mobility Training Department. \nRegistration is required. Click here to register. \nFor more information on the training\, please email the\nCommission on Disabilities at COD@actonma.gov.
URL:https://www.actonexchange.org/event/acton-cod-mbta-training/
LOCATION:Zoom
END:VEVENT
BEGIN:VEVENT
DTSTART;TZID=America/New_York:20250918T180000
DTEND;TZID=America/New_York:20250918T190000
DTSTAMP:20260420T200231
CREATED:20250821T192313Z
LAST-MODIFIED:20250821T192313Z
UID:10002595-1758218400-1758222000@www.actonexchange.org
SUMMARY:Library: Learn about Beekeeping with John Hedly!
DESCRIPTION:John Hedly has been a beekeeper for 17 years. He is the former librarian for the Worcester County Beekeepers Association and a two-term member of the WCBA Board of Directors. In 2024\, he was voted Beekeeper of the Year by the WCBA. Come to learn more about bee keeping and a honeybee colony! \nSpace is limited\, sign up on the program page on our website here.  \n\nReasonable accommodations for individuals with disabilities are available upon request by emailing library@actonma.gov.
URL:https://www.actonexchange.org/event/library-learn-about-beekeeping-with-john-hedly/
LOCATION:Acton Memorial Library Meeting Room (1st floor)\, 486 Main Street\, Acton\, MA\, 01720\, United States
END:VEVENT
END:VCALENDAR