BEGIN:VCALENDAR
VERSION:2.0
PRODID:-//The Acton Exchange - ECPv6.15.17.1//NONSGML v1.0//EN
CALSCALE:GREGORIAN
METHOD:PUBLISH
X-WR-CALNAME:The Acton Exchange
X-ORIGINAL-URL:https://www.actonexchange.org
X-WR-CALDESC:Events for The Acton Exchange
REFRESH-INTERVAL;VALUE=DURATION:PT1H
X-Robots-Tag:noindex
X-PUBLISHED-TTL:PT1H
BEGIN:VTIMEZONE
TZID:America/New_York
BEGIN:DAYLIGHT
TZOFFSETFROM:-0500
TZOFFSETTO:-0400
TZNAME:EDT
DTSTART:20240310T070000
END:DAYLIGHT
BEGIN:STANDARD
TZOFFSETFROM:-0400
TZOFFSETTO:-0500
TZNAME:EST
DTSTART:20241103T060000
END:STANDARD
BEGIN:DAYLIGHT
TZOFFSETFROM:-0500
TZOFFSETTO:-0400
TZNAME:EDT
DTSTART:20250309T070000
END:DAYLIGHT
BEGIN:STANDARD
TZOFFSETFROM:-0400
TZOFFSETTO:-0500
TZNAME:EST
DTSTART:20251102T060000
END:STANDARD
BEGIN:DAYLIGHT
TZOFFSETFROM:-0500
TZOFFSETTO:-0400
TZNAME:EDT
DTSTART:20260308T070000
END:DAYLIGHT
BEGIN:STANDARD
TZOFFSETFROM:-0400
TZOFFSETTO:-0500
TZNAME:EST
DTSTART:20261101T060000
END:STANDARD
END:VTIMEZONE
BEGIN:VEVENT
DTSTART;TZID=America/New_York:20250903T143000
DTEND;TZID=America/New_York:20250903T160000
DTSTAMP:20260423T110836
CREATED:20250831T130103Z
LAST-MODIFIED:20250831T130103Z
UID:10002641-1756909800-1756915200@www.actonexchange.org
SUMMARY:Acton'sTrails Challenge
DESCRIPTION:“I Hiked Acton’s Trails!” \n\n\n\n\nWalk the trails in Acton’s conservation areas with the goal of earning a sticker and a sew-on patch! These weekly walks are a joint effort between Acton Conservation Trust and Acton Conservation Division. We’ll walk a different conservation area weekly. Check out the “I Hiked Acton’s Trails” Challenge form HERE for more information about the challenge.\n\n\n\nDate: Wednesdays from September 3 to November 19. Once you register\, the location of each hike will be sent out each Sunday before the walk.\n\nTime: 2:30-4:00 pm. Plan to arrive a few minutes early as we will start our hikes on time.\nTypical distance: 1-2 miles\n\n\nREGISTER HERE
URL:https://www.actonexchange.org/event/actonstrails-challenge/2025-09-03/
LOCATION:Provided after registration
ORGANIZER;CN="Acton Conservation Trust":MAILTO:jharris.actonconservationtrust@gmail.com
END:VEVENT
BEGIN:VEVENT
DTSTART;TZID=America/New_York:20250903T163000
DTEND;TZID=America/New_York:20250903T173000
DTSTAMP:20260423T110836
CREATED:20250831T131739Z
LAST-MODIFIED:20250831T131739Z
UID:10002656-1756917000-1756920600@www.actonexchange.org
SUMMARY:Acton Community Supper: September
DESCRIPTION:Join us for our weekly community supper! We look forward to sharing a meal and friendship with you. \n\nSeptember 3: Chicken Tetrazzini\n     Sponsored by United Church of Christ Congregational\, Boxborough \nSeptember 10: Cobb Salad Supper with chicken\n     Sponsored by Mt. Calvary Lutheran Church of Acton \nSeptember 17 : Baked Ziti and Meatballs\n     Sponsored by Friends of Mike Tobia \nSeptember 24: Pork Loin Chops\n    Sponsored by Friends of Mt. Calvary Community Supper \n** Please note that the meals we serve may contain gluten\, nuts\, seeds\, or dairy. \n  \n\nDoors open at 4:15pm. Please\, do not enter earlier so our volunteers can prepare your Supper. \nParking: Park your car in the back parking lot and enter from the walkway to the church door. \nFor more information\, see http://www.facebook.com/CommunitySupperofActonMA.
URL:https://www.actonexchange.org/event/acton-community-supper-september/2025-09-03/
LOCATION:Mt Cavalry Lutheran Church\, 472 Massachusetts Ave.\, Acton\, MA\, 01720
END:VEVENT
END:VCALENDAR