BEGIN:VCALENDAR
VERSION:2.0
PRODID:-//The Acton Exchange - ECPv6.15.17.1//NONSGML v1.0//EN
CALSCALE:GREGORIAN
METHOD:PUBLISH
X-WR-CALNAME:The Acton Exchange
X-ORIGINAL-URL:https://www.actonexchange.org
X-WR-CALDESC:Events for The Acton Exchange
REFRESH-INTERVAL;VALUE=DURATION:PT1H
X-Robots-Tag:noindex
X-PUBLISHED-TTL:PT1H
BEGIN:VTIMEZONE
TZID:America/New_York
BEGIN:DAYLIGHT
TZOFFSETFROM:-0500
TZOFFSETTO:-0400
TZNAME:EDT
DTSTART:20240310T070000
END:DAYLIGHT
BEGIN:STANDARD
TZOFFSETFROM:-0400
TZOFFSETTO:-0500
TZNAME:EST
DTSTART:20241103T060000
END:STANDARD
BEGIN:DAYLIGHT
TZOFFSETFROM:-0500
TZOFFSETTO:-0400
TZNAME:EDT
DTSTART:20250309T070000
END:DAYLIGHT
BEGIN:STANDARD
TZOFFSETFROM:-0400
TZOFFSETTO:-0500
TZNAME:EST
DTSTART:20251102T060000
END:STANDARD
BEGIN:DAYLIGHT
TZOFFSETFROM:-0500
TZOFFSETTO:-0400
TZNAME:EDT
DTSTART:20260308T070000
END:DAYLIGHT
BEGIN:STANDARD
TZOFFSETFROM:-0400
TZOFFSETTO:-0500
TZNAME:EST
DTSTART:20261101T060000
END:STANDARD
END:VTIMEZONE
BEGIN:VEVENT
DTSTART;TZID=America/New_York:20250723T140000
DTEND;TZID=America/New_York:20250723T150000
DTSTAMP:20260420T023359
CREATED:20250720T212026Z
LAST-MODIFIED:20250720T212026Z
UID:10002534-1753279200-1753282800@www.actonexchange.org
SUMMARY:Clement & Elizabeth H. Moritz Conservation Land: Grand Opening
DESCRIPTION:After years of dreaming and relationship building\, the Town of Acton was able to acquire the 33-acre land with help from several funding sources\, including\, the Residents of Acton through the Community Preservation Act\, the Commonwealth of Massachusetts’ Local Acquisition for Natural Diversity (LAND) Grant\, Acton Conservation Trust\, and Sudbury Valley Trustees (SVT). With the help of patient property owners and the will of the residents of Acton\, this new land adjoins the neighboring 73-acre Wetherbee Conservation Land to create 100+ acres of continuously protected and critical habitat. In addition\, SVT will also hold a Conservation Restriction (CR) to ensure the natural resources of this land remain permanently protected for generations to come. \nDirections: GPS to 35 Wetherbee St\, and use the parking area available along the Wetherbee St shoulder adjacent to Wetherbee Conservation Land. Follow signs for a trail from Wetherbee Conservation Land to the Grand Opening area.
URL:https://www.actonexchange.org/event/clement-elizabeth-h-moritz-conservation-land-grand-opening/
LOCATION:Clement & Elizabeth H. Moritz Conservation Land\, 35 Wetherbee St\, Acton\, MA\, 01720\, United States
ORGANIZER;CN="Acton Conservation Trust":MAILTO:jharris.actonconservationtrust@gmail.com
END:VEVENT
BEGIN:VEVENT
DTSTART;TZID=America/New_York:20250723T163000
DTEND;TZID=America/New_York:20250723T173000
DTSTAMP:20260420T023359
CREATED:20250625T125715Z
LAST-MODIFIED:20250625T125715Z
UID:10002459-1753288200-1753291800@www.actonexchange.org
SUMMARY:Acton Community Supper: July
DESCRIPTION:Join us at our All Sit Down Supper! We welcome all our guests inside to join neighbors and friends at the tables in our air-conditioned Fellowship Hall. Welcome Summer! We look forward to sharing a meal and friendship with you. \n July 2 — Fireworks Fruit Salad and Cheeseburgers (HAPPY 4th OF JULY !! )\nSponsored by Friends of Mike Tobia \nJuly 9 — Summer Supper: Hot Open face Turkey Sandwiches\nSponsored by friends of Mt Calvary Lutheran Church of Acton \nJuly 16 — Fenway Night: Sausage and Pepper Subs\nSponsored by the Students of Paint for Progress \nJuly 23 — Mexican Night: Chicken Chili and Quesadillas\nIn Honor of Joan Appleton \nJuly 30 — Chef Salad with Deli Meats Dinner\nSponsored by Congregation Beth Elohim \n** Please note that the meals we serve may contain gluten\, nuts\, seeds\, or dairy. \nDoors open at 4:15pm. Please\, do not enter earlier so our volunteers can prepare your Supper. \nParking: Park your car in the back parking lot and enter from the walkway to the church door. \nFor more information\, see http://www.facebook.com/CommunitySupperofActonMA.
URL:https://www.actonexchange.org/event/acton-community-supper-july/2025-07-23/
LOCATION:Mt Cavalry Lutheran Church\, 472 Massachusetts Ave.\, Acton\, MA\, 01720
END:VEVENT
BEGIN:VEVENT
DTSTART;TZID=America/New_York:20250723T180000
DTEND;TZID=America/New_York:20250723T200000
DTSTAMP:20260420T023359
CREATED:20250630T190755Z
LAST-MODIFIED:20250630T190755Z
UID:10002474-1753293600-1753300800@www.actonexchange.org
SUMMARY:A Celebration of Plant-Based Foods Picnic
DESCRIPTION:We all share one activity that can have a significant impact on climate change—the food we eat! Eating more plant-based meals is an immediate and DELICIOUS way to put less CO2 into the atmosphere.   \nThis is a community potluck picnic\, so please bring a dish based on veggies\, fruits\, grains\, beans\, or nuts. We are also marking 5 years since passage of the Climate Emergency Declaration. Join us for great food\, community spirit\, and the commitment to a healthy\, resilient future. Sponsored by EnergizeActon.org and the Town of Acton Sustainability Office. \nInfo and registration at https://community.massenergize.org/ActonMA/events/1998.
URL:https://www.actonexchange.org/event/a-celebration-of-plant-based-foods-picnic/
LOCATION:NARA Park\, 25 Ledge Rock Way\, Acton\, MA\, 01720\, United States
END:VEVENT
END:VCALENDAR