BEGIN:VCALENDAR
VERSION:2.0
PRODID:-//The Acton Exchange - ECPv6.15.17.1//NONSGML v1.0//EN
CALSCALE:GREGORIAN
METHOD:PUBLISH
X-ORIGINAL-URL:https://www.actonexchange.org
X-WR-CALDESC:Events for The Acton Exchange
REFRESH-INTERVAL;VALUE=DURATION:PT1H
X-Robots-Tag:noindex
X-PUBLISHED-TTL:PT1H
BEGIN:VTIMEZONE
TZID:America/New_York
BEGIN:DAYLIGHT
TZOFFSETFROM:-0500
TZOFFSETTO:-0400
TZNAME:EDT
DTSTART:20240310T070000
END:DAYLIGHT
BEGIN:STANDARD
TZOFFSETFROM:-0400
TZOFFSETTO:-0500
TZNAME:EST
DTSTART:20241103T060000
END:STANDARD
BEGIN:DAYLIGHT
TZOFFSETFROM:-0500
TZOFFSETTO:-0400
TZNAME:EDT
DTSTART:20250309T070000
END:DAYLIGHT
BEGIN:STANDARD
TZOFFSETFROM:-0400
TZOFFSETTO:-0500
TZNAME:EST
DTSTART:20251102T060000
END:STANDARD
BEGIN:DAYLIGHT
TZOFFSETFROM:-0500
TZOFFSETTO:-0400
TZNAME:EDT
DTSTART:20260308T070000
END:DAYLIGHT
BEGIN:STANDARD
TZOFFSETFROM:-0400
TZOFFSETTO:-0500
TZNAME:EST
DTSTART:20261101T060000
END:STANDARD
END:VTIMEZONE
BEGIN:VEVENT
DTSTART;TZID=America/New_York:20250709T133000
DTEND;TZID=America/New_York:20250709T143000
DTSTAMP:20260420T200332
CREATED:20250630T190118Z
LAST-MODIFIED:20250630T190118Z
UID:10002463-1752067800-1752071400@www.actonexchange.org
SUMMARY:Library: Tech Help at West Acton Citizens' Library
DESCRIPTION:Sign up for a 15-minute 1:1 tech help session. \nPlease bring your device and any questions you might have! \nRegistration is required! \nReasonable accommodations for people with disabilities are available upon request. Please reach out to WACL@actonma.gov and include a description of the accommodation you will need\, including as much detail as you can and include a way we can contact you if we need more information \n1:30pm Slot – https://actonmemoriallibrary.assabetinteractive.com/calendar/tech-help-at-west-acton-citizens-library-1-30pm-slot-38/ \n1:45pm Slot – https://actonmemoriallibrary.assabetinteractive.com/calendar/tech-help-at-west-acton-citizens-library-1-45pm-slot-50/ \n2:00pm Slot – https://actonmemoriallibrary.assabetinteractive.com/calendar/tech-help-at-west-acton-citizens-library-2-00pm-slot-14/  \n2:15pm Slot – https://actonmemoriallibrary.assabetinteractive.com/calendar/tech-help-at-west-acton-citizens-library-2-15pm-slot-50/ \n 
URL:https://www.actonexchange.org/event/library-tech-help-at-west-acton-citizens-library-4/
LOCATION:West Acton Citizens’ Library\, 21 Windsor Avenue\, Acton\, 01720
ORGANIZER;CN="West Acton Citizens' Library":MAILTO:WACL@actonma.gov
END:VEVENT
BEGIN:VEVENT
DTSTART;TZID=America/New_York:20250709T153000
DTEND;TZID=America/New_York:20250709T163000
DTSTAMP:20260420T200332
CREATED:20250630T190149Z
LAST-MODIFIED:20250630T190149Z
UID:10002464-1752075000-1752078600@www.actonexchange.org
SUMMARY:Library: West Acton Citizens' Library Book Discussion Group
DESCRIPTION:Join your fellow community members at the West Acton Citizens’ Library for a lively book discussion led by our Librarians. Limited copies of the book in multiple formats will be available at the West Acton branch. First come\, first serve. All are welcome! \nThis months book is: The Other Black Girl by Zakiya Dalila Harris \nReasonable accommodations for individuals with disabilities are available upon request by emailing WACL@actonma.gov. Please note that the West Acton Citizens’ Library has limited accessibility. More accessible programs are offered at the Acton Memorial Library.
URL:https://www.actonexchange.org/event/library-west-acton-citizens-library-book-discussion-group-3/
LOCATION:West Acton Citizens’ Library\, 21 Windsor Avenue\, Acton\, 01720
ORGANIZER;CN="West Acton Citizens' Library":MAILTO:WACL@actonma.gov
END:VEVENT
BEGIN:VEVENT
DTSTART;TZID=America/New_York:20250709T163000
DTEND;TZID=America/New_York:20250709T173000
DTSTAMP:20260420T200332
CREATED:20250625T125715Z
LAST-MODIFIED:20250625T125715Z
UID:10002457-1752078600-1752082200@www.actonexchange.org
SUMMARY:Acton Community Supper: July
DESCRIPTION:Join us at our All Sit Down Supper! We welcome all our guests inside to join neighbors and friends at the tables in our air-conditioned Fellowship Hall. Welcome Summer! We look forward to sharing a meal and friendship with you. \n July 2 — Fireworks Fruit Salad and Cheeseburgers (HAPPY 4th OF JULY !! )\nSponsored by Friends of Mike Tobia \nJuly 9 — Summer Supper: Hot Open face Turkey Sandwiches\nSponsored by friends of Mt Calvary Lutheran Church of Acton \nJuly 16 — Fenway Night: Sausage and Pepper Subs\nSponsored by the Students of Paint for Progress \nJuly 23 — Mexican Night: Chicken Chili and Quesadillas\nIn Honor of Joan Appleton \nJuly 30 — Chef Salad with Deli Meats Dinner\nSponsored by Congregation Beth Elohim \n** Please note that the meals we serve may contain gluten\, nuts\, seeds\, or dairy. \nDoors open at 4:15pm. Please\, do not enter earlier so our volunteers can prepare your Supper. \nParking: Park your car in the back parking lot and enter from the walkway to the church door. \nFor more information\, see http://www.facebook.com/CommunitySupperofActonMA.
URL:https://www.actonexchange.org/event/acton-community-supper-july/2025-07-09/
LOCATION:Mt Cavalry Lutheran Church\, 472 Massachusetts Ave.\, Acton\, MA\, 01720
END:VEVENT
BEGIN:VEVENT
DTSTART;TZID=America/New_York:20250709T190000
DTEND;TZID=America/New_York:20250709T200000
DTSTAMP:20260420T200332
CREATED:20250616T135340Z
LAST-MODIFIED:20250616T135340Z
UID:10002429-1752087600-1752091200@www.actonexchange.org
SUMMARY:Library: Virtual - In Conversation with Romance Author Rachel Reid
DESCRIPTION:Do love sports romances? With a tagline of “I like to write cute smut about hockey players and other people”\, you really can’t go wrong! We’re excited to chatting with romance author Rachel Reid who our romance book club has dubbed\, “the queen of M/M hockey romance”. So\, even though it’s hot outside\, join us for this discussion with one of our favorite authors\, writing one of our favorite romance sub-genres. \nSign up for the Zoom link here: https://us06web.zoom.us/webinar/register/6117460384941/WN_NUQgjdeHS9qxLnX_VmAJIg#/registration \nThis is in partner with the Ashland Public Library
URL:https://www.actonexchange.org/event/library-virtual-in-conversation-with-romance-author-rachel-reid/
LOCATION:Zoom
END:VEVENT
BEGIN:VEVENT
DTSTART;TZID=America/New_York:20250709T190000
DTEND;TZID=America/New_York:20250709T203000
DTSTAMP:20260420T200332
CREATED:20250119T142429Z
LAST-MODIFIED:20260210T230529Z
UID:10001627-1752087600-1752093000@www.actonexchange.org
SUMMARY:Acton Exchange All-Hands Meeting
DESCRIPTION:The Acton Exchange team holds monthly meetings that are open to our active volunteers and anyone who might want to become a volunteer. If you have an Acton connection and want to contribute to independent community journalism in our town\, it is likely that the AE has a role for you\, whatever your skill sets and interests might be. Each meeting begins with an opportunity to learn what has been going on at the Acton Exchange\, followed by an opportunity to improve our journalism skills. Meetings are either  hybrid (in-person or zoom) or zoom-only.   For this month’s venue and topic\, email info@actonexchange.org. \nUse this link to join by Zoom:\nhttps://us02web.zoom.us/j/86431644688?pwd=RXNReWE5N2Rzdkc1QjUzQnF5d0NKdz09\nThe password\, if needed\, is newspaper.
URL:https://www.actonexchange.org/event/acton-exchange-all-hands-meeting/2025-07-09/
LOCATION:ActonTV offices\, 16a Craig Road\, Acton\, MA\, 01720\, United States
ORGANIZER;CN="Acton Exchange":MAILTO:info@actonexchange.org
END:VEVENT
END:VCALENDAR